BEGIN:VCALENDAR
VERSION:2.0
PRODID:-//Lancashire and South Cumbria Training Hub - ECPv6.15.20//NONSGML v1.0//EN
CALSCALE:GREGORIAN
METHOD:PUBLISH
X-WR-CALNAME:Lancashire and South Cumbria Training Hub
X-ORIGINAL-URL:https://lscthub.co.uk
X-WR-CALDESC:Events for Lancashire and South Cumbria Training Hub
REFRESH-INTERVAL;VALUE=DURATION:PT1H
X-Robots-Tag:noindex
X-PUBLISHED-TTL:PT1H
BEGIN:VTIMEZONE
TZID:Europe/London
BEGIN:DAYLIGHT
TZOFFSETFROM:+0000
TZOFFSETTO:+0100
TZNAME:BST
DTSTART:20230326T010000
END:DAYLIGHT
BEGIN:STANDARD
TZOFFSETFROM:+0100
TZOFFSETTO:+0000
TZNAME:GMT
DTSTART:20231029T010000
END:STANDARD
BEGIN:DAYLIGHT
TZOFFSETFROM:+0000
TZOFFSETTO:+0100
TZNAME:BST
DTSTART:20240331T010000
END:DAYLIGHT
BEGIN:STANDARD
TZOFFSETFROM:+0100
TZOFFSETTO:+0000
TZNAME:GMT
DTSTART:20241027T010000
END:STANDARD
BEGIN:DAYLIGHT
TZOFFSETFROM:+0000
TZOFFSETTO:+0100
TZNAME:BST
DTSTART:20250330T010000
END:DAYLIGHT
BEGIN:STANDARD
TZOFFSETFROM:+0100
TZOFFSETTO:+0000
TZNAME:GMT
DTSTART:20251026T010000
END:STANDARD
END:VTIMEZONE
BEGIN:VEVENT
DTSTART;TZID=Europe/London:20240306T123000
DTEND;TZID=Europe/London:20240306T140000
DTSTAMP:20260419T171616
CREATED:20231121T101217Z
LAST-MODIFIED:20231121T101217Z
UID:38540-1709728200-1709733600@lscthub.co.uk
SUMMARY:Navigating through Modern General Practice 'how to' and the GP Improvement Programme
DESCRIPTION:A Modern General Practice model is a way of organising work in general practice to help enable practices to provide fair and safe care\, while also supporting the sustainability of services and an improved experience for both patients and staff. \nThe model involves practices: \n\nhaving a full understanding of demand and available capacity;\nproviding easy to use access routes to patients;\ncollecting consistent information from the patient at the point of contact;\nusing this information to give the most appropriate help to patients based on need; and\nimproving management of non-patient facing workload to help release capacity.\n\n\nNavigating through the ‘How to’ guides and the GPIP offers\n\nThis webinar helps you identify where to focus your improvement\, where and how to start\, what to expect and how to make the most of our improvement programme offers including self-navigation tools\, resources and webinars.
URL:https://lscthub.co.uk/events/navigating-through-modern-general-practice-how-to-and-the-gp-improvement-programme-2/
CATEGORIES:Other Training
END:VEVENT
BEGIN:VEVENT
DTSTART;TZID=Europe/London:20240306T133000
DTEND;TZID=Europe/London:20240306T163000
DTSTAMP:20260419T171616
CREATED:20240104T085543Z
LAST-MODIFIED:20240104T085543Z
UID:39504-1709731800-1709742600@lscthub.co.uk
SUMMARY:Essential Care Navigation
DESCRIPTION:Places are limited . If you cannot attend this training\, please ensure you have cancelled your place so that others can book on. \nOVERVIEW \nWith the Forward View requiring that primary care takes the lead on signposting patients to the most appropriate support (other than the GP they want to see)\, practice staff will need to learn a range of skills in holding these conversations and dealing with the challenges of patient expectation and behaviour. \nThis Primary Care Navigation Training is designed to specifically support primary care staff in having conversations that will encourage patients to see the most appropriate person to manage their needs. \nAIMS \n\nWhat is care navigation?\nWhy is care navigation essential in taking primary care forward?\nRecognising the care navigation we are already doing.\nUnderstanding that signposting is not triage\nTips to ensure that patients have confidence in the process\nSupporting patients who are reluctant to not see a GP\nManaging aggression and frustration\nMinimising abuse\nDeveloping self-confidence in the role\n\nWHO SHOULD ATTEND? \nNon-Clinical Primary Care Staff \nWHAT DO I NEED? \n\nMS TEAMS (join on the app or online)\nPen/Paper\nPreferably a camera and mic to participate\n\nHOW LONG IS THE COURSE? \n3 hours (Virtual) \nHOW TO JOIN? \nYou will receive an email a couple of days prior to the event with all training materials and a link to join the MS Teams training session. \nBy signing up you agree for your information to be stored and shared by the Training hub\, with the Training Provider and with NHSE and HEE\, for the delivery of this training\, monitoring\, reporting and certification purposes only.
URL:https://lscthub.co.uk/events/essential-care-navigation-7/
CATEGORIES:Non-Clinical Staff Training
END:VEVENT
BEGIN:VEVENT
DTSTART;TZID=Europe/London:20240314T093000
DTEND;TZID=Europe/London:20240314T123000
DTSTAMP:20260419T171616
CREATED:20240104T085655Z
LAST-MODIFIED:20240104T085655Z
UID:39506-1710408600-1710419400@lscthub.co.uk
SUMMARY:Essential Care Navigation
DESCRIPTION:Places are limited . If you cannot attend this training\, please ensure you have cancelled your place so that others can book on. \nOVERVIEW \nWith the Forward View requiring that primary care takes the lead on signposting patients to the most appropriate support (other than the GP they want to see)\, practice staff will need to learn a range of skills in holding these conversations and dealing with the challenges of patient expectation and behaviour. \nThis Primary Care Navigation Training is designed to specifically support primary care staff in having conversations that will encourage patients to see the most appropriate person to manage their needs. \nAIMS \n\nWhat is care navigation?\nWhy is care navigation essential in taking primary care forward?\nRecognising the care navigation we are already doing.\nUnderstanding that signposting is not triage\nTips to ensure that patients have confidence in the process\nSupporting patients who are reluctant to not see a GP\nManaging aggression and frustration\nMinimising abuse\nDeveloping self-confidence in the role\n\nWHO SHOULD ATTEND? \nNon-Clinical Primary Care Staff \nWHAT DO I NEED? \n\nMS TEAMS (join on the app or online)\nPen/Paper\nPreferably a camera and mic to participate\n\nHOW LONG IS THE COURSE? \n3 hours (Virtual) \nHOW TO JOIN? \nYou will receive an email a couple of days prior to the event with all training materials and a link to join the MS Teams training session. \nBy signing up you agree for your information to be stored and shared by the Training hub\, with the Training Provider and with NHSE and HEE\, for the delivery of this training\, monitoring\, reporting and certification purposes only.
URL:https://lscthub.co.uk/events/essential-care-navigation-8/
CATEGORIES:Non-Clinical Staff Training
END:VEVENT
END:VCALENDAR