BEGIN:VCALENDAR
VERSION:2.0
PRODID:-//Lancashire and South Cumbria Training Hub - ECPv6.15.20//NONSGML v1.0//EN
CALSCALE:GREGORIAN
METHOD:PUBLISH
X-ORIGINAL-URL:https://lscthub.co.uk
X-WR-CALDESC:Events for Lancashire and South Cumbria Training Hub
REFRESH-INTERVAL;VALUE=DURATION:PT1H
X-Robots-Tag:noindex
X-PUBLISHED-TTL:PT1H
BEGIN:VTIMEZONE
TZID:UTC
BEGIN:STANDARD
TZOFFSETFROM:+0000
TZOFFSETTO:+0000
TZNAME:UTC
DTSTART:20220101T000000
END:STANDARD
END:VTIMEZONE
BEGIN:VTIMEZONE
TZID:Europe/London
BEGIN:DAYLIGHT
TZOFFSETFROM:+0000
TZOFFSETTO:+0100
TZNAME:BST
DTSTART:20220327T010000
END:DAYLIGHT
BEGIN:STANDARD
TZOFFSETFROM:+0100
TZOFFSETTO:+0000
TZNAME:GMT
DTSTART:20221030T010000
END:STANDARD
BEGIN:DAYLIGHT
TZOFFSETFROM:+0000
TZOFFSETTO:+0100
TZNAME:BST
DTSTART:20230326T010000
END:DAYLIGHT
BEGIN:STANDARD
TZOFFSETFROM:+0100
TZOFFSETTO:+0000
TZNAME:GMT
DTSTART:20231029T010000
END:STANDARD
BEGIN:DAYLIGHT
TZOFFSETFROM:+0000
TZOFFSETTO:+0100
TZNAME:BST
DTSTART:20240331T010000
END:DAYLIGHT
BEGIN:STANDARD
TZOFFSETFROM:+0100
TZOFFSETTO:+0000
TZNAME:GMT
DTSTART:20241027T010000
END:STANDARD
END:VTIMEZONE
BEGIN:VEVENT
DTSTART;TZID=UTC:20231017T093000
DTEND;TZID=UTC:20231017T123000
DTSTAMP:20260420T064450
CREATED:20230816T083151Z
LAST-MODIFIED:20230816T083151Z
UID:35680-1697535000-1697545800@lscthub.co.uk
SUMMARY:Essential Care Navigation
DESCRIPTION:Full details on Striding edge site here: The Hub – Striding Edge Consultancy
URL:https://lscthub.co.uk/events/essential-care-navigation-6/
CATEGORIES:Non-Clinical Staff Training
END:VEVENT
BEGIN:VEVENT
DTSTART;TZID=Europe/London:20231026T170000
DTEND;TZID=Europe/London:20231026T180000
DTSTAMP:20260420T064450
CREATED:20230922T083442Z
LAST-MODIFIED:20230922T083442Z
UID:36519-1698339600-1698343200@lscthub.co.uk
SUMMARY:Care navigation in practice webinar
DESCRIPTION:Join us for the Care Navigation in Practice webinar on Thursday 26 October 2023\, from 5 pm – 6 pm. To attend\, please ensure you register by 12 pm on Wednesday 25 October 2023. \nWhat’s the webinar about? \nThe Delivery Plan for Recovering Access to Primary Care is transforming patient care. Sets out our commitment to tackle the 8am rush and make it easier and quicker for patients to get the help they need from primary care. This webinar is part of our series covering the plan’s four pillars: \n\nEmpowering Patients\nImplementing Modern General Practice Access\nBuilding Capacity\nCutting Bureaucracy\n\nLearn about our Care Navigation Training\, a crucial aspect of implementing modern general practice access. \nPractice and PCN managers can nominate one staff member\, ideally receptionists and care navigators involved in triaging\, for fully funded training at foundation or advanced level. \nHear about the support from NHS England\, training provider the National Association of Primary Care\, and first-hand experiences from successful learners and practices. \nWho should attend? \nThis webinar welcomes anyone in general practice or primary care interested in this training. It’s especially beneficial for practice and PCN managers and eligible staff. \nJoining instructions \nThe webinar will be hosted on MS Teams Live. Registered attendees will receive a joining link via email closer to the event. Check your junk/spam folders if you don’t receive it and contact us if needed. A recording will be available on FutureNHS after the event. \nPlease note: This closed webinar is intended for those in general practice. Register using your official NHS or professional email for confirmation. \nQuestions about this event?\nName: Care navigation programme team \nEmail:carenavigationtraining@england.nhs.uk
URL:https://lscthub.co.uk/events/care-navigation-in-practice-webinar/
CATEGORIES:General Events
END:VEVENT
BEGIN:VEVENT
DTSTART;TZID=Europe/London:20231026T170000
DTEND;TZID=Europe/London:20231026T180000
DTSTAMP:20260420T064450
CREATED:20231017T090649Z
LAST-MODIFIED:20231017T090649Z
UID:37267-1698339600-1698343200@lscthub.co.uk
SUMMARY:Care navigation training in practice webinar
DESCRIPTION:Join us for the Care Navigation in Practice webinar on Thursday 26 October 2023\, from 5 pm – 6 pm. To attend\, please ensure you register by 12 pm on Wednesday 25 October 2023. \nWhat’s the webinar about? \nThe Delivery Plan for Recovering Access to Primary Care is transforming patient care. It sets out our commitment to tackle the 8am rush and make it easier and quicker for patients to get the help they need from primary care. This webinar is part of our series covering the plan’s four pillars: \n\nEmpowering Patients\nImplementing Modern General Practice Access\nBuilding Capacity\nCutting Bureaucracy\n\nLearn about our Care Navigation Training\, a crucial aspect of implementing modern general practice access. \nPractice and PCN managers can nominate one staff member\, ideally receptionists and care navigators involved in triaging\, for fully funded training at foundation or advanced level. \nHear about the support from NHS England\, training provider the National Association of Primary Care\, and first-hand experiences from successful learners and practices. \nWho should attend? \nThis webinar welcomes anyone in general practice or primary care interested in this training. It’s especially beneficial for practice and PCN managers and eligible staff. \nJoining instructions \nThe webinar will be hosted on MS Teams Live. Registered attendees will receive a joining link via email closer to the event. Check your junk/spam folders if you don’t receive it and contact us if needed. A recording will be available on FutureNHS after the event. \nPlease note: This closed webinar is intended for those in general practice. Register using your official NHS or professional email for confirmation. \nQuestions about this event?\nName: Care navigation programme team \nEmail:carenavigationtraining@england.nhs.uk
URL:https://lscthub.co.uk/events/care-navigation-training-in-practice-webinar/
CATEGORIES:General Events
END:VEVENT
END:VCALENDAR