BEGIN:VCALENDAR
VERSION:2.0
PRODID:-//Lancashire and South Cumbria Training Hub - ECPv6.15.20//NONSGML v1.0//EN
CALSCALE:GREGORIAN
METHOD:PUBLISH
X-WR-CALNAME:Lancashire and South Cumbria Training Hub
X-ORIGINAL-URL:https://lscthub.co.uk
X-WR-CALDESC:Events for Lancashire and South Cumbria Training Hub
REFRESH-INTERVAL;VALUE=DURATION:PT1H
X-Robots-Tag:noindex
X-PUBLISHED-TTL:PT1H
BEGIN:VTIMEZONE
TZID:UTC
BEGIN:STANDARD
TZOFFSETFROM:+0000
TZOFFSETTO:+0000
TZNAME:UTC
DTSTART:20220101T000000
END:STANDARD
END:VTIMEZONE
BEGIN:VEVENT
DTSTART;TZID=UTC:20230614T113000
DTEND;TZID=UTC:20230614T123000
DTSTAMP:20260421T032600
CREATED:20230425T075935Z
LAST-MODIFIED:20230425T075935Z
UID:32490-1686742200-1686745800@lscthub.co.uk
SUMMARY:ACP Clinical Supervision Session
DESCRIPTION:This session will enable you to reflect on and further develop your knowledge and skills necessary to your role as a clinical supervisor. \nFocus: Long Covid Service and case studies – Lauren Landini \, Long Covid Nurse Specialist\, Long Covid Service – BTH
URL:https://lscthub.co.uk/events/acp-clinical-supervision-session/
CATEGORIES:Other Training
END:VEVENT
END:VCALENDAR