BEGIN:VCALENDAR
VERSION:2.0
PRODID:-//Lancashire and South Cumbria Training Hub - ECPv6.15.20//NONSGML v1.0//EN
CALSCALE:GREGORIAN
METHOD:PUBLISH
X-WR-CALNAME:Lancashire and South Cumbria Training Hub
X-ORIGINAL-URL:https://lscthub.co.uk
X-WR-CALDESC:Events for Lancashire and South Cumbria Training Hub
REFRESH-INTERVAL;VALUE=DURATION:PT1H
X-Robots-Tag:noindex
X-PUBLISHED-TTL:PT1H
BEGIN:VTIMEZONE
TZID:UTC
BEGIN:STANDARD
TZOFFSETFROM:+0000
TZOFFSETTO:+0000
TZNAME:UTC
DTSTART:20220101T000000
END:STANDARD
END:VTIMEZONE
BEGIN:VEVENT
DTSTART;TZID=UTC:20230427T090000
DTEND;TZID=UTC:20230427T120000
DTSTAMP:20260426T021207
CREATED:20230215T170845Z
LAST-MODIFIED:20230215T170845Z
UID:30300-1682586000-1682596800@lscthub.co.uk
SUMMARY:Chaperoning Training
DESCRIPTION:Places are limited . If you cannot attend this training\, please ensure you have cancelled your place so that others can book on. \n  \nOVERVIEW \nThe course aims to really expand the understanding and knowledge of chaperoning in primary care. The course examines the problematic stereotypes of which patients will be offered a chaperone and in which circumstances. \nWe then go on to examine the roles and responsibilities of chaperones\, including developing their knowledge as to an extended definition of intimate examinations\, where to stand\, what to say and do. \nWe also discuss what information should be reported after a chaperoning consultation and their role in the event of a complaint being made. \n  \nAIMS \n\nClarifying definitions\nThe concept of ‘intimacy’\nRoles and responsibilities of the partners and the chaperone\nWhat the chaperone should be looking for whilst present\nIssues of consent: when and how it should be gained\nRisk areas in conducting intimate examinations\nChallenges to the gmcs ‘same sex chaperone’ guidance\,\nThe themes to be addressed in a practice chaperone policy\nReporting concerns\nProviding a chaperoning policy\n\n  \nWHO SHOULD ATTEND? \nNon-Clinical Primary Care Staff \n  \nWHAT DO I NEED? \n\nMS TEAMS (join on the app or online)\nPen/Paper\nPreferably a camera and mic to participate\n\n  \nHOW LONG IS THE COURSE? \n3 hours (Virtual)
URL:https://lscthub.co.uk/events/chaperoning-training-6/
CATEGORIES:Non-Clinical Staff Training
END:VEVENT
BEGIN:VEVENT
DTSTART;TZID=UTC:20230426T130000
DTEND;TZID=UTC:20230426T143000
DTSTAMP:20260426T021207
CREATED:20230405T101810Z
LAST-MODIFIED:20230405T101810Z
UID:31868-1682514000-1682519400@lscthub.co.uk
SUMMARY:Working with Allied Health Professionals to enable and support social prescribing
DESCRIPTION:Working with Allied Health Professionals to enable and support social prescribing \nThis webinar will explore how Allied Health Professionals (AHPs) can enable and support social prescribing. It will cover the roles of different AHPs working in a variety of settings and highlight the many ways they can support Social Prescribing Link Workers (SPLWs) in practice. \nThe webinar will be opened by Linda Hindle\, Lead Allied Health Professional for Public Health England to introduce the Social Prescribing Framework. The framework presents a common vision for social prescribing where AHPs play an important role in ensuring that everyone has access to social prescribing. \nAudience \nSPLWs\, AHPs\, PCN teams\, clinicians\, commissioners\, ICBs and wider health and care colleagues working to develop multidisciplinary teams and the integration of care. The webinar may also be suitable for individuals working in aligned services\, such as secondary and community health services or other services where there is an opportunity to align and improve existing pathways. \nAim \nTo provide opportunities to share learning\, develop new knowledge and build relationships to enhance patient care. Consider core principles of joint working individual functions and areas of practice and how the roles add value to each other. \nThe webinar will explore how a multidisciplinary approach can support working across the disciplines through appropriately utilising knowledge\, skills and best practice to improved collective understanding and enhance personalised care delivery. Joint working can also help to address some of the implementation barriers experienced by SPLWs including managing boundaries of practice\, supervision and career development. \nLearn more about opportunities to reduce health inequalities in access and outcomes and opportunities to integrate services where this might reduce health inequalities. \nObjectives \n\n     Learn about the breadth of AHP roles\n     How AHPs support social prescribing and SPLWs\n     Explore collaboration opportunities to improve   outcomes for individuals\, carers and the workforce\n\nThe Speakers \nLinda Hindle: The Deputy Chief AHP Officer for England and National Engagement Lead for Police\, Fire and Ambulance Services\, Office for Health Improvement and Disparities \nKurt Lievesley: Is Senior Lecturer Advanced Allied Health Practice\, School of Sport and Health Sciences\, University of Central Lancashire. \nSam Pywell: Leads the University of Central Lancashire Social Prescribing Unit.  She is a occupational therapist with over 17 years experience\, and has postgraduate research experience in the fields of mental health\, wellbeing and social prescribing. \nJoining Sam Pywell is Chantelle Martin: Is an Occupational therapist with experience of both being an Social Prescribing Link Worker and leading SPLW. \nAmanda Sangster: Amanda is an Occupational Therapist by background\, before joining NHS England as a Delivery Partner with the South East Personalised Care Team. Amanda’s background is in Children’s Therapy and Health Visiting Services\, with over 20 years and has extensive strategic and operational experience leading a number of transformation and quality improvement projects. \nJoining Amanda is\, Sophie Wearing\, an Occupational Therapist working as a Personalised Care Project Manager with a focus on growing & developing the Personalised Care ARRS workforce and Paige Yarwood. \nIf you have any access needs\, please email the team on england.socialprescribing@nhs.net and we will do our best to support access. \n  \nQuestions about this event?\nName: Danni Wood/Ali Green \nEmail:england.SocialPrescribing@nhs.net
URL:https://lscthub.co.uk/events/working-with-allied-health-professionals-to-enable-and-support-social-prescribing/
CATEGORIES:General Events
END:VEVENT
BEGIN:VEVENT
DTSTART;TZID=UTC:20230426T120000
DTEND;TZID=UTC:20230426T130000
DTSTAMP:20260426T021207
CREATED:20230403T143830Z
LAST-MODIFIED:20230403T143830Z
UID:31744-1682510400-1682514000@lscthub.co.uk
SUMMARY:Thebenefits of having learning disability nurses and student learning disability nurses in primary care - webinar
DESCRIPTION:HEE are hosting a webinar focussing on the benefits of having learning disability nurses and student learning disability nurses in primary care.  The NHS Long Term Plan set an ambition that by 2023/24\, at least 75% of people aged 14 or over with a learning disability will have had an annual health check. This webinar will focus on the experiences of Sefton Primary Care Training Hub in providing placements for student learning disability nurses from Edge Hill University\, and the skills and knowledge they bring to the team. \nGuest speakers include:\n\nMaggi Bradley\, General Practice Nurse\, Clinical Nurse Lead\, Sefton Training Hub\nJess Lea\, Community Learning Disability Nurse\nDeborah Holden\, Cheshire & Merseyside Training Hub\, Practice Education Facilitator (PEF)\nEmma Galley\, Senior Lecturer in Nurse Education (Practice Learning)\, Edge Hill University\nAndrew Jopson\, Lecturer in Practice Learning (Nurse Education)\, Edge Hill University\n\nAll are welcome. Free event. \nFor further info contact Joanne Green\, HEE Clinical Fellow in Learning Disabilities Nursing.
URL:https://lscthub.co.uk/events/thebenefits-of-having-learning-disability-nurses-and-student-learning-disability-nurses-in-primary-care-webinar/
CATEGORIES:General Events
END:VEVENT
BEGIN:VEVENT
DTSTART;TZID=UTC:20230426T093000
DTEND;TZID=UTC:20230426T133000
DTSTAMP:20260426T021207
CREATED:20221206T110016Z
LAST-MODIFIED:20221206T110016Z
UID:27785-1682501400-1682515800@lscthub.co.uk
SUMMARY:Immunisation and Vaccination Annual Update Training
DESCRIPTION:Please note this training will be on virtually on MS Teams. \nThe Immunisation and Vaccination Update provides an annual update of current practice in relation to the immunisation schedules in primary care using PHE information. \n  \nThis course is not suitable as a foundation training and is only an update and does not cover anaphylaxis or basic life support. This must be completed separately. \nThis course is for Clinical Experienced Vaccinators\, those who have already been vaccinating and does not include non-clinical Covid only Vaccinators. \n  \nThe course is designed around the updated National Minimum Standards and the competency assessment tool. Please see the link below for a copy of the competency assessment tool for registered practitioners: \nhttps://www.rcn.org.uk/professional-development/publications/pdf-006943 \n  \nYou will receive a certificate post training for your attendance. Places are limited\, if you have booked a place\, please ensure you attend. \nIf you are no longer able to attend\, please cancel your place via Eventbrite. If you are struggling with booking or cancelling your place\, please contact us on mbpcc.lscthub@nhs.net
URL:https://lscthub.co.uk/events/immunisation-and-vaccination-annual-update-training-7/
CATEGORIES:Imms & Vaccs Training
END:VEVENT
END:VCALENDAR