BEGIN:VCALENDAR
VERSION:2.0
PRODID:-//Lancashire and South Cumbria Training Hub - ECPv6.15.20//NONSGML v1.0//EN
CALSCALE:GREGORIAN
METHOD:PUBLISH
X-WR-CALNAME:Lancashire and South Cumbria Training Hub
X-ORIGINAL-URL:https://lscthub.co.uk
X-WR-CALDESC:Events for Lancashire and South Cumbria Training Hub
REFRESH-INTERVAL;VALUE=DURATION:PT1H
X-Robots-Tag:noindex
X-PUBLISHED-TTL:PT1H
BEGIN:VTIMEZONE
TZID:UTC
BEGIN:STANDARD
TZOFFSETFROM:+0000
TZOFFSETTO:+0000
TZNAME:UTC
DTSTART:20220101T000000
END:STANDARD
END:VTIMEZONE
BEGIN:VEVENT
DTSTART;TZID=UTC:20230424T130000
DTEND;TZID=UTC:20230424T170000
DTSTAMP:20260421T035545
CREATED:20230310T123016Z
LAST-MODIFIED:20230310T123016Z
UID:31148-1682341200-1682355600@lscthub.co.uk
SUMMARY:Mental Health Practitioner Forum
DESCRIPTION:Want an update on Mental Health Practitioner developments in your Lancashire and South Cumbria region and a place to share your ideas with MHP peers ? \nThis is a shared ownership forum for Primary Care MHP’s to access peer support\, supervision\, CPD\, training and discussion of best practice updates. \nFirst Session: Monday 24th April 2023 1-3pm via MS Teams- bi-monthly thereafter \nThis session will focus on an introduction to the forum and resilience in primary care. \nSave the date! Join our MHP forum!
URL:https://lscthub.co.uk/events/mental-health-practitioner-forum/
CATEGORIES:General Events
END:VEVENT
BEGIN:VEVENT
DTSTART;TZID=UTC:20230424T100000
DTEND;TZID=UTC:20230424T110000
DTSTAMP:20260421T035545
CREATED:20221206T100258Z
LAST-MODIFIED:20221206T100258Z
UID:27761-1682330400-1682334000@lscthub.co.uk
SUMMARY:Wellbeing Action Plans Webinar
DESCRIPTION:Create your own Action Plan for your Health and Wellbeing
URL:https://lscthub.co.uk/events/wellbeing-action-plans-webinar/
CATEGORIES:Health & Wellbeing
END:VEVENT
BEGIN:VEVENT
DTSTART;TZID=UTC:20230421T130000
DTEND;TZID=UTC:20230421T150000
DTSTAMP:20260421T035545
CREATED:20230411T145904Z
LAST-MODIFIED:20230411T145904Z
UID:31946-1682082000-1682089200@lscthub.co.uk
SUMMARY:Level 5 Assistant practitioner (AHP profession contextualised) pathway
DESCRIPTION:We will be hosting a second webinar on 21st April 13:00-15:00 to promote the AHP profession contextualised assistant practitioner apprenticeship – This webinar will give opportunity for employers to meet the providers and find out about the course specifics\, entry requirements and next steps.  Click HERE to book a place.
URL:https://lscthub.co.uk/events/level-5-assistant-practitioner-ahp-profession-contextualised-pathway/
END:VEVENT
BEGIN:VEVENT
DTSTART;TZID=UTC:20230421T123000
DTEND;TZID=UTC:20230421T133000
DTSTAMP:20260421T035545
CREATED:20230411T150102Z
LAST-MODIFIED:20230414T065840Z
UID:31948-1682080200-1682083800@lscthub.co.uk
SUMMARY:How to Present Yourself with Confidence; Communication Techniques for Successful Interactions (For Apprentices Only)
DESCRIPTION:On Friday 21st April at 12.30 – 1.30pm\, the BBC will host the 4th in our series of 2023 expert virtual masterclasses\, ‘How to Present Yourself with Confidence; Communication Techniques for Successful Interactions’.   \nThis has been designed exclusively for AoA members and can count towards off-the-job training and continuing professional development.  Apprentices can RSVP on AoA Connect if they are members or can register here for free if they are not yet a member.
URL:https://lscthub.co.uk/events/how-to-present-yourself-with-confidence-communication-techniques-for-successful-interactions/
END:VEVENT
END:VCALENDAR