BEGIN:VCALENDAR
VERSION:2.0
PRODID:-//Lancashire and South Cumbria Training Hub - ECPv6.15.20//NONSGML v1.0//EN
CALSCALE:GREGORIAN
METHOD:PUBLISH
X-WR-CALNAME:Lancashire and South Cumbria Training Hub
X-ORIGINAL-URL:https://lscthub.co.uk
X-WR-CALDESC:Events for Lancashire and South Cumbria Training Hub
REFRESH-INTERVAL;VALUE=DURATION:PT1H
X-Robots-Tag:noindex
X-PUBLISHED-TTL:PT1H
BEGIN:VTIMEZONE
TZID:UTC
BEGIN:STANDARD
TZOFFSETFROM:+0000
TZOFFSETTO:+0000
TZNAME:UTC
DTSTART:20220101T000000
END:STANDARD
END:VTIMEZONE
BEGIN:VEVENT
DTSTART;TZID=UTC:20230523T150000
DTEND;TZID=UTC:20230523T163000
DTSTAMP:20260421T162209
CREATED:20230328T080739Z
LAST-MODIFIED:20230328T080739Z
UID:31594-1684854000-1684859400@lscthub.co.uk
SUMMARY:Asthma Educational Session
DESCRIPTION:Introducing the National Bundle of Asthma Care for CYP (children and young people) \nHosted by Claire Utterly (Senior Specialist Asthma Nurse Practitioner for Children and Young People) and Georgina Foulds(Specialist Asthma Nurse Practitioner for Children and Young People) \nClick here for online learning modules on this topic.
URL:https://lscthub.co.uk/events/asthma-educational-session-6/
CATEGORIES:Other Training
END:VEVENT
BEGIN:VEVENT
DTSTART;TZID=UTC:20230502T140000
DTEND;TZID=UTC:20230502T153000
DTSTAMP:20260421T162209
CREATED:20230328T080639Z
LAST-MODIFIED:20230328T080639Z
UID:31592-1683036000-1683041400@lscthub.co.uk
SUMMARY:Asthma Educational Session
DESCRIPTION:Introducing the National Bundle of Asthma Care for CYP (children and young people) \nHosted by Claire Utterly (Senior Specialist Asthma Nurse Practitioner for Children and Young People) and Georgina Foulds(Specialist Asthma Nurse Practitioner for Children and Young People) \nClick here for online learning modules on this topic.
URL:https://lscthub.co.uk/events/asthma-educational-session-5/
CATEGORIES:Other Training
END:VEVENT
END:VCALENDAR