BEGIN:VCALENDAR
VERSION:2.0
PRODID:-//Lancashire and South Cumbria Training Hub - ECPv6.15.20//NONSGML v1.0//EN
CALSCALE:GREGORIAN
METHOD:PUBLISH
X-WR-CALNAME:Lancashire and South Cumbria Training Hub
X-ORIGINAL-URL:https://lscthub.co.uk
X-WR-CALDESC:Events for Lancashire and South Cumbria Training Hub
REFRESH-INTERVAL;VALUE=DURATION:PT1H
X-Robots-Tag:noindex
X-PUBLISHED-TTL:PT1H
BEGIN:VTIMEZONE
TZID:UTC
BEGIN:STANDARD
TZOFFSETFROM:+0000
TZOFFSETTO:+0000
TZNAME:UTC
DTSTART:20220101T000000
END:STANDARD
END:VTIMEZONE
BEGIN:VTIMEZONE
TZID:Europe/London
BEGIN:DAYLIGHT
TZOFFSETFROM:+0000
TZOFFSETTO:+0100
TZNAME:BST
DTSTART:20220327T010000
END:DAYLIGHT
BEGIN:STANDARD
TZOFFSETFROM:+0100
TZOFFSETTO:+0000
TZNAME:GMT
DTSTART:20221030T010000
END:STANDARD
BEGIN:DAYLIGHT
TZOFFSETFROM:+0000
TZOFFSETTO:+0100
TZNAME:BST
DTSTART:20230326T010000
END:DAYLIGHT
BEGIN:STANDARD
TZOFFSETFROM:+0100
TZOFFSETTO:+0000
TZNAME:GMT
DTSTART:20231029T010000
END:STANDARD
BEGIN:DAYLIGHT
TZOFFSETFROM:+0000
TZOFFSETTO:+0100
TZNAME:BST
DTSTART:20240331T010000
END:DAYLIGHT
BEGIN:STANDARD
TZOFFSETFROM:+0100
TZOFFSETTO:+0000
TZNAME:GMT
DTSTART:20241027T010000
END:STANDARD
BEGIN:DAYLIGHT
TZOFFSETFROM:+0000
TZOFFSETTO:+0100
TZNAME:BST
DTSTART:20250330T010000
END:DAYLIGHT
BEGIN:STANDARD
TZOFFSETFROM:+0100
TZOFFSETTO:+0000
TZNAME:GMT
DTSTART:20251026T010000
END:STANDARD
BEGIN:DAYLIGHT
TZOFFSETFROM:+0000
TZOFFSETTO:+0100
TZNAME:BST
DTSTART:20260329T010000
END:DAYLIGHT
BEGIN:STANDARD
TZOFFSETFROM:+0100
TZOFFSETTO:+0000
TZNAME:GMT
DTSTART:20261025T010000
END:STANDARD
BEGIN:DAYLIGHT
TZOFFSETFROM:+0000
TZOFFSETTO:+0100
TZNAME:BST
DTSTART:20270328T010000
END:DAYLIGHT
BEGIN:STANDARD
TZOFFSETFROM:+0100
TZOFFSETTO:+0000
TZNAME:GMT
DTSTART:20271031T010000
END:STANDARD
END:VTIMEZONE
BEGIN:VEVENT
DTSTART;TZID=UTC:20230509T133000
DTEND;TZID=UTC:20230509T163000
DTSTAMP:20260423T202339
CREATED:20230327T125014Z
LAST-MODIFIED:20230327T125014Z
UID:31505-1683639000-1683649800@lscthub.co.uk
SUMMARY:SNOMED and Read Coding Training
DESCRIPTION:OVERVIEW \nThe course will raise confidence\, eliminates the most common mistakes with a simple to use structure\, and will improve the quality of the coding in the practice\, which in turn will improve safety\, audit\, QoF and quality. \n  \nAIMS \n\nTo examine the reasons for coding\nIntroducing Snomed Concepts\nExplaining how concepts can be used to increase accuracy.\nTo explain searching techniques for coding\nTo develop an understanding of common coding errors and how to make good\nShowing how common Read terms map into Snomed\nSnomed search browsers\nTo concentrate on improving data quality by correct coding\n\nWHO SHOULD ATTEND? \nNon-Clinical Primary Care Staff \n  \nWHAT DO I NEED? \n\nMS TEAMS (join on the app or online)\nPen/Paper\nPreferably a camera and mic to participate\n\nHOW LONG IS THE COURSE? \n3 hours (Virtual)
URL:https://lscthub.co.uk/events/snomed-and-read-coding-training/
CATEGORIES:Non-Clinical Staff Training
END:VEVENT
BEGIN:VEVENT
DTSTART;TZID=UTC:20230607T090000
DTEND;TZID=UTC:20230607T120000
DTSTAMP:20260423T202339
CREATED:20221116T094950Z
LAST-MODIFIED:20221116T094950Z
UID:26846-1686128400-1686139200@lscthub.co.uk
SUMMARY:SNOMED Training
DESCRIPTION:OVERVIEW \n  \nThe course will raise confidence\, eliminates the most common mistakes with a simple to use structure\, and will improve the quality of the coding in the practice\, which in turn will improve safety\, audit\, QoF and quality. \n  \nAIMS \n  \n\nTo examine the reasons for coding\nIntroducing Snomed Concepts\nExplaining how concepts can be used to increase accuracy.\nTo explain searching techniques for coding\nTo develop an understanding of common coding errors and how to make good\nShowing how common Read terms map into Snomed\nSnomed search browsers\nTo concentrate on improving data quality by correct coding\n\nWHO SHOULD ATTEND? \n  \nNon-Clinical Primary Care Staff \n  \nWHAT DO I NEED? \n  \n\nMS TEAMS (join on the app or online)\nPen/Paper\nPreferably a camera and mic to participate\n\nHOW LONG IS THE COURSE? \n  \n3 hours (Virtual) \n  \nHOW TO JOIN? \n  \nYou will receive an email a couple of days prior to the event with all training materials and a link to join the MS Teams training session.
URL:https://lscthub.co.uk/events/snomed-training-3/
CATEGORIES:Non-Clinical Staff Training
END:VEVENT
BEGIN:VEVENT
DTSTART;TZID=UTC:20231107T090000
DTEND;TZID=UTC:20231107T120000
DTSTAMP:20260423T202339
CREATED:20230727T104406Z
LAST-MODIFIED:20230727T104406Z
UID:35289-1699347600-1699358400@lscthub.co.uk
SUMMARY:SNOMED Training
DESCRIPTION:OVERVIEW \n  \nThe course will raise confidence\, eliminates the most common mistakes with a simple to use structure\, and will improve the quality of the coding in the practice\, which in turn will improve safety\, audit\, QoF and quality. \n  \nAIMS \n  \n\nTo examine the reasons for coding\nIntroducing Snomed Concepts\nExplaining how concepts can be used to increase accuracy.\nTo explain searching techniques for coding\nTo develop an understanding of common coding errors and how to make good\nShowing how common Read terms map into Snomed\nSnomed search browsers\nTo concentrate on improving data quality by correct coding\n\nWHO SHOULD ATTEND? \n  \nNon-Clinical Primary Care Staff
URL:https://lscthub.co.uk/events/snomed-training-4/
CATEGORIES:Non-Clinical Staff Training
END:VEVENT
BEGIN:VEVENT
DTSTART;TZID=Europe/London:20231130T090000
DTEND;TZID=Europe/London:20231130T120000
DTSTAMP:20260423T202339
CREATED:20231026T090054Z
LAST-MODIFIED:20231026T090054Z
UID:37564-1701334800-1701345600@lscthub.co.uk
SUMMARY:SNOMED Training
DESCRIPTION:OVERVIEW \n  \nThe course will raise confidence\, eliminates the most common mistakes with a simple to use structure\, and will improve the quality of the coding in the practice\, which in turn will improve safety\, audit\, QoF and quality. \n  \nAIMS \n  \n\nTo examine the reasons for coding\nIntroducing Snomed Concepts\nExplaining how concepts can be used to increase accuracy.\nTo explain searching techniques for coding\nTo develop an understanding of common coding errors and how to make good\nShowing how common Read terms map into Snomed\nSnomed search browsers\nTo concentrate on improving data quality by correct coding\n\nWHO SHOULD ATTEND? \n  \nNon-Clinical Primary Care Staff
URL:https://lscthub.co.uk/events/snomed-training-5/
CATEGORIES:Non-Clinical Staff Training
END:VEVENT
BEGIN:VEVENT
DTSTART;TZID=Europe/London:20240716T093000
DTEND;TZID=Europe/London:20240716T123000
DTSTAMP:20260423T202339
CREATED:20240604T130514Z
LAST-MODIFIED:20240604T130514Z
UID:43841-1721122200-1721133000@lscthub.co.uk
SUMMARY:SNOMED
DESCRIPTION:Places are limited . If you cannot attend this training\, please ensure you have cancelled your place so that others can book on. \nThe course will raise confidence\, eliminates the most common mistakes with a simple to use structure\, and will improve the quality of the coding in the practice\, which in turn will improve safety\, audit\, QOF and quality. \n  \nAIMS \n\nTo examine the reasons for coding\nIntroducing Snomed Concepts\nExplaining how concepts can be used to increase accuracy.\nTo explain searching techniques for coding\nTo develop an understanding of common coding errors and how to make good\nShowing how common Read terms map into Snomed\nSnomed search browsers\nTo concentrate on improving data quality by correct coding\n\nWHO SHOULD ATTEND? \nNon-Clinical Primary Care Staff \nWHAT DO I NEED? \n\nMS TEAMS (join on the app or online)\nPen/Paper\nPreferably a camera and mic to participate\n\nHOW LONG IS THE COURSE? \n3 hours (Virtual) \nHOW TO JOIN? \nYou will receive an email a couple of days prior to the event with all training materials and a link to join the MS Teams training session. \nBy signing up you agree for your information to be stored and shared by the Training hub\, with the Training Provider and with NHSE and HEE\, for the delivery of this training\, monitoring\, reporting and certification purposes only.
URL:https://lscthub.co.uk/events/snomed-2/
CATEGORIES:Non-Clinical Staff Training
END:VEVENT
BEGIN:VEVENT
DTSTART;TZID=Europe/London:20240910T133000
DTEND;TZID=Europe/London:20240910T163000
DTSTAMP:20260423T202339
CREATED:20240604T130647Z
LAST-MODIFIED:20240604T130647Z
UID:43843-1725975000-1725985800@lscthub.co.uk
SUMMARY:SNOMED
DESCRIPTION:Places are limited . If you cannot attend this training\, please ensure you have cancelled your place so that others can book on. \nThe course will raise confidence\, eliminates the most common mistakes with a simple to use structure\, and will improve the quality of the coding in the practice\, which in turn will improve safety\, audit\, QOF and quality. \n  \nAIMS \n\nTo examine the reasons for coding\nIntroducing Snomed Concepts\nExplaining how concepts can be used to increase accuracy.\nTo explain searching techniques for coding\nTo develop an understanding of common coding errors and how to make good\nShowing how common Read terms map into Snomed\nSnomed search browsers\nTo concentrate on improving data quality by correct coding\n\nWHO SHOULD ATTEND? \nNon-Clinical Primary Care Staff \nWHAT DO I NEED? \n\nMS TEAMS (join on the app or online)\nPen/Paper\nPreferably a camera and mic to participate\n\nHOW LONG IS THE COURSE? \n3 hours (Virtual) \nHOW TO JOIN? \nYou will receive an email a couple of days prior to the event with all training materials and a link to join the MS Teams training session. \nBy signing up you agree for your information to be stored and shared by the Training hub\, with the Training Provider and with NHSE and HEE\, for the delivery of this training\, monitoring\, reporting and certification purposes only.
URL:https://lscthub.co.uk/events/snomed-3/
CATEGORIES:Non-Clinical Staff Training
END:VEVENT
BEGIN:VEVENT
DTSTART;TZID=Europe/London:20241107T093000
DTEND;TZID=Europe/London:20241107T123000
DTSTAMP:20260423T202339
CREATED:20240605T102206Z
LAST-MODIFIED:20240605T102206Z
UID:43849-1730971800-1730982600@lscthub.co.uk
SUMMARY:SNOMED
DESCRIPTION:Places are limited . If you cannot attend this training\, please ensure you have cancelled your place so that others can book on. \nThe course will raise confidence\, eliminates the most common mistakes with a simple to use structure\, and will improve the quality of the coding in the practice\, which in turn will improve safety\, audit\, QOF and quality. \n  \nAIMS \n\nTo examine the reasons for coding\nIntroducing Snomed Concepts\nExplaining how concepts can be used to increase accuracy.\nTo explain searching techniques for coding\nTo develop an understanding of common coding errors and how to make good\nShowing how common Read terms map into Snomed\nSnomed search browsers\nTo concentrate on improving data quality by correct coding\n\nWHO SHOULD ATTEND? \nNon-Clinical Primary Care Staff \nWHAT DO I NEED? \n\nMS TEAMS (join on the app or online)\nPen/Paper\nPreferably a camera and mic to participate\n\nHOW LONG IS THE COURSE? \n3 hours (Virtual) \nHOW TO JOIN? \nYou will receive an email a couple of days prior to the event with all training materials and a link to join the MS Teams training session. \nBy signing up you agree for your information to be stored and shared by the Training hub\, with the Training Provider and with NHSE and HEE\, for the delivery of this training\, monitoring\, reporting and certification purposes only.
URL:https://lscthub.co.uk/events/snomed-4/
CATEGORIES:Non-Clinical Staff Training
END:VEVENT
BEGIN:VEVENT
DTSTART;TZID=Europe/London:20250305T093000
DTEND;TZID=Europe/London:20250305T123000
DTSTAMP:20260423T202339
CREATED:20250130T133335Z
LAST-MODIFIED:20250130T133335Z
UID:49699-1741167000-1741177800@lscthub.co.uk
SUMMARY:STOMED
DESCRIPTION:Places are limited . If you cannot attend this training\, please ensure you have cancelled your place so that others can book on. \nThe course will raise confidence\, eliminates the most common mistakes with a simple to use structure\, and will improve the quality of the coding in the practice\, which in turn will improve safety\, audit\, QOF and quality. \n  \nAIMS \n\nTo examine the reasons for coding\nIntroducing Snomed Concepts\nExplaining how concepts can be used to increase accuracy.\nTo explain searching techniques for coding\nTo develop an understanding of common coding errors and how to make good\nShowing how common Read terms map into Snomed\nSnomed search browsers\nTo concentrate on improving data quality by correct coding\n\nWHO SHOULD ATTEND? \nNon-Clinical Primary Care Staff \nWHAT DO I NEED? \n\nMS TEAMS (join on the app or online)\nPen/Paper\nPreferably a camera and mic to participate\n\nHOW LONG IS THE COURSE? \n3 hours (Virtual) \nHOW TO JOIN? \nYou will receive an email a couple of days prior to the event with all training materials and a link to join the MS Teams training session. \nBy signing up you agree for your information to be stored and shared by the Training hub\, with the Training Provider and with NHSE and HEE\, for the delivery of this training\, monitoring\, reporting and certification purposes only.
URL:https://lscthub.co.uk/events/stomed/
CATEGORIES:Non-Clinical Staff Training
END:VEVENT
BEGIN:VEVENT
DTSTART;TZID=Europe/London:20250305T093000
DTEND;TZID=Europe/London:20250305T123000
DTSTAMP:20260423T202339
CREATED:20250130T133444Z
LAST-MODIFIED:20250130T133444Z
UID:49701-1741167000-1741177800@lscthub.co.uk
SUMMARY:SNOMED
DESCRIPTION:Places are limited . If you cannot attend this training\, please ensure you have cancelled your place so that others can book on. \nThe course will raise confidence\, eliminates the most common mistakes with a simple to use structure\, and will improve the quality of the coding in the practice\, which in turn will improve safety\, audit\, QOF and quality. \n  \nAIMS \n\nTo examine the reasons for coding\nIntroducing Snomed Concepts\nExplaining how concepts can be used to increase accuracy.\nTo explain searching techniques for coding\nTo develop an understanding of common coding errors and how to make good\nShowing how common Read terms map into Snomed\nSnomed search browsers\nTo concentrate on improving data quality by correct coding\n\nWHO SHOULD ATTEND? \nNon-Clinical Primary Care Staff \nWHAT DO I NEED? \n\nMS TEAMS (join on the app or online)\nPen/Paper\nPreferably a camera and mic to participate\n\nHOW LONG IS THE COURSE? \n3 hours (Virtual) \nHOW TO JOIN? \nYou will receive an email a couple of days prior to the event with all training materials and a link to join the MS Teams training session. \nBy signing up you agree for your information to be stored and shared by the Training hub\, with the Training Provider and with NHSE and HEE\, for the delivery of this training\, monitoring\, reporting and certification purposes only.
URL:https://lscthub.co.uk/events/snomed-5/
CATEGORIES:Non-Clinical Staff Training
END:VEVENT
BEGIN:VEVENT
DTSTART;TZID=Europe/London:20250702T093000
DTEND;TZID=Europe/London:20250702T123000
DTSTAMP:20260423T202339
CREATED:20250130T133548Z
LAST-MODIFIED:20250130T133548Z
UID:49703-1751448600-1751459400@lscthub.co.uk
SUMMARY:SNOMED
DESCRIPTION:Places are limited . If you cannot attend this training\, please ensure you have cancelled your place so that others can book on. \nThe course will raise confidence\, eliminates the most common mistakes with a simple to use structure\, and will improve the quality of the coding in the practice\, which in turn will improve safety\, audit\, QOF and quality. \n  \nAIMS \n\nTo examine the reasons for coding\nIntroducing Snomed Concepts\nExplaining how concepts can be used to increase accuracy.\nTo explain searching techniques for coding\nTo develop an understanding of common coding errors and how to make good\nShowing how common Read terms map into Snomed\nSnomed search browsers\nTo concentrate on improving data quality by correct coding\n\nWHO SHOULD ATTEND? \nNon-Clinical Primary Care Staff \nWHAT DO I NEED? \n\nMS TEAMS (join on the app or online)\nPen/Paper\nPreferably a camera and mic to participate\n\nHOW LONG IS THE COURSE? \n3 hours (Virtual) \nHOW TO JOIN? \nYou will receive an email a couple of days prior to the event with all training materials and a link to join the MS Teams training session. \nBy signing up you agree for your information to be stored and shared by the Training hub\, with the Training Provider and with NHSE and HEE\, for the delivery of this training\, monitoring\, reporting and certification purposes only.
URL:https://lscthub.co.uk/events/snomed-6/
CATEGORIES:Non-Clinical Staff Training
END:VEVENT
BEGIN:VEVENT
DTSTART;TZID=Europe/London:20251002T093000
DTEND;TZID=Europe/London:20251002T123000
DTSTAMP:20260423T202339
CREATED:20250415T114329Z
LAST-MODIFIED:20250415T114329Z
UID:51790-1759397400-1759408200@lscthub.co.uk
SUMMARY:SNOMED
DESCRIPTION:Places are limited . If you cannot attend this training\, please ensure you have cancelled your place so that others can book on. \nThe course will raise confidence\, eliminates the most common mistakes with a simple to use structure\, and will improve the quality of the coding in the practice\, which in turn will improve safety\, audit\, QOF and quality. \n  \nAIMS \n\nTo examine the reasons for coding\nIntroducing Snomed Concepts\nExplaining how concepts can be used to increase accuracy.\nTo explain searching techniques for coding\nTo develop an understanding of common coding errors and how to make good\nShowing how common Read terms map into Snomed\nSnomed search browsers\nTo concentrate on improving data quality by correct coding\n\nWHO SHOULD ATTEND? \nNon-Clinical Primary Care Staff \nWHAT DO I NEED? \n\nMS TEAMS (join on the app or online)\n\n\nPen/Paper\n\n\nPreferably a camera and mic to participate\n\nHOW LONG IS THE COURSE? \n3 hours (Virtual) \nHOW TO JOIN? \nYou will receive an email a couple of days prior to the event with all training materials and a link to join the MS Teams training session. \nBy signing up you agree for your information to be stored and shared by the Training hub\, with the Training Provider and with NHSE and HEE\, for the delivery of this training\, monitoring\, reporting and certification purposes only.
URL:https://lscthub.co.uk/events/snomed/
CATEGORIES:Non-Clinical Staff Training
END:VEVENT
BEGIN:VEVENT
DTSTART;TZID=Europe/London:20251111T093000
DTEND;TZID=Europe/London:20251111T123000
DTSTAMP:20260423T202339
CREATED:20251001T154410Z
LAST-MODIFIED:20251001T154410Z
UID:54480-1762853400-1762864200@lscthub.co.uk
SUMMARY:SNOMED
DESCRIPTION:Places are limited . If you cannot attend this training\, please ensure you have cancelled your place so that others can book on.  \nThe course will raise confidence\, eliminates the most common mistakes with a simple to use structure\, and will improve the quality of the coding in the practice\, which in turn will improve safety\, audit\, QOF and quality.  \n   \nAIMS  \n\nTo examine the reasons for coding \n\n\nIntroducing Snomed Concepts \n\n\nExplaining how concepts can be used to increase accuracy. \n\n\nTo explain searching techniques for coding \n\n\nTo develop an understanding of common coding errors and how to make good \n\n\nShowing how common Read terms map into Snomed \n\n\nSnomed search browsers \n\n\nTo concentrate on improving data quality by correct coding \n\nWHO SHOULD ATTEND?  \nNon-Clinical Primary Care Staff  \nWHAT DO I NEED?  \n\nMS TEAMS (join on the app or online) \n\n\nPen/Paper \n\n\nPreferably a camera and mic to participate \n\nHOW LONG IS THE COURSE?  \n3 hours (Virtual)  \nHOW TO JOIN?  \nYou will receive an email a couple of days prior to the event with all training materials and a link to join the MS Teams training session.  \nBy signing up you agree for your information to be stored and shared by the Training hub\, with the Training Provider and with NHSE and HEE\, for the delivery of this training\, monitoring\, reporting and certification purposes only. 
URL:https://lscthub.co.uk/events/snomed-7/
CATEGORIES:Non-Clinical Staff Training
END:VEVENT
BEGIN:VEVENT
DTSTART;TZID=Europe/London:20260616T093000
DTEND;TZID=Europe/London:20260616T123000
DTSTAMP:20260423T202339
CREATED:20260423T125821Z
LAST-MODIFIED:20260423T125821Z
UID:58666-1781602200-1781613000@lscthub.co.uk
SUMMARY:SNOMED Clinical Coding Training (for non-clinical staff)
DESCRIPTION:For Admin and Clerical Staff working in Lancashire and South Cumbria General Practice. \nCourse Aims:\n\nWhat is Snomed CT\nSnomed Coding and concepts (England and Wales)\nExplaining how concepts can be used to increase accuracy.\nTo explain searching techniques for coding\nTo develop an understanding of common coding misconceptions\nPatient access\nSnomed search browsers\nImproving data quality\n\n\nThis SNOMED training course is designed for clinical coders of all experience levels\, providing you with the essential techniques and knowledge to confidently find the correct codes for your primary care team. \n\nRead Coding vs. SNOMED:\nIn Scotland and Northern Ireland\, Read codes are used\, while in England and Wales (from April 2025)\, SNOMED codes will be the standard. \n\nFor Experienced Clinical Coders:\n\nStay up-to-date with the latest techniques for improving coding accuracy and relevance to both clinicians and patients.\nDelve into advanced coding scenarios and case studies to enhance your skills.\nRefine your expertise with our advanced SNOMED training course\, tailored to the needs of experienced coders.\n\nFor Non-Experienced Clinical Coders:\n\nBegin your coding journey with our introductory SNOMED training\, covering all the essential background and principles of SNOMED CT terminology.\nBuild a solid foundation in SNOMED CT coding and terminology.\nLearn through interactive and engaging training materials to make coding concepts easy to understand.\n\n\n\nThis is an interactive session and you will be expected to interact. Please ensure you have a camera and microphone available to attend the meeting. \nPLEASE NOTE:  Resources are only available to attendees.  Please ensure that you either put your name in the chat or use the QR code to register your attendance via your Medtribe account when you log onto the session.\n\n\nYou will receive a certificate post training for your attendance. Places are limited\, if you have booked a place\, please ensure you attend.\nIf you have any additional needs or requirements to attend this session\, please contact us at mbpcc.lscthub@nhs.net.\nBy signing up you agree for your information to be stored and shared by the Training Hub and with the Training Provider\, NHSE and NHS ICB\, for the delivery of this training\, monitoring\, reporting and certification purposes only.\n\nAll bookings are subject to our cancellation policy (details can be found here www.lscthub.co.uk).  If you do not attend you/your employer will be charged at the cost of the course. The cost is stated in the non funded ticket section
URL:https://lscthub.co.uk/events/snomed-clinical-coding-training-for-non-clinical-staff/
CATEGORIES:Non-Clinical Staff Training
END:VEVENT
END:VCALENDAR