BEGIN:VCALENDAR
VERSION:2.0
PRODID:-//Lancashire and South Cumbria Training Hub - ECPv6.15.20//NONSGML v1.0//EN
CALSCALE:GREGORIAN
METHOD:PUBLISH
X-ORIGINAL-URL:https://lscthub.co.uk
X-WR-CALDESC:Events for Lancashire and South Cumbria Training Hub
REFRESH-INTERVAL;VALUE=DURATION:PT1H
X-Robots-Tag:noindex
X-PUBLISHED-TTL:PT1H
BEGIN:VTIMEZONE
TZID:Europe/London
BEGIN:DAYLIGHT
TZOFFSETFROM:+0000
TZOFFSETTO:+0100
TZNAME:BST
DTSTART:20250330T010000
END:DAYLIGHT
BEGIN:STANDARD
TZOFFSETFROM:+0100
TZOFFSETTO:+0000
TZNAME:GMT
DTSTART:20251026T010000
END:STANDARD
BEGIN:DAYLIGHT
TZOFFSETFROM:+0000
TZOFFSETTO:+0100
TZNAME:BST
DTSTART:20260329T010000
END:DAYLIGHT
BEGIN:STANDARD
TZOFFSETFROM:+0100
TZOFFSETTO:+0000
TZNAME:GMT
DTSTART:20261025T010000
END:STANDARD
BEGIN:DAYLIGHT
TZOFFSETFROM:+0000
TZOFFSETTO:+0100
TZNAME:BST
DTSTART:20270328T010000
END:DAYLIGHT
BEGIN:STANDARD
TZOFFSETFROM:+0100
TZOFFSETTO:+0000
TZNAME:GMT
DTSTART:20271031T010000
END:STANDARD
END:VTIMEZONE
BEGIN:VEVENT
DTSTART;TZID=Europe/London:20260202T113000
DTEND;TZID=Europe/London:20260202T130000
DTSTAMP:20260425T113825
CREATED:20250417T140142Z
LAST-MODIFIED:20250417T140142Z
UID:51857-1770031800-1770037200@lscthub.co.uk
SUMMARY:Nurse Clinical Supervision Training
DESCRIPTION:This training event will enable you to reflect on and further develop your knowledge and skills necessary to your role as a locality clinical supervisor and relevant for clinical supervisors​​. \nWe have changed the format of this training based on feedback. \nYou will receive the training slides for this event 7 days prior to the scheduled date for you to read through and digest in your own time- please book some time to do this. \nOn the training day we will meet for 90 minutes to discuss clinical supervision and to answer any queries you have. \nThis training event will enable you to reflect on and further develop your knowledge and skills necessary to your role as a locality clinical supervisor and relevant for clinical supervisors​​\nAims\n\nHave an increased knowledge and understanding of Clinical Supervision\, linking theory to practice ​\nDifferentiate between Clinical Supervision and line/performance management and between Clinical Supervision and teaching​\nNegotiate Clinical Supervision contracts and structure processes\, accordingly\, taking in to account individual learning styles\n​Develop reflective interpersonal and supervisory skills such as:  reflective practice; giving guidance\, joint problem solving\, and offering feedback to enable the development of effective supervisory relationships.​  ​​\n\n\nThis is an interactive session and you will be expected to interact. Please ensure you have a camera and microphone available to attend the meeting.\n\nYou will receive a certificate post training for your attendance. Places are limited\, if you have booked a place\, please ensure you attend.\nIf you are no longer able to attend\, please cancel your place. If you are struggling with booking or cancelling your place\, please contact us.\nBy signing up you agree for your information to be stored and shared by the Training hub and with the Training Provider\, NHSE and HEE\, for the delivery of this training\, monitoring\, reporting and certification purposes only.
URL:https://lscthub.co.uk/events/nurse-clinical-supervision-training-5/
CATEGORIES:Other Training
ORGANIZER;CN="Lancashire and South Cumbria Primary Care Training Hub":MAILTO:mbpcc.lscthub@nhs.net
END:VEVENT
BEGIN:VEVENT
DTSTART;TZID=Europe/London:20260216T120000
DTEND;TZID=Europe/London:20260216T130000
DTSTAMP:20260425T113825
CREATED:20260209T145204Z
LAST-MODIFIED:20260209T145204Z
UID:57072-1771243200-1771246800@lscthub.co.uk
SUMMARY:Introduction to Smokefree Lancashire & Very Brief Advice (VBA) training
DESCRIPTION:Find out what Smokefree Lancashire is all about and how you can help spread the word to your own clients and service users\n\n\n\nThe health of Lancashire is super important. Can you be part of the movement to encourage smokers to think about stopping their addiction and habit? If you work or volunteer in Lancashire\, then yes you can! (Lancashire County Council footprint does not include Blackburn with Darwen or Blackpool). We are looking forward to you joining us on our quest to bring down the prevalance of smokers in our population. \nSmokefree Lancashire have created a free training resource for you\, so you can raise awareness around our service and how your service users can access our service. \nOnce we have your confirmed booking\, you will be sent a calendar booking link via email with instructions on how to join the online training event \nUpon completion of the training\, all attendees will also be provided with an electronic attendance certificate. \nHosted by Smokefree Lancashire \nThe training will be delivered online via Microsoft Teams and is designed to be easily accessible\, providing all professionals with some foundational knowledge around smoking and our service. It is an interactive Powerpoint presentation. It includes watching a video\, a quiz and information giving. \n\n\n 
URL:https://lscthub.co.uk/events/introduction-to-smokefree-lancashire-very-brief-advice-vba-training/
CATEGORIES:Other Training
END:VEVENT
BEGIN:VEVENT
DTSTART;TZID=Europe/London:20260218T093000
DTEND;TZID=Europe/London:20260218T123000
DTSTAMP:20260425T113825
CREATED:20251218T095016Z
LAST-MODIFIED:20251218T095016Z
UID:55970-1771407000-1771417800@lscthub.co.uk
SUMMARY:Mental Health in Primary Care
DESCRIPTION:This session is designed for anyone working clinically in primary care who encounters mental health presentations as part of everyday practice. \nMental health difficulties are common\, complex\, and often intertwined with physical health\, social stressors\, and life events. In primary care\, we are uniquely placed to notice early signs\, open meaningful conversations\, and offer timely\, compassionate support. \nUsing a primary care–relevant case study\, this session will focus on normalising mental health\, exploring how distress commonly presents in primary care settings\, and introducing formulation as a practical framework for making sense of people’s difficulties beyond diagnosis alone. \nThe session will introduce the 5 Ps formulation model (presenting\, predisposing\, precipitating\, perpetuating and protective factors) as a shared language for understanding mental health problems collaboratively with patients. We will consider how formulation can guide clinical decision-making\, risk awareness\, and proportionate intervention in a time-limited primary care context. \nParticipants will explore realistic support options within primary care\, including brief interventions\, psychoeducation\, social prescribing\, medication considerations\, referral pathways\, and safety-netting. The emphasis throughout is on confidence\, curiosity\, and relational practice rather than “fixing” or over-pathologising distress. \nThis session aims to support clinicians to feel more confident having mental health conversations\, to think holistically\, and to recognise the valuable role primary care plays in mental health support. \nThis is an interactive session and you will be expected to interact. Please ensure you have a camera and microphone available to attend the meeting. \nYou will receive a certificate post training for your attendance. Places are limited\, if you have booked a place\, please ensure you attend.\nIf you have any additional needs or requirements to attend this session\, please contact us at mbpcc.lscthub@nhs.net\nBy signing up you agree for your information to be stored and shared by the Training Hub and with the Training
URL:https://lscthub.co.uk/events/mental-health-in-primary-care/
CATEGORIES:Other Training
ORGANIZER;CN="Lancashire and South Cumbria Primary Care Training Hub":MAILTO:mbpcc.lscthub@nhs.net
END:VEVENT
BEGIN:VEVENT
DTSTART;TZID=Europe/London:20260219T103000
DTEND;TZID=Europe/London:20260219T113000
DTSTAMP:20260425T113825
CREATED:20260209T145234Z
LAST-MODIFIED:20260209T145234Z
UID:57073-1771497000-1771500600@lscthub.co.uk
SUMMARY:Introduction to Smokefree Lancashire & Very Brief Advice (VBA) training
DESCRIPTION:Find out what Smokefree Lancashire is all about and how you can help spread the word to your own clients and service users\n\n\n\nThe health of Lancashire is super important. Can you be part of the movement to encourage smokers to think about stopping their addiction and habit? If you work or volunteer in Lancashire\, then yes you can! (Lancashire County Council footprint does not include Blackburn with Darwen or Blackpool). We are looking forward to you joining us on our quest to bring down the prevalance of smokers in our population. \nSmokefree Lancashire have created a free training resource for you\, so you can raise awareness around our service and how your service users can access our service. \nOnce we have your confirmed booking\, you will be sent a calendar booking link via email with instructions on how to join the online training event \nUpon completion of the training\, all attendees will also be provided with an electronic attendance certificate. \nHosted by Smokefree Lancashire \nThe training will be delivered online via Microsoft Teams and is designed to be easily accessible\, providing all professionals with some foundational knowledge around smoking and our service. It is an interactive Powerpoint presentation. It includes watching a video\, a quiz and information giving. \n\n\n 
URL:https://lscthub.co.uk/events/introduction-to-smokefree-lancashire-very-brief-advice-vba-training-2/
CATEGORIES:Other Training
END:VEVENT
BEGIN:VEVENT
DTSTART;TZID=Europe/London:20260224T140000
DTEND;TZID=Europe/London:20260224T160000
DTSTAMP:20260425T113825
CREATED:20260112T112806Z
LAST-MODIFIED:20260112T112806Z
UID:56208-1771941600-1771948800@lscthub.co.uk
SUMMARY:Talk Cancer - Online Workshop (Hosted by Cancer Research UK)
DESCRIPTION:Funded by Lancashire and South Cumbria Cancer Alliance\, Talk Cancer is for anyone in a position to promote health and wellbeing. If you’re having conversations with people and are able to share health messages\, this workshop is for you. \n\n\n\n\n\nLancashire and South Cumbria Cancer Alliance have funded this workshop and it is free for delegates currently employed in Lancashire and South Cumbria.\nIf you do not work in General Practice eg. Community Pharmacy\, please select ‘Other‘ as your locality within the booking form. \nWe encourage attendance from: \n\nAny health and social care professionals\nPeople who work or volunteer in voluntary\, Community\, Faith\, and Social Enterprise organisations (VCSFE)\nPeople who would like to become a cancer awareness champion for their organisation\n\n\nTalking about cancer can save lives. It can break down barriers to seeking help and encourage people to take positive action for their health. Talk Cancer\, Cancer Research UK’s cancer awareness training programme\, will give you the skills and knowledge to confidently talk about cancer and health with people in your community. \nWhat this workshop includes\nDeveloped and delivered by experienced health professionals using the latest evidence\, Talk Cancer helps\nevery trainee to:\n\nUnderstand the key messages around cancer awareness\nTalk to people about how they could reduce their risk of getting cancer\nHelp people understand the importance of spotting cancer early and the screening programmes available\nAppreciate and address the fears and barriers faced by people when talking about cancer\nHave effective\, supportive conversations about cancer and health\nUnderstand the impact of health inequalities on cancer outcomes\nEncourage people to take positive action for their health\, use local services and see their doctor with any concerns\n\n\nAll attendees are provided with resources and ongoing support to help them have impactful conversations about cancer\, now and in the future.\n\n\n\nThis is an interactive session and you will be expected to interact. Please ensure you have a camera and microphone available to attend the meeting.\n\n\nYou will receive a certificate post training for your attendance. Places are limited\, if you have booked a place\, please ensure you attend.\nIf you have any additional needs or requirements to attend this session\, please contact us at mbpcc.lscthub@nhs.net.\nBy signing up you agree for your information to be stored and shared by the Training Hub and with the Training Provider\, NHSE and NHS ICB\, for the delivery of this training\, monitoring\, reporting and certification purposes only.
URL:https://lscthub.co.uk/events/talk-cancer-online-workshop-hosted-by-cancer-research-uk/
CATEGORIES:Other Training
END:VEVENT
BEGIN:VEVENT
DTSTART;TZID=Europe/London:20260227T103000
DTEND;TZID=Europe/London:20260227T113000
DTSTAMP:20260425T113825
CREATED:20260209T145314Z
LAST-MODIFIED:20260209T145314Z
UID:57074-1772188200-1772191800@lscthub.co.uk
SUMMARY:Introduction to Smokefree Lancashire & Very Brief Advice (VBA) training
DESCRIPTION:Find out what Smokefree Lancashire is all about and how you can help spread the word to your own clients and service users\n\n\n\nThe health of Lancashire is super important. Can you be part of the movement to encourage smokers to think about stopping their addiction and habit? If you work or volunteer in Lancashire\, then yes you can! (Lancashire County Council footprint does not include Blackburn with Darwen or Blackpool). We are looking forward to you joining us on our quest to bring down the prevalance of smokers in our population. \nSmokefree Lancashire have created a free training resource for you\, so you can raise awareness around our service and how your service users can access our service. \nOnce we have your confirmed booking\, you will be sent a calendar booking link via email with instructions on how to join the online training event \nUpon completion of the training\, all attendees will also be provided with an electronic attendance certificate. \nHosted by Smokefree Lancashire \nThe training will be delivered online via Microsoft Teams and is designed to be easily accessible\, providing all professionals with some foundational knowledge around smoking and our service. It is an interactive Powerpoint presentation. It includes watching a video\, a quiz and information giving.
URL:https://lscthub.co.uk/events/introduction-to-smokefree-lancashire-very-brief-advice-vba-training-3/
CATEGORIES:Other Training
END:VEVENT
END:VCALENDAR