BEGIN:VCALENDAR
VERSION:2.0
PRODID:-//Lancashire and South Cumbria Training Hub - ECPv6.15.20//NONSGML v1.0//EN
CALSCALE:GREGORIAN
METHOD:PUBLISH
X-ORIGINAL-URL:https://lscthub.co.uk
X-WR-CALDESC:Events for Lancashire and South Cumbria Training Hub
REFRESH-INTERVAL;VALUE=DURATION:PT1H
X-Robots-Tag:noindex
X-PUBLISHED-TTL:PT1H
BEGIN:VTIMEZONE
TZID:Europe/London
BEGIN:DAYLIGHT
TZOFFSETFROM:+0000
TZOFFSETTO:+0100
TZNAME:BST
DTSTART:20250330T010000
END:DAYLIGHT
BEGIN:STANDARD
TZOFFSETFROM:+0100
TZOFFSETTO:+0000
TZNAME:GMT
DTSTART:20251026T010000
END:STANDARD
BEGIN:DAYLIGHT
TZOFFSETFROM:+0000
TZOFFSETTO:+0100
TZNAME:BST
DTSTART:20260329T010000
END:DAYLIGHT
BEGIN:STANDARD
TZOFFSETFROM:+0100
TZOFFSETTO:+0000
TZNAME:GMT
DTSTART:20261025T010000
END:STANDARD
BEGIN:DAYLIGHT
TZOFFSETFROM:+0000
TZOFFSETTO:+0100
TZNAME:BST
DTSTART:20270328T010000
END:DAYLIGHT
BEGIN:STANDARD
TZOFFSETFROM:+0100
TZOFFSETTO:+0000
TZNAME:GMT
DTSTART:20271031T010000
END:STANDARD
END:VTIMEZONE
BEGIN:VEVENT
DTSTART;TZID=Europe/London:20260714T093000
DTEND;TZID=Europe/London:20260714T123000
DTSTAMP:20260424T005426
CREATED:20260423T125626Z
LAST-MODIFIED:20260423T125626Z
UID:58664-1784021400-1784032200@lscthub.co.uk
SUMMARY:Chaperoning in Primary Care (for non-clinical staff)
DESCRIPTION:This online Primary Care Chaperone course is designed for non-clinical staff who may be asked to act as chaperones and require formal training in intimate examinations. \nAbout this course: \n\n\nGMC and CQC Aligned: This course meets strict standards set by the General Medical Council and Care Quality Commission\, ensuring you receive training that complies fully with healthcare regulations.\nCulturally Sensitive: We raise awareness of cultural diversity so chaperones can ensure all patients feel safe and respected\, regardless of background or identity.\nInteractive and Engaging: Delivered over three hours\, our training encourages conversation\, questions\, and sharing of real-life examples.\nFocused on Primary Care Settings: Unlike generic chaperone courses\, ours is specifically tailored for general practice staff.\nIn-Depth Understanding of Intimate Examinations: Learn to appreciate each patient’s unique preferences and vulnerabilities\, and become aware of unconscious biases that may affect patient comfort.\nSafeguarding and Reporting: Understand your role in safeguarding and how to report any concerns or complaints raised before\, during\, or after the examination.\n\n\n\nThis is an interactive session and you will be expected to interact. Please ensure you have a camera and microphone available to attend the meeting. \nPLEASE NOTE:  Resources are only available to attendees.  Please ensure that you either put your name in the chat or use the QR code to register your attendance via your Medtribe account when you log onto the session.\n\n\nYou will receive a certificate post training for your attendance. Places are limited\, if you have booked a place\, please ensure you attend.\nIf you have any additional needs or requirements to attend this session\, please contact us at mbpcc.lscthub@nhs.net.\nBy signing up you agree for your information to be stored and shared by the Training Hub and with the Training Provider\, NHSE and NHS ICB\, for the delivery of this training\, monitoring\, reporting and certification purposes only.\n\nAll bookings are subject to our cancellation policy (details can be found here www.lscthub.co.uk). If you do not attend you/your employer will be charged at the cost of the course. The cost is stated in the non funded ticket section
URL:https://lscthub.co.uk/events/chaperoning-in-primary-care-for-non-clinical-staff/
CATEGORIES:Non-Clinical Staff Training
END:VEVENT
BEGIN:VEVENT
DTSTART;TZID=Europe/London:20260724T133000
DTEND;TZID=Europe/London:20260724T163000
DTSTAMP:20260424T005426
CREATED:20260423T125545Z
LAST-MODIFIED:20260423T125545Z
UID:58663-1784899800-1784910600@lscthub.co.uk
SUMMARY:Understanding Blood Tests and Results Training for Non-Clinical Staff
DESCRIPTION:The Understanding Blood Tests and Results training course is specifically created for roles such as GP receptionists\, HCAs\, GPAs\, care coordinators\, and other support staff. No clinical background is required. \n\nThis interactive course helps you build a working knowledge of blood tests and their results\, giving you the confidence to support patients and colleagues more effectively in your practice. \nBy the end of this course\, you will: \n\nUnderstand why blood tests are done and what they look for\nRecognise common test names and abbreviations\nFeel more confident discussing test results with patients or clinical staff\nKnow when to escalate or seek clinical advice based on the results\nBe a more informed and valuable part of your primary care team\n\n\nWhat the Understanding Blood Tests and Results Training Course for Non-clinical staff covers\n\n1. Why Blood Tests Matter in Primary Care\nYou’ll explore the key reasons why blood tests are ordered in general practice — from routine monitoring to investigating symptoms. Understand how they help in identifying\, diagnosing\, and managing a wide range of conditions like diabetes\, anaemia\, infections\, and more. \n\n2. Common Blood Tests Explained\nWe break down the most frequently requested blood tests in primary care\, using clear\, jargon-free language. Learn about:\n\nFull Blood Count (FBC)\nLiver Function Tests (LFTs)\nKidney Function (U&Es)\nHbA1c and cholesterol levels\nThyroid testing and more\n\n3. Understanding Results and Therapeutic Ranges\nYou’ll learn what normal ranges look like\, and what it might mean when values are too high or too low. This is essential knowledge for anyone supporting patients who call with queries about their blood test results. \n\n4. Practical Scenarios and Real-World Examples\nUsing real-life case studies\, we’ll walk through examples of typical results and patient journeys. This makes it easier to relate what you’ve learned to day-to-day work in a GP practice. \n\n\n\nThis is an interactive session and you will be expected to interact. Please ensure you have a camera and microphone available to attend the meeting.\n\n\nYou will receive a certificate post training for your attendance. Places are limited\, if you have booked a place\, please ensure you attend.\nIf you have any additional needs or requirements to attend this session\, please contact us at mbpcc.lscthub@nhs.net.\nBy signing up you agree for your information to be stored and shared by the Training Hub and with the Training Provider\, NHSE and NHS ICB\, for the delivery of this training\, monitoring\, reporting and certification purposes only.\n\nAll bookings are subject to our cancellation policy (details can be found here www.lscthub.co.uk). If you do not attend you/your employer will be charged at the cost of the course. The cost is stated in the non funded ticket section
URL:https://lscthub.co.uk/events/understanding-blood-tests-and-results-training-for-non-clinical-staff/
CATEGORIES:Non-Clinical Staff Training
END:VEVENT
BEGIN:VEVENT
DTSTART;TZID=Europe/London:20260908T093000
DTEND;TZID=Europe/London:20260908T123000
DTSTAMP:20260424T005426
CREATED:20260423T125445Z
LAST-MODIFIED:20260423T125445Z
UID:58662-1788859800-1788870600@lscthub.co.uk
SUMMARY:Excellent Customer Care (for non-clinical staff)
DESCRIPTION:For Admin and Clerical Staff working in Lancashire and South Cumbria General Practice.\nThe course dives into the art of delivering exceptional client experiences\, focusing on creating a culture of empathy\, efficiency\, and professionalism. \nCourse Aims:\n\nDefining excellent customer care\nWhy first impressions are so critical\nUnderstanding why people demand and don’t ask\nUnderstand why we feel challenged by ‘unreasonable’ expectations\nHow empathy affects our reactions and how to become more empathetic in challenging conversations\nCreating more effective team approaches to dealing with challenging behaviours\nManaging anger and complaints more effectively.\nManaging queues more effectively\nReducing abuse on the phone\n\n\n\nDefining Excellent Customer Care: The course begins by defining what truly constitutes excellent customer care\, emphasising its profound impact on client satisfaction and the overall service quality. Participants will gain essential insights into the critical role of first impressions\, understanding that initial interactions play a vital role in setting the tone for positive and lasting experiences.\nUnderstanding Client Expectations: Participants will explore the nuances of personal demands\, even those unspoken\, and learn how to anticipate patient needs. We focus on the psychological aspects that shape patient expectations\, enabling staff to proactively address and exceed these needs to ensure high patient satisfaction.\nManaging Unreasonable Expectations: Handling unreasonable expectations can be challenging. This course equips participants with practical tools for navigating such situations with empathy and professionalism. By understanding the importance of empathetic communication\, staff will be able to foster more compassionate and effective interactions\, even in difficult conversations\, strengthening patient relationships.\nTeam Approaches to Challenging Behaviour: The course covers how to build an effective team approach for dealing with challenging behaviours. Anger management techniques and effective complaint resolution are addressed\, ensuring that participants can turn potential conflicts into opportunities for service improvement and a more positive patient experience.\nQueue Management and Service Efficiency: Efficient queue management is a key practical element of excellent customer care. Participants will learn strategies to reduce wait times and improve overall service efficiency\, directly contributing to higher client satisfaction.\nReducing Phone Abuse and Ensuring Respectful Communication: The course also focuses on managing phone abuse and promoting professional\, respectful communication during telephone interactions\, ensuring that all communication\, whether in person or on the phone\, maintains the same high standard of care.\n\n\n\n\nThis is an interactive session and you will be expected to interact. Please ensure you have a camera and microphone available to attend the meeting. \nPLEASE NOTE:  Resources are only available to attendees.  Please ensure that you either put your name in the chat or use the QR code to register your attendance via your Medtribe account when you log onto the session.\n\n\nYou will receive a certificate post training for your attendance. Places are limited\, if you have booked a place\, please ensure you attend.\nIf you have any additional needs or requirements to attend this session\, please contact us at mbpcc.lscthub@nhs.net.\nBy signing up you agree for your information to be stored and shared by the Training Hub and with the Training Provider\, NHSE and NHS ICB\, for the delivery of this training\, monitoring\, reporting and certification purposes only.\n\n\n\nAll bookings are subject to our cancellation policy (details can be found here www.lscthub.co.uk).  If you do not attend you/your employer will be charged at the cost of the course. The cost is stated in the non funded ticket section
URL:https://lscthub.co.uk/events/excellent-customer-care-for-non-clinical-staff/
CATEGORIES:Non-Clinical Staff Training
END:VEVENT
END:VCALENDAR