BEGIN:VCALENDAR
VERSION:2.0
PRODID:-//Lancashire and South Cumbria Training Hub - ECPv6.15.20//NONSGML v1.0//EN
CALSCALE:GREGORIAN
METHOD:PUBLISH
X-ORIGINAL-URL:https://lscthub.co.uk
X-WR-CALDESC:Events for Lancashire and South Cumbria Training Hub
REFRESH-INTERVAL;VALUE=DURATION:PT1H
X-Robots-Tag:noindex
X-PUBLISHED-TTL:PT1H
BEGIN:VTIMEZONE
TZID:UTC
BEGIN:STANDARD
TZOFFSETFROM:+0000
TZOFFSETTO:+0000
TZNAME:UTC
DTSTART:20220101T000000
END:STANDARD
END:VTIMEZONE
BEGIN:VEVENT
DTSTART;TZID=UTC:20230622T140000
DTEND;TZID=UTC:20230622T170000
DTSTAMP:20260423T150118
CREATED:20221116T095055Z
LAST-MODIFIED:20221116T095055Z
UID:26848-1687442400-1687453200@lscthub.co.uk
SUMMARY:Note Summarising Training
DESCRIPTION:OVERVIEW \n  \nThe course will raise confidence\, eliminates the most common mistakes with a simple to use structure\, and will improve the quality of summarising in the practice\, which in turn will improve safety\, audit\, QoF and quality. \n  \nAIMS \n  \n\nWhat should be summarised?\nWhat can be omitted?\nWhen is active/past used?\nWhen is significant/minor used?\nSummarising sensitive data\nSummarising family records\nSummarising protocol provided.\n\nWHO SHOULD ATTEND? \n  \nNon-Clinical Primary Care Staff \n  \nWHAT DO I NEED? \n  \n\nMS TEAMS (join on the app or online)\nPen/Paper\nPreferably a camera and mic to participate\n\nHOW LONG IS THE COURSE? \n  \n3 hours (Virtual) \n  \nHOW TO JOIN? \n  \nYou will receive an email a couple of days prior to the event with all training materials and a link to join the MS Teams training session.
URL:https://lscthub.co.uk/events/note-summarising-training-4/
CATEGORIES:Non-Clinical Staff Training
END:VEVENT
END:VCALENDAR