BEGIN:VCALENDAR
VERSION:2.0
PRODID:-//Lancashire and South Cumbria Training Hub - ECPv6.15.20//NONSGML v1.0//EN
CALSCALE:GREGORIAN
METHOD:PUBLISH
X-WR-CALNAME:Lancashire and South Cumbria Training Hub
X-ORIGINAL-URL:https://lscthub.co.uk
X-WR-CALDESC:Events for Lancashire and South Cumbria Training Hub
REFRESH-INTERVAL;VALUE=DURATION:PT1H
X-Robots-Tag:noindex
X-PUBLISHED-TTL:PT1H
BEGIN:VTIMEZONE
TZID:UTC
BEGIN:STANDARD
TZOFFSETFROM:+0000
TZOFFSETTO:+0000
TZNAME:UTC
DTSTART:20220101T000000
END:STANDARD
END:VTIMEZONE
BEGIN:VEVENT
DTSTART;TZID=UTC:20230519T093000
DTEND;TZID=UTC:20230519T163000
DTSTAMP:20260424T020840
CREATED:20230324T161215Z
LAST-MODIFIED:20230324T161722Z
UID:31471-1684488600-1684513800@lscthub.co.uk
SUMMARY:Correspondence Management Workshop - Level 2
DESCRIPTION:Places are limited . If you cannot attend this training\, please ensure you have cancelled your place so that others can book on. \n  \nWorkshop Objective \nThis aims to equip operational administrative staff to safely and efficiently take actions where appropriate\, and which may include forwarding correspondence to another member of the team\, or passing letters to a GP for action if a clinical decision is required. It is a more advanced task than document processing or coding alone. \nIt requires support staff to have the requisite skills and confidence to consistently make safe and informed decisions about how to code a letter and its contents in the patient record\, how to use an approved protocol for deciding which letters need to be sent to a GP and with what level of urgency\, and when to ask for help. \n  \nAIM – Level 2 \nBy the end of this workshop delegates will have an overview understanding of the Read coding\, and medical terminology needed to enable them to fully contribute to the safe\, practice application of “Correspondence Management”. \nDelegates will also receive a number of standard checklists and templates which they will then be able to adapt for their Practice. \nLevel 2 incorporates an online assessment for each candidate taken in their own time at the practice. \nThe topics that will be covered include; \n\nWelcome\, introductions and objectives\nRead Codes\nPurpose\nDefinition\nStructure\nEpisodicity\nCommon abbreviations\nCodes derived from Secondary Care\nMedical Terminology\nWord structure and building blocks\nMajor body systems and organs\nCommon tests & investigations\nAction Plan\n\n  \nWHO SHOULD ATTEND? \nNon-Clinical Primary Care Staff \n  \nWHAT DO I NEED? \n\nMS TEAMS (join on the app or online)\nPen/Paper\nPreferably a camera and mic to participate\n\n  \nHOW LONG IS THE COURSE? \nFull day (9:30-16:30) Virtual
URL:https://lscthub.co.uk/events/correspondence-management-workshop-level-2/
CATEGORIES:Non-Clinical Staff Training
END:VEVENT
END:VCALENDAR