BEGIN:VCALENDAR
VERSION:2.0
PRODID:-//Lancashire and South Cumbria Training Hub - ECPv6.15.20//NONSGML v1.0//EN
CALSCALE:GREGORIAN
METHOD:PUBLISH
X-ORIGINAL-URL:https://lscthub.co.uk
X-WR-CALDESC:Events for Lancashire and South Cumbria Training Hub
REFRESH-INTERVAL;VALUE=DURATION:PT1H
X-Robots-Tag:noindex
X-PUBLISHED-TTL:PT1H
BEGIN:VTIMEZONE
TZID:Europe/London
BEGIN:DAYLIGHT
TZOFFSETFROM:+0000
TZOFFSETTO:+0100
TZNAME:BST
DTSTART:20220327T010000
END:DAYLIGHT
BEGIN:STANDARD
TZOFFSETFROM:+0100
TZOFFSETTO:+0000
TZNAME:GMT
DTSTART:20221030T010000
END:STANDARD
BEGIN:DAYLIGHT
TZOFFSETFROM:+0000
TZOFFSETTO:+0100
TZNAME:BST
DTSTART:20230326T010000
END:DAYLIGHT
BEGIN:STANDARD
TZOFFSETFROM:+0100
TZOFFSETTO:+0000
TZNAME:GMT
DTSTART:20231029T010000
END:STANDARD
BEGIN:DAYLIGHT
TZOFFSETFROM:+0000
TZOFFSETTO:+0100
TZNAME:BST
DTSTART:20240331T010000
END:DAYLIGHT
BEGIN:STANDARD
TZOFFSETFROM:+0100
TZOFFSETTO:+0000
TZNAME:GMT
DTSTART:20241027T010000
END:STANDARD
END:VTIMEZONE
BEGIN:VEVENT
DTSTART;TZID=Europe/London:20231207T140000
DTEND;TZID=Europe/London:20231207T170000
DTSTAMP:20260422T071943
CREATED:20231026T090214Z
LAST-MODIFIED:20231026T090214Z
UID:37566-1701957600-1701968400@lscthub.co.uk
SUMMARY:Note Summarising Training
DESCRIPTION:The course will raise confidence\, eliminates the most common mistakes with a simple to use structure\, and will improve the quality of summarising in the practice\, which in turn will improve safety\, audit\, QoF and quality. \nFor non-clinical staff.
URL:https://lscthub.co.uk/events/note-summarising-training-7/
CATEGORIES:Non-Clinical Staff Training
END:VEVENT
BEGIN:VEVENT
DTSTART;TZID=Europe/London:20231213T090000
DTEND;TZID=Europe/London:20231213T120000
DTSTAMP:20260422T071943
CREATED:20231009T082453Z
LAST-MODIFIED:20231009T082453Z
UID:36998-1702458000-1702468800@lscthub.co.uk
SUMMARY:Note Summarising Training
DESCRIPTION:The course will raise confidence\, eliminates the most common mistakes with a simple to use structure\, and will improve the quality of summarising in the practice\, which in turn will improve safety\, audit\, QoF and quality. \nFor non-clinical staff.
URL:https://lscthub.co.uk/events/note-summarising-training-6/
CATEGORIES:Non-Clinical Staff Training
END:VEVENT
END:VCALENDAR