BEGIN:VCALENDAR
VERSION:2.0
PRODID:-//Lancashire and South Cumbria Training Hub - ECPv6.15.20//NONSGML v1.0//EN
CALSCALE:GREGORIAN
METHOD:PUBLISH
X-WR-CALNAME:Lancashire and South Cumbria Training Hub
X-ORIGINAL-URL:https://lscthub.co.uk
X-WR-CALDESC:Events for Lancashire and South Cumbria Training Hub
REFRESH-INTERVAL;VALUE=DURATION:PT1H
X-Robots-Tag:noindex
X-PUBLISHED-TTL:PT1H
BEGIN:VTIMEZONE
TZID:UTC
BEGIN:STANDARD
TZOFFSETFROM:+0000
TZOFFSETTO:+0000
TZNAME:UTC
DTSTART:20220101T000000
END:STANDARD
END:VTIMEZONE
BEGIN:VEVENT
DTSTART;TZID=UTC:20230725T093000
DTEND;TZID=UTC:20230725T163000
DTSTAMP:20260423T082732
CREATED:20230327T125251Z
LAST-MODIFIED:20230327T125251Z
UID:31511-1690277400-1690302600@lscthub.co.uk
SUMMARY:Supervisory and Leadership Skills Training
DESCRIPTION:OVERVIEW \nSupervisors and team leaders are often individuals who have made the transition from being one of the team to leading the team\, or have arrived to take charge of an established team. This can create challenges. Supervision requires great people\, communication\, and motivational skills and this is what attending the course will help you to develop. By the end of the course you will understand the principles of leading teams\, have strategies to communicate and delegate effectively\, be able to motivate your team and feel more confident. \nAIMS \n\nMaking teams that perform\nBeing a creditable team leader\nEffective delegation\nGiving inspiring feedback\nMotivating yourself and others\nGreat communication\n\nWHO SHOULD ATTEND? \nAll established and new team leaders/managers working within primary care \nWHAT DO I NEED? \n\nMS TEAMS (join on the app or online)\nPen/Paper\nPreferably a camera and mic to participate\n\nHOW LONG IS THE COURSE? \nFull day (virtual)
URL:https://lscthub.co.uk/events/supervisory-and-leadership-skills-training-2/
CATEGORIES:Non-Clinical Staff Training
END:VEVENT
BEGIN:VEVENT
DTSTART;TZID=UTC:20230727T093000
DTEND;TZID=UTC:20230727T123000
DTSTAMP:20260423T082732
CREATED:20230719T105233Z
LAST-MODIFIED:20230719T105233Z
UID:34788-1690450200-1690461000@lscthub.co.uk
SUMMARY:Essential Care Navigation
DESCRIPTION:Places are limited . If you cannot attend this training\, please ensure you have cancelled your place so that others can book on.\n\n\n\n\nOVERVIEW \nWith the Forward View requiring that primary care takes the lead on signposting patients to the most appropriate support (other than the GP they want to see)\, practice staff will need to learn a range of skills in holding these conversations and dealing with the challenges of patient expectation and behaviour. \nThis Primary Care Navigation Training is designed to specifically support primary care staff in having conversations that will encourage patients to see the most appropriate person to manage their needs. \n  \nAIMS \n\nWhat is care navigation?\nWhy is care navigation essential in taking primary care forward?\nRecognising the care navigation we are already doing.\nUnderstanding that signposting is not triage\nTips to ensure that patients have confidence in the process\nSupporting patients who are reluctant to not see a GP\nManaging aggression and frustration\nMinimising abuse\nDeveloping self-confidence in the role\n\n  \nWHO SHOULD ATTEND? \nNon-Clinical Primary Care Staff \n  \nWHAT DO I NEED? \n\nMS TEAMS (join on the app or online)\nPen/Paper\nPreferably a camera and mic to participate\n\n  \nHOW LONG IS THE COURSE? \n3 hours (Virtual) \n  \nHOW TO JOIN? \nYou will receive an email a couple of days prior to the event with all training materials and a link to join the MS Teams training session.
URL:https://lscthub.co.uk/events/essential-care-navigation-3/
CATEGORIES:Non-Clinical Staff Training
END:VEVENT
END:VCALENDAR