BEGIN:VCALENDAR
VERSION:2.0
PRODID:-//Lancashire and South Cumbria Training Hub - ECPv6.15.20//NONSGML v1.0//EN
CALSCALE:GREGORIAN
METHOD:PUBLISH
X-WR-CALNAME:Lancashire and South Cumbria Training Hub
X-ORIGINAL-URL:https://lscthub.co.uk
X-WR-CALDESC:Events for Lancashire and South Cumbria Training Hub
REFRESH-INTERVAL;VALUE=DURATION:PT1H
X-Robots-Tag:noindex
X-PUBLISHED-TTL:PT1H
BEGIN:VTIMEZONE
TZID:UTC
BEGIN:STANDARD
TZOFFSETFROM:+0000
TZOFFSETTO:+0000
TZNAME:UTC
DTSTART:20220101T000000
END:STANDARD
END:VTIMEZONE
BEGIN:VEVENT
DTSTART;TZID=UTC:20231128T120000
DTEND;TZID=UTC:20231128T140000
DTSTAMP:20260421T121645
CREATED:20221206T120901Z
LAST-MODIFIED:20221206T120901Z
UID:27833-1701172800-1701180000@lscthub.co.uk
SUMMARY:National Influenza Update Training
DESCRIPTION:In line with the Public Health England\, L&SC PCTH have developed an update training session for the National Influenza Flu Programme. \nSign up to this 1.5 hour virtual update available for all staff who are intending delivery of flu vaccinations this year. This will include details of flu strains this year\, the eligibility cohorts\, administration and delivery of the vaccination. \n  \nYou will receive a certificate post training for your attendance. Places are limited\, if you have booked a place\, please ensure you attend. \nIf you are no longer able to attend\, please cancel your place via Eventbrite. If you are struggling with booking or cancelling your place\, please contact us on mbpcc.lscthub@nhs.net \nBy signing up you agree for your information to be stored and shared by the Training hub and with the Training Provider\, NHSE and HEE\, for the delivery of this training\, monitoring\, reporting and certification purposes only.
URL:https://lscthub.co.uk/events/national-influenza-update-training-4/
CATEGORIES:Imms & Vaccs Training
END:VEVENT
END:VCALENDAR