BEGIN:VCALENDAR
VERSION:2.0
PRODID:-//Lancashire and South Cumbria Training Hub - ECPv6.15.20//NONSGML v1.0//EN
CALSCALE:GREGORIAN
METHOD:PUBLISH
X-ORIGINAL-URL:https://lscthub.co.uk
X-WR-CALDESC:Events for Lancashire and South Cumbria Training Hub
REFRESH-INTERVAL;VALUE=DURATION:PT1H
X-Robots-Tag:noindex
X-PUBLISHED-TTL:PT1H
BEGIN:VTIMEZONE
TZID:UTC
BEGIN:STANDARD
TZOFFSETFROM:+0000
TZOFFSETTO:+0000
TZNAME:UTC
DTSTART:20220101T000000
END:STANDARD
END:VTIMEZONE
BEGIN:VEVENT
DTSTART;TZID=UTC:20231102T100000
DTEND;TZID=UTC:20231102T120000
DTSTAMP:20260421T164912
CREATED:20221206T121344Z
LAST-MODIFIED:20221206T121344Z
UID:27841-1698919200-1698926400@lscthub.co.uk
SUMMARY:Influenza\, Pneumonia and B12 Vaccination Update Training
DESCRIPTION:Update training for immunisation and vaccinations covering Influenza\, Pneumonia and B12 designed to provide health care professionals with an annual update in line with the national minimum standards and core curriculum for immunisations. \n  \nYou will receive a certificate post training for your attendance. Places are limited\, if you have booked a place\, please ensure you attend. \nIf you are no longer able to attend\, please cancel your place via Eventbrite. If you are struggling with booking or cancelling your place\, please contact us on mbpcc.lscthub@nhs.net \nBy signing up you agree for your information to be stored and shared by the Training hub and with the Training Provider\, NHSE and HEE\, for the delivery of this training\, monitoring\, reporting and certification purposes only.
URL:https://lscthub.co.uk/events/influenza-pneumonia-and-b12-vaccination-update-training-4/
CATEGORIES:Imms & Vaccs Training
END:VEVENT
END:VCALENDAR