BEGIN:VCALENDAR
VERSION:2.0
PRODID:-//Lancashire and South Cumbria Training Hub - ECPv6.15.20//NONSGML v1.0//EN
CALSCALE:GREGORIAN
METHOD:PUBLISH
X-WR-CALNAME:Lancashire and South Cumbria Training Hub
X-ORIGINAL-URL:https://lscthub.co.uk
X-WR-CALDESC:Events for Lancashire and South Cumbria Training Hub
REFRESH-INTERVAL;VALUE=DURATION:PT1H
X-Robots-Tag:noindex
X-PUBLISHED-TTL:PT1H
BEGIN:VTIMEZONE
TZID:UTC
BEGIN:STANDARD
TZOFFSETFROM:+0000
TZOFFSETTO:+0000
TZNAME:UTC
DTSTART:20220101T000000
END:STANDARD
END:VTIMEZONE
BEGIN:VEVENT
DTSTART;TZID=UTC:20230517T093000
DTEND;TZID=UTC:20230518T163000
DTSTAMP:20260422T064255
CREATED:20221206T104527Z
LAST-MODIFIED:20230126T232357Z
UID:27767-1684315800-1684427400@lscthub.co.uk
SUMMARY:Introduction to Immunisation and Vaccinations Training (Foundation)
DESCRIPTION:PLEASE NOTE DAY 1 IS TO COMPLETE ALL ELEARNING ELEMENTS PRIOR TO DAY 2. \nDay 2 will be virtually on MS Teams (9:30am-16:30) \nThe Immunisation and Vaccination Foundation is a blended learning programme. \nThis is for those new to providing Immunisation and Vaccinations \nThis course does not cover anaphylaxis or basic life support. This must be completed separately. \n  \nIn line with the Public Health England (2018) Minimum Standards and Core Curriculum for Immunisation Training for Registered Healthcare Practitioners we have developed a blended approach of both an e learning and a face to face taught course which previously consisted of two full taught days. Those new to immunisation are required to receive comprehensive foundation immunisation training. \n  \nThe programme web site is:– https://www.e-lfh.org.uk/programmes/immunisation/ \nThe programme is free to access just register to use the e-lfh portal. \n  \nThe course is designed around the updated National Minimum Standards and the competency assessment tool which must be undertaken in clinical practice following completion of the workshop. Please see the link below for a copy of the competency assessment tool for registered practitioners: \n  \nhttps://www.rcn.org.uk/professional-development/publications/pdf-006943 \n  \nYou will receive a certificate post training for your attendance. Places are limited\, if you have booked a place\, please ensure you attend. \nIf you are no longer able to attend\, please cancel your place via Eventbrite. If you are struggling with booking or cancelling your place\, please contact us on mbpcc.lscthub@nhs.net
URL:https://lscthub.co.uk/events/introduction-to-immunisation-and-vaccinations-training-foundation-3/
CATEGORIES:Imms & Vaccs Training
END:VEVENT
END:VCALENDAR