BEGIN:VCALENDAR
VERSION:2.0
PRODID:-//Lancashire and South Cumbria Training Hub - ECPv6.15.20//NONSGML v1.0//EN
CALSCALE:GREGORIAN
METHOD:PUBLISH
X-WR-CALNAME:Lancashire and South Cumbria Training Hub
X-ORIGINAL-URL:https://lscthub.co.uk
X-WR-CALDESC:Events for Lancashire and South Cumbria Training Hub
REFRESH-INTERVAL;VALUE=DURATION:PT1H
X-Robots-Tag:noindex
X-PUBLISHED-TTL:PT1H
BEGIN:VTIMEZONE
TZID:UTC
BEGIN:STANDARD
TZOFFSETFROM:+0000
TZOFFSETTO:+0000
TZNAME:UTC
DTSTART:20220101T000000
END:STANDARD
END:VTIMEZONE
BEGIN:VEVENT
DTSTART;VALUE=DATE:20230904
DTEND;VALUE=DATE:20230905
DTSTAMP:20260424T104812
CREATED:20230724T152309Z
LAST-MODIFIED:20230724T152641Z
UID:35023-1693785600-1693871999@lscthub.co.uk
SUMMARY:Workplace Health Champion Training (Fylde) - 3 days
DESCRIPTION:Location:Fylde Rugby Club : details TBC \nDates: \n\nDay 1: 4th Sept 2023\nDay 2: 18th Sept 2023\nDay 3: 25th Sept 2023\n\nThis training is for anyone interested in Health and Wellbeing\, who can act as an advocate within their workplace. \nPlease note registration closes 1 week before first date. \nLevel 3 Award in Skills for Workplace Health Champions \nThe Level 3 course provides a deeper understanding of the practicalities of the role and includes an assessment. The first day of Level 3 course covers all of the Level 2 content. \nIf you wish to complete Level 2 only\, you only need to attend day 1. If you wish to complete level 3\, you must attend all 3 dates. Please ensure you state this when signing up. \nAfter this course you will: \n\nUnderstand different mental health conditions and how to identify them in the workplace\nUnderstand the importance of healthy eating and consider this in the context of the workplace\nDemonstrate how to conduct research and gather insight into the needs of the workforce relating to sports or physical activity\nPlan and run a workplace health campaign\nUnderstand the elements of health and safety needed whilst planning a sport/physical activity session\nFacilitate a sport or physical activity session\n\nFollowing the course\, you will receive: \n\nA pin badge and a fully-accredited certificate within four weeks of the last day of the course\nA copy of the presentation and a resource booklet which includes useful links to further information covered in the course.\n\nYou will also have access to: \n\nMonthly ‘drop-in-clinics’\, which will support and guide you in putting your role into practice\nA Facebook group with other Workplace Health Champions\, in which there will be competitions\, updates and sharing of good news stories from across the programme\nA broader package of training to complement your role\, including refresher training\, mental health\, safeguarding etc.\nQuarterly webinars which offer discussions and information on key topics you may be experiencing as part of the role\n\nYou will be contacted by the training provider to give further information. As the course is fully funded by the European Social Fund\, you will be asked to complete some online forms in order to check eligibility. These forms should only take no longer than10 minutes to complete. The provider will also require some evidence of employment and proof to live and work in the UK.
URL:https://lscthub.co.uk/events/workplace-health-champion-training-fylde/
CATEGORIES:Health & Wellbeing
END:VEVENT
BEGIN:VEVENT
DTSTART;VALUE=DATE:20230901
DTEND;VALUE=DATE:20230902
DTSTAMP:20260424T104812
CREATED:20230724T151958Z
LAST-MODIFIED:20230724T151958Z
UID:35019-1693526400-1693612799@lscthub.co.uk
SUMMARY:Workplace Health Champion Training (West Lancs) - 3 days
DESCRIPTION:Location: Cedar Suite\, West Lancs Investment Centre\, White Moss Business Park\, Skelmersdale\, WN8 9TG \nDates: \n\nDay 1: 1st Sept 2023\nDay 2: 8th Sept 2023\nDay 3: 22nd Sept 2023\n\nThis training is for anyone interested in Health and Wellbeing\, who can act as an advocate within their workplace. \nPlease note registration closes 1 week before first date. \nLevel 3 Award in Skills for Workplace Health Champions \nThe Level 3 course provides a deeper understanding of the practicalities of the role and includes an assessment. The first day of Level 3 course covers all of the Level 2 content. \nIf you wish to complete Level 2 only\, you only need to attend day 1. If you wish to complete level 3\, you must attend all 3 dates. Please ensure you state this when signing up. \nAfter this course you will: \n\nUnderstand different mental health conditions and how to identify them in the workplace\nUnderstand the importance of healthy eating and consider this in the context of the workplace\nDemonstrate how to conduct research and gather insight into the needs of the workforce relating to sports or physical activity\nPlan and run a workplace health campaign\nUnderstand the elements of health and safety needed whilst planning a sport/physical activity session\nFacilitate a sport or physical activity session\n\nFollowing the course\, you will receive: \n\nA pin badge and a fully-accredited certificate within four weeks of the last day of the course\nA copy of the presentation and a resource booklet which includes useful links to further information covered in the course.\n\nYou will also have access to: \n\nMonthly ‘drop-in-clinics’\, which will support and guide you in putting your role into practice\nA Facebook group with other Workplace Health Champions\, in which there will be competitions\, updates and sharing of good news stories from across the programme\nA broader package of training to complement your role\, including refresher training\, mental health\, safeguarding etc.\nQuarterly webinars which offer discussions and information on key topics you may be experiencing as part of the role\n\nYou will be contacted by the training provider to give further information. As the course is fully funded by the European Social Fund\, you will be asked to complete some online forms in order to check eligibility. These forms should only take no longer than10 minutes to complete. The provider will also require some evidence of employment and proof to live and work in the UK.
URL:https://lscthub.co.uk/events/workplace-health-champion-training-west-lancs-3-days/
CATEGORIES:Health & Wellbeing
END:VEVENT
BEGIN:VEVENT
DTSTART;TZID=UTC:20230816T120000
DTEND;TZID=UTC:20230816T130000
DTSTAMP:20260424T104812
CREATED:20230427T172737Z
LAST-MODIFIED:20230427T172915Z
UID:32694-1692187200-1692190800@lscthub.co.uk
SUMMARY:Health and Wellbeing Champion Training
DESCRIPTION:Come join us for the L&SC PCTH Health and Wellbeing Training. \nWellbeing should be a shared value across the organisation and not owned by one person or team​ \nThis training will empower primary care organisations to create or upskill a team of employees to work alongside the Wellbeing Guardians and Wellbeing Champion Leads in the development\, delivery and improvement of wellbeing within their workplace ​ \nThe goal is to align with NHS Peoples Plan and the ICS to embed a positive culture of health across primary care ​ \n  \nThe training will be delivered by wellbeing leads and cascaded in TTT technique to champions
URL:https://lscthub.co.uk/events/health-and-wellbeing-champion-training-15/
CATEGORIES:Health & Wellbeing
END:VEVENT
BEGIN:VEVENT
DTSTART;TZID=UTC:20230815T133000
DTEND;TZID=UTC:20230815T150000
DTSTAMP:20260424T104812
CREATED:20230605T121203Z
LAST-MODIFIED:20230605T121511Z
UID:33306-1692106200-1692111600@lscthub.co.uk
SUMMARY:Wellbeing Guardian and Senior Executive Leaders –  Community Conversations Session
DESCRIPTION:What is this session? \nCommunity conversations are a virtual action learning style session to provide a space for peer support and for wellbeing guardian or a senior executive leader supporting the health and wellbeing agenda to share their lived experience. This is an opportunity to influence national policy and strategic direction. \nWho for? \nThese sessions are available to all Wellbeing Guardians and the senior organisational leaders who support them. \nWhen? \nThe next session is on Tues 15 Aug 2023\, 1:30 – 3pm. Below are the planned dates for the Community Conversations for 2023/24. \nSave the date – Community Conversations 2023/24 \n\nTues 15 Aug 2023\, 1:30 – 3pm\nTues 14 Nov 2023\, 1:30 – 3pm\nTues 13 Feb 2024\, 1:30 – 3pm\n\nHow to register? \nTo reserve your place at any of the community conversation sessions please email growing.ohwb@nhs.net stating which date’s you wish to attend.
URL:https://lscthub.co.uk/events/wellbeing-guardian-and-senior-executive-leaders-community-conversations-session/
CATEGORIES:Health & Wellbeing
END:VEVENT
BEGIN:VEVENT
DTSTART;VALUE=DATE:20230815
DTEND;VALUE=DATE:20230816
DTSTAMP:20260424T104812
CREATED:20230724T152152Z
LAST-MODIFIED:20230724T152152Z
UID:35021-1692057600-1692143999@lscthub.co.uk
SUMMARY:Workplace Health Champion Training (Rossendale) - 3 days
DESCRIPTION:Location: Chambers at The Business Centre\, Futures Park\, Rossendale\, OL13 0BB \nDates: \n\nDay 1: 15th Aug 2023\nDay 2: 22nd Aug 2023\nDay 3: 29th Aug 2023\n\nThis training is for anyone interested in Health and Wellbeing\, who can act as an advocate within their workplace. \nPlease note registration closes 1 week before first date. \nLevel 3 Award in Skills for Workplace Health Champions \nThe Level 3 course provides a deeper understanding of the practicalities of the role and includes an assessment. The first day of Level 3 course covers all of the Level 2 content. \nIf you wish to complete Level 2 only\, you only need to attend day 1. If you wish to complete level 3\, you must attend all 3 dates. Please ensure you state this when signing up. \nAfter this course you will: \n\nUnderstand different mental health conditions and how to identify them in the workplace\nUnderstand the importance of healthy eating and consider this in the context of the workplace\nDemonstrate how to conduct research and gather insight into the needs of the workforce relating to sports or physical activity\nPlan and run a workplace health campaign\nUnderstand the elements of health and safety needed whilst planning a sport/physical activity session\nFacilitate a sport or physical activity session\n\nFollowing the course\, you will receive: \n\nA pin badge and a fully-accredited certificate within four weeks of the last day of the course\nA copy of the presentation and a resource booklet which includes useful links to further information covered in the course.\n\nYou will also have access to: \n\nMonthly ‘drop-in-clinics’\, which will support and guide you in putting your role into practice\nA Facebook group with other Workplace Health Champions\, in which there will be competitions\, updates and sharing of good news stories from across the programme\nA broader package of training to complement your role\, including refresher training\, mental health\, safeguarding etc.\nQuarterly webinars which offer discussions and information on key topics you may be experiencing as part of the role\n\nYou will be contacted by the training provider to give further information. As the course is fully funded by the European Social Fund\, you will be asked to complete some online forms in order to check eligibility. These forms should only take no longer than10 minutes to complete. The provider will also require some evidence of employment and proof to live and work in the UK.
URL:https://lscthub.co.uk/events/workplace-health-champion-training-rossendale-3-days/
CATEGORIES:Health & Wellbeing
END:VEVENT
BEGIN:VEVENT
DTSTART;TZID=UTC:20230811T110000
DTEND;TZID=UTC:20230811T114500
DTSTAMP:20260424T104812
CREATED:20230725T085212Z
LAST-MODIFIED:20230726T142332Z
UID:35046-1691751600-1691754300@lscthub.co.uk
SUMMARY:Wellbeing Champions Drop-in
DESCRIPTION:Are you a voluntary Wellbeing Champion in practice? \nDo you have any burning questions for other Champions or do you have some fabulous ideas to share with other champions? \nTake some time out of your role\, for your self care. \nCome and join us for a 45 minute drop in session to share best practices or ask questions to other champions. \nThere will be opportunities to ask questions\, get involved and be supported in this session.
URL:https://lscthub.co.uk/events/wellbeing-champions-drop-in/
CATEGORIES:Health & Wellbeing
END:VEVENT
BEGIN:VEVENT
DTSTART;TZID=UTC:20230804T100000
DTEND;TZID=UTC:20230804T110000
DTSTAMP:20260424T104812
CREATED:20230427T173137Z
LAST-MODIFIED:20230427T173325Z
UID:32703-1691143200-1691146800@lscthub.co.uk
SUMMARY:Promoting Wellbeing Webinar
DESCRIPTION:For all working in primary care: Module 1 – Promoting wellbeing. \nLearning outcomes \nBy the end of this session the participant will: \n\nUnderstand the factors which contribute to wellbeing\nKnow how wellbeing can be measured\nBe aware of the steps to maintain wellbeing\nUnderstand how stress and distress can affect wellbeing • Recognise stress and distress\nBe able to proactively help people to maintain their wellbeing
URL:https://lscthub.co.uk/events/promoting-wellbeing-webinar-2/
CATEGORIES:Health & Wellbeing
END:VEVENT
BEGIN:VEVENT
DTSTART;TZID=UTC:20230725T090000
DTEND;TZID=UTC:20230725T100000
DTSTAMP:20260424T104812
CREATED:20230427T173134Z
LAST-MODIFIED:20230427T173239Z
UID:32702-1690275600-1690279200@lscthub.co.uk
SUMMARY:Wellbeing Action Plans Webinar
DESCRIPTION:Join us and learn how to create your own Action Plan for your Health and Wellbeing!
URL:https://lscthub.co.uk/events/wellbeing-action-plans-webinar-2/
CATEGORIES:Health & Wellbeing
END:VEVENT
BEGIN:VEVENT
DTSTART;TZID=UTC:20230630T090000
DTEND;TZID=UTC:20230630T100000
DTSTAMP:20260424T104812
CREATED:20230427T172715Z
LAST-MODIFIED:20230427T172850Z
UID:32693-1688115600-1688119200@lscthub.co.uk
SUMMARY:Health and Wellbeing Champion Training
DESCRIPTION:Come join us for the L&SC PCTH Health and Wellbeing Training. \nWellbeing should be a shared value across the organisation and not owned by one person or team​ \nThis training will empower primary care organisations to create or upskill a team of employees to work alongside the Wellbeing Guardians and Wellbeing Champion Leads in the development\, delivery and improvement of wellbeing within their workplace ​ \nThe goal is to align with NHS Peoples Plan and the ICS to embed a positive culture of health across primary care ​ \n  \nThe training will be delivered by wellbeing leads and cascaded in TTT technique to champions
URL:https://lscthub.co.uk/events/health-and-wellbeing-champion-training-13/
CATEGORIES:Health & Wellbeing
END:VEVENT
BEGIN:VEVENT
DTSTART;TZID=UTC:20230615T120000
DTEND;TZID=UTC:20230615T130000
DTSTAMP:20260424T104812
CREATED:20230125T193038Z
LAST-MODIFIED:20230125T193038Z
UID:29366-1686830400-1686834000@lscthub.co.uk
SUMMARY:Health and Wellbeing Champions - nutrition and mindful eating with Headspace
DESCRIPTION:Health and Wellbeing Champions development session \nFollowing the successful launch and ongoing rollout of Health and Wellbeing Champions nationally\, NHS England are committed to providing our national network of Champions with monthly development sessions focussing on key topics to enhance your knowledge and skills for the role. \nThis session will focus on: \nNutrition and mindful eating with Headspace \nIn association with Healthy Eating Week (12 – 18 June). we will be joined by our friends at Headspace who will talk you through the benefits of mindful eating. \nPlease note the Teams link will be shared 24 hours ahead of the session taking place.   We suggest in the meantime that you hold this date and time in your diary until the link is shared.  Please ensure you click the ‘reserve’ button on this page to reserve a ticket\, rather than ‘add to calendar’ to ensure you receive all of the relevant details of the session. \nQuestions about this event?\nName: Stephanie Roocroft \nEmail:stephanie.roocroft@nhs.net \nTelephone:07730382129
URL:https://lscthub.co.uk/events/health-and-wellbeing-champions-nutrition-and-mindful-eating-with-headspace/
CATEGORIES:Health & Wellbeing
END:VEVENT
BEGIN:VEVENT
DTSTART;TZID=UTC:20230525T120000
DTEND;TZID=UTC:20230525T130000
DTSTAMP:20260424T104812
CREATED:20230125T191215Z
LAST-MODIFIED:20230125T191215Z
UID:29364-1685016000-1685019600@lscthub.co.uk
SUMMARY:Health and Wellbeing Champions - Supporting colleagues with financial concerns
DESCRIPTION:Health and Wellbeing Champions development session \nFollowing the successful launch and ongoing rollout of Health and Wellbeing Champions nationally\, NHS England are committed to providing our national network of Champions with monthly development sessions focussing on key topics to enhance your knowledge and skills for the role. \nThis session will focus on: \nSupporting colleagues with financial concerns \nWe will be joined by our friends at Unmind who will talk you through the benefits of the Unmind app in supporting you through financial difficulties. \nPlease note the Teams link will be shared 24 hours ahead of the session taking place.   We suggest in the meantime that you hold this date and time in your diary until the link is shared.  Please ensure you click the ‘reserve’ button on this page to reserve a ticket\, rather than ‘add to calendar’ to ensure you receive all of the relevant details of the session. \nQuestions about this event?\nName: Stephanie Roocroft \nEmail:stephanie.roocroft@nhs.net \nTelephone:07730382129
URL:https://lscthub.co.uk/events/health-and-wellbeing-champions-supporting-colleagues-with-financial-concerns/
CATEGORIES:Health & Wellbeing
END:VEVENT
BEGIN:VEVENT
DTSTART;TZID=UTC:20230511T120000
DTEND;TZID=UTC:20230511T130000
DTSTAMP:20260424T104812
CREATED:20230125T190854Z
LAST-MODIFIED:20230125T190854Z
UID:29362-1683806400-1683810000@lscthub.co.uk
SUMMARY:Health and Wellbeing Champions - Looking after you team\, a practical guide
DESCRIPTION:Health and Wellbeing Champions development session \nFollowing the successful launch and ongoing rollout of Health and Wellbeing Champions nationally\, NHS England are committed to providing our national network of Champions with monthly development sessions focussing on key topics to enhance your knowledge and skills for the role. \nThis session will focus on: \nLooking after your team – a practical guide \nWe will be joined by colleagues from NHS England who have developed a a practical toolkit on how to support the health and wellbeing of your team. \nPlease note the Teams link will be shared 24 hours ahead of the session taking place.   We suggest in the meantime that you hold this date and time in your diary until the link is shared.  Please ensure you click the ‘reserve’ button on this page to reserve a ticket\, rather than ‘add to calendar’ to ensure you receive all of the relevant details of the session. \nQuestions about this event?\nName: Stephanie Roocroft \nEmail:stephanie.roocroft@nhs.net \nTelephone:07730382129
URL:https://lscthub.co.uk/events/health-and-wellbeing-champions-looking-after-you-team-a-practical-guide/
CATEGORIES:Health & Wellbeing
END:VEVENT
BEGIN:VEVENT
DTSTART;TZID=UTC:20230503T130000
DTEND;TZID=UTC:20230503T140000
DTSTAMP:20260424T104812
CREATED:20230208T165202Z
LAST-MODIFIED:20230208T165202Z
UID:29699-1683118800-1683122400@lscthub.co.uk
SUMMARY:Health and Wellbeing Champion Training
DESCRIPTION:Come join us for the L&SC PCTH Health and Wellbeing Training. \nWellbeing should be a shared value across the organisation and not owned by one person or team​ \nThis training will empower primary care organisations to create or upskill a team of employees to work alongside the Wellbeing Guardians and Wellbeing Champion Leads in the development\, delivery and improvement of wellbeing within their workplace ​ \nThe goal is to align with NHS Peoples Plan and the ICS to embed a positive culture of health across primary care ​ \n  \nThe training will be delivered by wellbeing leads and cascaded in TTT technique to champions
URL:https://lscthub.co.uk/events/health-and-wellbeing-champion-training-14/
CATEGORIES:Health & Wellbeing
END:VEVENT
BEGIN:VEVENT
DTSTART;TZID=UTC:20230424T100000
DTEND;TZID=UTC:20230424T110000
DTSTAMP:20260424T104812
CREATED:20221206T100258Z
LAST-MODIFIED:20221206T100258Z
UID:27761-1682330400-1682334000@lscthub.co.uk
SUMMARY:Wellbeing Action Plans Webinar
DESCRIPTION:Create your own Action Plan for your Health and Wellbeing
URL:https://lscthub.co.uk/events/wellbeing-action-plans-webinar/
CATEGORIES:Health & Wellbeing
END:VEVENT
END:VCALENDAR