BEGIN:VCALENDAR
VERSION:2.0
PRODID:-//Lancashire and South Cumbria Training Hub - ECPv6.15.20//NONSGML v1.0//EN
CALSCALE:GREGORIAN
METHOD:PUBLISH
X-WR-CALNAME:Lancashire and South Cumbria Training Hub
X-ORIGINAL-URL:https://lscthub.co.uk
X-WR-CALDESC:Events for Lancashire and South Cumbria Training Hub
REFRESH-INTERVAL;VALUE=DURATION:PT1H
X-Robots-Tag:noindex
X-PUBLISHED-TTL:PT1H
BEGIN:VTIMEZONE
TZID:Europe/London
BEGIN:DAYLIGHT
TZOFFSETFROM:+0000
TZOFFSETTO:+0100
TZNAME:BST
DTSTART:20240331T010000
END:DAYLIGHT
BEGIN:STANDARD
TZOFFSETFROM:+0100
TZOFFSETTO:+0000
TZNAME:GMT
DTSTART:20241027T010000
END:STANDARD
BEGIN:DAYLIGHT
TZOFFSETFROM:+0000
TZOFFSETTO:+0100
TZNAME:BST
DTSTART:20250330T010000
END:DAYLIGHT
BEGIN:STANDARD
TZOFFSETFROM:+0100
TZOFFSETTO:+0000
TZNAME:GMT
DTSTART:20251026T010000
END:STANDARD
BEGIN:DAYLIGHT
TZOFFSETFROM:+0000
TZOFFSETTO:+0100
TZNAME:BST
DTSTART:20260329T010000
END:DAYLIGHT
BEGIN:STANDARD
TZOFFSETFROM:+0100
TZOFFSETTO:+0000
TZNAME:GMT
DTSTART:20261025T010000
END:STANDARD
END:VTIMEZONE
BEGIN:VEVENT
DTSTART;TZID=Europe/London:20250924T130000
DTEND;TZID=Europe/London:20250924T140000
DTSTAMP:20260421T134912
CREATED:20250305T112914Z
LAST-MODIFIED:20250716T084505Z
UID:50687-1758718800-1758722400@lscthub.co.uk
SUMMARY:Women's Health Educational Sessions for GPNs
DESCRIPTION:We have arranged two educational sessions for GPNs for 2025 in women’s health with Claire Morgan form Library House who is a GPN with a Special interest in women’s health \nEach session will cover a different topic \n16th September Vaginal Dryness with Claire Morgan
URL:https://lscthub.co.uk/events/womens-health-educational-sessions-for-gpns-2/
CATEGORIES:Health & Wellbeing
ORGANIZER;CN="Lancashire and South Cumbria Primary Care Training Hub":MAILTO:mbpcc.lscthub@nhs.net
END:VEVENT
END:VCALENDAR