BEGIN:VCALENDAR
VERSION:2.0
PRODID:-//Lancashire and South Cumbria Training Hub - ECPv6.15.20//NONSGML v1.0//EN
CALSCALE:GREGORIAN
METHOD:PUBLISH
X-WR-CALNAME:Lancashire and South Cumbria Training Hub
X-ORIGINAL-URL:https://lscthub.co.uk
X-WR-CALDESC:Events for Lancashire and South Cumbria Training Hub
REFRESH-INTERVAL;VALUE=DURATION:PT1H
X-Robots-Tag:noindex
X-PUBLISHED-TTL:PT1H
BEGIN:VTIMEZONE
TZID:Europe/London
BEGIN:DAYLIGHT
TZOFFSETFROM:+0000
TZOFFSETTO:+0100
TZNAME:BST
DTSTART:20240331T010000
END:DAYLIGHT
BEGIN:STANDARD
TZOFFSETFROM:+0100
TZOFFSETTO:+0000
TZNAME:GMT
DTSTART:20241027T010000
END:STANDARD
BEGIN:DAYLIGHT
TZOFFSETFROM:+0000
TZOFFSETTO:+0100
TZNAME:BST
DTSTART:20250330T010000
END:DAYLIGHT
BEGIN:STANDARD
TZOFFSETFROM:+0100
TZOFFSETTO:+0000
TZNAME:GMT
DTSTART:20251026T010000
END:STANDARD
BEGIN:DAYLIGHT
TZOFFSETFROM:+0000
TZOFFSETTO:+0100
TZNAME:BST
DTSTART:20260329T010000
END:DAYLIGHT
BEGIN:STANDARD
TZOFFSETFROM:+0100
TZOFFSETTO:+0000
TZNAME:GMT
DTSTART:20261025T010000
END:STANDARD
END:VTIMEZONE
BEGIN:VEVENT
DTSTART;TZID=Europe/London:20250312T110000
DTEND;TZID=Europe/London:20250312T113000
DTSTAMP:20260422T005836
CREATED:20241216T105719Z
LAST-MODIFIED:20241216T105719Z
UID:48468-1741777200-1741779000@lscthub.co.uk
SUMMARY:Wellbeing Drop-In Session for wellbeing champions to gain support and to share ideas and best practice
DESCRIPTION:Are you a voluntary Wellbeing Champion in practice?\nDo you have any burning questions for other Champions or do you have some fabulous ideas to share with other champions? \n\nTake some time out of your role\, for your self care. \n\nCome and join us for a 30 minute drop in session to share best practices or ask questions to other champions. \n\nThere will be opportunities to ask questions\, get involved and be supported in this session.\n\n\nThis is an interactive session and you will be expected to interact. Please ensure you have a camera and microphone available to attend the meeting.
URL:https://lscthub.co.uk/events/wellbeing-drop-in-session-for-wellbeing-champions-to-gain-support-and-to-share-ideas-and-best-practice-3/
CATEGORIES:Health & Wellbeing
ORGANIZER;CN="Lancashire and South Cumbria Primary Care Training Hub":MAILTO:mbpcc.lscthub@nhs.net
END:VEVENT
BEGIN:VEVENT
DTSTART;TZID=Europe/London:20250312T110000
DTEND;TZID=Europe/London:20250312T113000
DTSTAMP:20260422T005836
CREATED:20250305T132503Z
LAST-MODIFIED:20250305T132503Z
UID:50698-1741777200-1741779000@lscthub.co.uk
SUMMARY:Wellbeing Drop-In Session for wellbeing champions to gain support and to share ideas and best practice
DESCRIPTION:Are you a voluntary Wellbeing Champion in practice?\nDo you have any burning questions for other Champions or do you have some fabulous ideas to share with other champions? \n\nTake some time out of your role\, for your self care. \n\nCome and join us for a 30 minute drop in session to share best practices or ask questions to other champions. \n\nThere will be opportunities to ask questions\, get involved and be supported in this session.
URL:https://lscthub.co.uk/events/wellbeing-drop-in-session-for-wellbeing-champions-to-gain-support-and-to-share-ideas-and-best-practice-4/
CATEGORIES:Health & Wellbeing
ORGANIZER;CN="Lancashire and South Cumbria Primary Care Training Hub":MAILTO:mbpcc.lscthub@nhs.net
END:VEVENT
END:VCALENDAR