BEGIN:VCALENDAR
VERSION:2.0
PRODID:-//Lancashire and South Cumbria Training Hub - ECPv6.15.20//NONSGML v1.0//EN
CALSCALE:GREGORIAN
METHOD:PUBLISH
X-ORIGINAL-URL:https://lscthub.co.uk
X-WR-CALDESC:Events for Lancashire and South Cumbria Training Hub
REFRESH-INTERVAL;VALUE=DURATION:PT1H
X-Robots-Tag:noindex
X-PUBLISHED-TTL:PT1H
BEGIN:VTIMEZONE
TZID:Europe/London
BEGIN:DAYLIGHT
TZOFFSETFROM:+0000
TZOFFSETTO:+0100
TZNAME:BST
DTSTART:20230326T010000
END:DAYLIGHT
BEGIN:STANDARD
TZOFFSETFROM:+0100
TZOFFSETTO:+0000
TZNAME:GMT
DTSTART:20231029T010000
END:STANDARD
BEGIN:DAYLIGHT
TZOFFSETFROM:+0000
TZOFFSETTO:+0100
TZNAME:BST
DTSTART:20240331T010000
END:DAYLIGHT
BEGIN:STANDARD
TZOFFSETFROM:+0100
TZOFFSETTO:+0000
TZNAME:GMT
DTSTART:20241027T010000
END:STANDARD
BEGIN:DAYLIGHT
TZOFFSETFROM:+0000
TZOFFSETTO:+0100
TZNAME:BST
DTSTART:20250330T010000
END:DAYLIGHT
BEGIN:STANDARD
TZOFFSETFROM:+0100
TZOFFSETTO:+0000
TZNAME:GMT
DTSTART:20251026T010000
END:STANDARD
END:VTIMEZONE
BEGIN:VEVENT
DTSTART;TZID=Europe/London:20241220T100000
DTEND;TZID=Europe/London:20241220T113000
DTSTAMP:20260421T195444
CREATED:20240821T102331Z
LAST-MODIFIED:20240821T102331Z
UID:46056-1734688800-1734694200@lscthub.co.uk
SUMMARY:Wellbeing Conversations Training
DESCRIPTION:What is a wellbeing conversation?\nThe NHS People Plan 2020-21 sets out an ambition: “From September 2020\, every member of the NHS should have a health and wellbeing conversation and develop a personalised plan. These conversations may fit within an appraisal\, job plan or one-to-one line management discussion\, and should be reviewed at least annually. As part of this conversation\, line managers will be expected to discuss the individual’s health and wellbeing\, and any flexible working requirements\, as well as equality\, diversity and inclusion.” \n\nVision for the wellbeing conversations\nHealth and wellbeing conversations are intended to be regular\, supportive\, coaching-style one to one conversations that focus on the wellbeing of our NHS people.\nBy encouraging organisations to embed wellbeing conversations across their system\, we aim to create cultures where people feel heard and valued\, and in which diversity is respected. This should\, in turn\, encourage us all to pass care and compassion on to each other\, to patients and to our families.\nWellbeing conversations should consider the whole wellbeing of an individual (e.g. physical\, mental\, emotional\, social\, financial\, lifestyle\, safety) and identify areas where the individual may need support\, signpost them to that support\, and regularly monitor their wellbeing over time.\n\n\nThis is an interactive session and you will be expected to interact. Please ensure you have a camera and microphone available to attend the meeting.\n\n\n\nPlaces are limited\, if you have booked a place\, please ensure you attend.\nIf you are no longer able to attend\, please cancel your place. If you are struggling with booking or cancelling your place\, please contact us.\nBy signing up you agree for your information to be stored and shared by the Training hub and with the Training Provider\, NHSE and ICB\, for the delivery of this training\, monitoring\, reporting and certification purposes only.
URL:https://lscthub.co.uk/events/wellbeing-conversations-training-6/
CATEGORIES:Health & Wellbeing
END:VEVENT
END:VCALENDAR