BEGIN:VCALENDAR
VERSION:2.0
PRODID:-//Lancashire and South Cumbria Training Hub - ECPv6.15.20//NONSGML v1.0//EN
CALSCALE:GREGORIAN
METHOD:PUBLISH
X-WR-CALNAME:Lancashire and South Cumbria Training Hub
X-ORIGINAL-URL:https://lscthub.co.uk
X-WR-CALDESC:Events for Lancashire and South Cumbria Training Hub
REFRESH-INTERVAL;VALUE=DURATION:PT1H
X-Robots-Tag:noindex
X-PUBLISHED-TTL:PT1H
BEGIN:VTIMEZONE
TZID:Europe/London
BEGIN:DAYLIGHT
TZOFFSETFROM:+0000
TZOFFSETTO:+0100
TZNAME:BST
DTSTART:20230326T010000
END:DAYLIGHT
BEGIN:STANDARD
TZOFFSETFROM:+0100
TZOFFSETTO:+0000
TZNAME:GMT
DTSTART:20231029T010000
END:STANDARD
BEGIN:DAYLIGHT
TZOFFSETFROM:+0000
TZOFFSETTO:+0100
TZNAME:BST
DTSTART:20240331T010000
END:DAYLIGHT
BEGIN:STANDARD
TZOFFSETFROM:+0100
TZOFFSETTO:+0000
TZNAME:GMT
DTSTART:20241027T010000
END:STANDARD
BEGIN:DAYLIGHT
TZOFFSETFROM:+0000
TZOFFSETTO:+0100
TZNAME:BST
DTSTART:20250330T010000
END:DAYLIGHT
BEGIN:STANDARD
TZOFFSETFROM:+0100
TZOFFSETTO:+0000
TZNAME:GMT
DTSTART:20251026T010000
END:STANDARD
END:VTIMEZONE
BEGIN:VEVENT
DTSTART;TZID=Europe/London:20241121T090000
DTEND;TZID=Europe/London:20241121T170000
DTSTAMP:20260421T181925
CREATED:20240528T141432Z
LAST-MODIFIED:20240528T141432Z
UID:43688-1732179600-1732208400@lscthub.co.uk
SUMMARY:2 Day Health Coaching Skills Programme - Morecambe
DESCRIPTION:21st November & 28th November 2024 – Venue TBC Morecambe \nHealth coaching is a supported self-management intervention and is part of the NHS Long Term Plan’s commitment to make personalised care business as usual across the health and care system.\nHealth Coaching Development of health coaching skills focuses on training health and social care staff\, voluntary sector representatives\, and carers to use health coaching skills as part of consultations or conversations.\nThis involves supporting practitioners to develop their own health coaching skills\, conversation frameworks and mind-set\, so they can use a health coaching approach in their daily role to support personalised care and encourage self-management and shared decision making. \nTo apply for a place please fill out the Health Coaching Application form Health Coaching 2-Day Training Application Form – June – Dec 2024 UPDATED  in full and send to:\nworkforcetraining@activelancashire.org.uk\nInitial confirmation of registration will be advised. Once all participants have been registered on the course a Briefing Pack and further info’s will be sent to all participants.\nAll applications are registered on a first come\, first serve basis. \nThis 2-Day Health Coaching Course is being delivered by Lancashire & South Cumbria ICB & Active Lancashire for the benefit of Lancashire & South Cumbria population\, to assist people to become more active in their own health and care. \nSee flyer here: HEALTH COACHING FLYER – JUNE – DEC 2024
URL:https://lscthub.co.uk/events/2-day-health-coaching-skills-programme-morecambe/
CATEGORIES:Health & Wellbeing,Other Training
END:VEVENT
END:VCALENDAR