BEGIN:VCALENDAR
VERSION:2.0
PRODID:-//Lancashire and South Cumbria Training Hub - ECPv6.15.20//NONSGML v1.0//EN
CALSCALE:GREGORIAN
METHOD:PUBLISH
X-WR-CALNAME:Lancashire and South Cumbria Training Hub
X-ORIGINAL-URL:https://lscthub.co.uk
X-WR-CALDESC:Events for Lancashire and South Cumbria Training Hub
REFRESH-INTERVAL;VALUE=DURATION:PT1H
X-Robots-Tag:noindex
X-PUBLISHED-TTL:PT1H
BEGIN:VTIMEZONE
TZID:Europe/London
BEGIN:DAYLIGHT
TZOFFSETFROM:+0000
TZOFFSETTO:+0100
TZNAME:BST
DTSTART:20230326T010000
END:DAYLIGHT
BEGIN:STANDARD
TZOFFSETFROM:+0100
TZOFFSETTO:+0000
TZNAME:GMT
DTSTART:20231029T010000
END:STANDARD
BEGIN:DAYLIGHT
TZOFFSETFROM:+0000
TZOFFSETTO:+0100
TZNAME:BST
DTSTART:20240331T010000
END:DAYLIGHT
BEGIN:STANDARD
TZOFFSETFROM:+0100
TZOFFSETTO:+0000
TZNAME:GMT
DTSTART:20241027T010000
END:STANDARD
BEGIN:DAYLIGHT
TZOFFSETFROM:+0000
TZOFFSETTO:+0100
TZNAME:BST
DTSTART:20250330T010000
END:DAYLIGHT
BEGIN:STANDARD
TZOFFSETFROM:+0100
TZOFFSETTO:+0000
TZNAME:GMT
DTSTART:20251026T010000
END:STANDARD
END:VTIMEZONE
BEGIN:VEVENT
DTSTART;TZID=Europe/London:20241014T133000
DTEND;TZID=Europe/London:20241014T143000
DTSTAMP:20260421T183731
CREATED:20240821T101826Z
LAST-MODIFIED:20240924T140552Z
UID:46052-1728912600-1728916200@lscthub.co.uk
SUMMARY:Supporting You! Wellbeing Champion Virtual Workshop
DESCRIPTION:We are hosting a virtual workshop for all of our Champions \nYou will get to meet all of your locality leads and we have 2 bitesize sessions on Vitamins and Eye care\nAs the name of the event suggests this is also a time for you to tell us what you want!\nThis will be an interactive session where you will be working in breakout groups so\, please ensure you have a camera and microphone   \n\n\n\n\n\nPlaces are limited\, if you have booked a place\, please ensure you attend.\nIf you are no longer able to attend\, please cancel your place. If you are struggling with booking or cancelling your place\, please contact us.\nBy signing up you agree for your information to be stored and shared by the Training hub and with the Training Provider\, NHSE and ICB\, for the delivery of this training\, monitoring\, reporting and certification purposes only.
URL:https://lscthub.co.uk/events/supporting-you-wellbeing-champion-virtual-workshop/
CATEGORIES:Health & Wellbeing
END:VEVENT
END:VCALENDAR