BEGIN:VCALENDAR
VERSION:2.0
PRODID:-//Lancashire and South Cumbria Training Hub - ECPv6.15.20//NONSGML v1.0//EN
CALSCALE:GREGORIAN
METHOD:PUBLISH
X-ORIGINAL-URL:https://lscthub.co.uk
X-WR-CALDESC:Events for Lancashire and South Cumbria Training Hub
REFRESH-INTERVAL;VALUE=DURATION:PT1H
X-Robots-Tag:noindex
X-PUBLISHED-TTL:PT1H
BEGIN:VTIMEZONE
TZID:Europe/London
BEGIN:DAYLIGHT
TZOFFSETFROM:+0000
TZOFFSETTO:+0100
TZNAME:BST
DTSTART:20230326T010000
END:DAYLIGHT
BEGIN:STANDARD
TZOFFSETFROM:+0100
TZOFFSETTO:+0000
TZNAME:GMT
DTSTART:20231029T010000
END:STANDARD
BEGIN:DAYLIGHT
TZOFFSETFROM:+0000
TZOFFSETTO:+0100
TZNAME:BST
DTSTART:20240331T010000
END:DAYLIGHT
BEGIN:STANDARD
TZOFFSETFROM:+0100
TZOFFSETTO:+0000
TZNAME:GMT
DTSTART:20241027T010000
END:STANDARD
BEGIN:DAYLIGHT
TZOFFSETFROM:+0000
TZOFFSETTO:+0100
TZNAME:BST
DTSTART:20250330T010000
END:DAYLIGHT
BEGIN:STANDARD
TZOFFSETFROM:+0100
TZOFFSETTO:+0000
TZNAME:GMT
DTSTART:20251026T010000
END:STANDARD
END:VTIMEZONE
BEGIN:VEVENT
DTSTART;TZID=Europe/London:20241011T120000
DTEND;TZID=Europe/London:20241011T130000
DTSTAMP:20260421T170642
CREATED:20240305T100832Z
LAST-MODIFIED:20240305T100832Z
UID:41653-1728648000-1728651600@lscthub.co.uk
SUMMARY:5 Ways to Wellbeing: Wellbeing Webinar
DESCRIPTION:NHS supports the evidenced-based 5 ways to improve mental health and wellbeing:\n\nConnect. Feeling close to\, and valued by\, other people\nBe Active\nTake Notice. Being aware of what is taking place in the present\nLearn\nGive\n\n\n\n\nThis is an interactive session and you will be expected to interact. Please ensure you have a camera and microphone available to attend the meeting.
URL:https://lscthub.co.uk/events/5-ways-to-wellbeing-wellbeing-webinar/
CATEGORIES:Health & Wellbeing
END:VEVENT
END:VCALENDAR