BEGIN:VCALENDAR
VERSION:2.0
PRODID:-//Lancashire and South Cumbria Training Hub - ECPv6.15.20//NONSGML v1.0//EN
CALSCALE:GREGORIAN
METHOD:PUBLISH
X-WR-CALNAME:Lancashire and South Cumbria Training Hub
X-ORIGINAL-URL:https://lscthub.co.uk
X-WR-CALDESC:Events for Lancashire and South Cumbria Training Hub
REFRESH-INTERVAL;VALUE=DURATION:PT1H
X-Robots-Tag:noindex
X-PUBLISHED-TTL:PT1H
BEGIN:VTIMEZONE
TZID:Europe/London
BEGIN:DAYLIGHT
TZOFFSETFROM:+0000
TZOFFSETTO:+0100
TZNAME:BST
DTSTART:20230326T010000
END:DAYLIGHT
BEGIN:STANDARD
TZOFFSETFROM:+0100
TZOFFSETTO:+0000
TZNAME:GMT
DTSTART:20231029T010000
END:STANDARD
BEGIN:DAYLIGHT
TZOFFSETFROM:+0000
TZOFFSETTO:+0100
TZNAME:BST
DTSTART:20240331T010000
END:DAYLIGHT
BEGIN:STANDARD
TZOFFSETFROM:+0100
TZOFFSETTO:+0000
TZNAME:GMT
DTSTART:20241027T010000
END:STANDARD
BEGIN:DAYLIGHT
TZOFFSETFROM:+0000
TZOFFSETTO:+0100
TZNAME:BST
DTSTART:20250330T010000
END:DAYLIGHT
BEGIN:STANDARD
TZOFFSETFROM:+0100
TZOFFSETTO:+0000
TZNAME:GMT
DTSTART:20251026T010000
END:STANDARD
END:VTIMEZONE
BEGIN:VEVENT
DTSTART;TZID=Europe/London:20240607T123000
DTEND;TZID=Europe/London:20240607T130000
DTSTAMP:20260421T110906
CREATED:20240604T094656Z
LAST-MODIFIED:20240604T094656Z
UID:43783-1717763400-1717765200@lscthub.co.uk
SUMMARY:Launch of the Big Green Week!
DESCRIPTION:The Great Big Green Week 8th-16th June 2024:  All on-line events will take place 12.30-1pm \nCome along and meet Dr Sarah Hopkins\, the ICB’s Clinical Lead for sustainability. \nFind out why she is so passionate about the NHS green agenda and what you can do to reduce your carbon footprint. \nhttps://gbr01.safelinks.protection.outlook.com/ap/t-59584e83/?url=https%3A%2F%2Fteams.microsoft.com%2Fl%2Fmeetup-join%2F19%253ameeting_MWE2ZjU4YjctZmJkMS00ODRlLTk3MzEtYzM0MDNkOTNkNDA4%2540thread.v2%2F0%3Fcontext%3D%257b%2522Tid%2522%253a%252237c354b2-85b0-47f5-b222-07b48d774ee3%2522%252c%2522Oid%2522%253a%252274ab7718-87c0-4473-96f3-b1b7a36b005c%2522%257d&data=05%7C02%7Cmbpcc.lscthub%40nhs.net%7C2f49a8b3cd9a43f98c0e08dc83afe22f%7C37c354b285b047f5b22207b48d774ee3%7C0%7C0%7C638530038657909139%7CUnknown%7CTWFpbGZsb3d8eyJWIjoiMC4wLjAwMDAiLCJQIjoiV2luMzIiLCJBTiI6Ik1haWwiLCJXVCI6Mn0%3D%7C0%7C%7C%7C&sdata=dmKDUeUeuQ70ocmqdiy90x3OfxdC7egJ3RA1Soavdps%3D&reserved=0
URL:https://lscthub.co.uk/events/launch-of-the-big-green-week/
CATEGORIES:General Events,Health & Wellbeing,Non-Clinical Staff Training,Other Training
END:VEVENT
END:VCALENDAR