BEGIN:VCALENDAR
VERSION:2.0
PRODID:-//Lancashire and South Cumbria Training Hub - ECPv6.15.20//NONSGML v1.0//EN
CALSCALE:GREGORIAN
METHOD:PUBLISH
X-WR-CALNAME:Lancashire and South Cumbria Training Hub
X-ORIGINAL-URL:https://lscthub.co.uk
X-WR-CALDESC:Events for Lancashire and South Cumbria Training Hub
REFRESH-INTERVAL;VALUE=DURATION:PT1H
X-Robots-Tag:noindex
X-PUBLISHED-TTL:PT1H
BEGIN:VTIMEZONE
TZID:UTC
BEGIN:STANDARD
TZOFFSETFROM:+0000
TZOFFSETTO:+0000
TZNAME:UTC
DTSTART:20220101T000000
END:STANDARD
END:VTIMEZONE
BEGIN:VEVENT
DTSTART;TZID=UTC:20230725T090000
DTEND;TZID=UTC:20230725T100000
DTSTAMP:20260421T110835
CREATED:20230427T173134Z
LAST-MODIFIED:20230427T173239Z
UID:32702-1690275600-1690279200@lscthub.co.uk
SUMMARY:Wellbeing Action Plans Webinar
DESCRIPTION:Join us and learn how to create your own Action Plan for your Health and Wellbeing!
URL:https://lscthub.co.uk/events/wellbeing-action-plans-webinar-2/
CATEGORIES:Health & Wellbeing
END:VEVENT
END:VCALENDAR