BEGIN:VCALENDAR
VERSION:2.0
PRODID:-//Lancashire and South Cumbria Training Hub - ECPv6.15.20//NONSGML v1.0//EN
CALSCALE:GREGORIAN
METHOD:PUBLISH
X-ORIGINAL-URL:https://lscthub.co.uk
X-WR-CALDESC:Events for Lancashire and South Cumbria Training Hub
REFRESH-INTERVAL;VALUE=DURATION:PT1H
X-Robots-Tag:noindex
X-PUBLISHED-TTL:PT1H
BEGIN:VTIMEZONE
TZID:Europe/London
BEGIN:DAYLIGHT
TZOFFSETFROM:+0000
TZOFFSETTO:+0100
TZNAME:BST
DTSTART:20240331T010000
END:DAYLIGHT
BEGIN:STANDARD
TZOFFSETFROM:+0100
TZOFFSETTO:+0000
TZNAME:GMT
DTSTART:20241027T010000
END:STANDARD
BEGIN:DAYLIGHT
TZOFFSETFROM:+0000
TZOFFSETTO:+0100
TZNAME:BST
DTSTART:20250330T010000
END:DAYLIGHT
BEGIN:STANDARD
TZOFFSETFROM:+0100
TZOFFSETTO:+0000
TZNAME:GMT
DTSTART:20251026T010000
END:STANDARD
BEGIN:DAYLIGHT
TZOFFSETFROM:+0000
TZOFFSETTO:+0100
TZNAME:BST
DTSTART:20260329T010000
END:DAYLIGHT
BEGIN:STANDARD
TZOFFSETFROM:+0100
TZOFFSETTO:+0000
TZNAME:GMT
DTSTART:20261025T010000
END:STANDARD
END:VTIMEZONE
BEGIN:VEVENT
DTSTART;TZID=Europe/London:20250902T130000
DTEND;TZID=Europe/London:20250902T140000
DTSTAMP:20260421T104930
CREATED:20250708T100549Z
LAST-MODIFIED:20250708T100549Z
UID:53223-1756818000-1756821600@lscthub.co.uk
SUMMARY:Health and Wellbeing Champion Training
DESCRIPTION:Wellbeing should be a shared value across the organisation and not owned by one person or team​\nThis training will empower primary care organisations to create or upskill a team of employees to work alongside the Wellbeing Guardians and Wellbeing Champion Leads in the development\, delivery and improvement of well-being within their workplace. \n\nThe goal is to align with the NHS Peoples Plan and the ICS to embed a positive culture of health across primary care ​ \n\nThe training will be delivered by well-being leads and cascaded in TTT technique to champions
URL:https://lscthub.co.uk/events/health-and-wellbeing-champion-training-25/
CATEGORIES:Health & Wellbeing
END:VEVENT
BEGIN:VEVENT
DTSTART;TZID=Europe/London:20250903T110000
DTEND;TZID=Europe/London:20250903T120000
DTSTAMP:20260421T104930
CREATED:20250708T101120Z
LAST-MODIFIED:20250708T101120Z
UID:53229-1756897200-1756900800@lscthub.co.uk
SUMMARY:Wellbeing techniques
DESCRIPTION:Join us and learn how to create your own events using Health and Wellbeing resources\n\n\nThis is an interactive session and you will be expected to interact. Please ensure you have a camera and microphone available to attend the meeting.\n\n\n\nPlaces are limited\, if you have booked a place\, please ensure you attend.\nIf you are no longer able to attend\, please cancel your place. If you are struggling with booking or cancelling your place\, please contact us.\nBy signing up you agree for your information to be stored and shared by the Training hub and with the Training Provider\, NHSE and ICB\, for the delivery of this training\, monitoring\, reporting and certification purposes only.
URL:https://lscthub.co.uk/events/wellbeing-techniques-3/
CATEGORIES:Health & Wellbeing
END:VEVENT
BEGIN:VEVENT
DTSTART;TZID=Europe/London:20250924T130000
DTEND;TZID=Europe/London:20250924T140000
DTSTAMP:20260421T104930
CREATED:20250305T112914Z
LAST-MODIFIED:20250716T084505Z
UID:50687-1758718800-1758722400@lscthub.co.uk
SUMMARY:Women's Health Educational Sessions for GPNs
DESCRIPTION:We have arranged two educational sessions for GPNs for 2025 in women’s health with Claire Morgan form Library House who is a GPN with a Special interest in women’s health \nEach session will cover a different topic \n16th September Vaginal Dryness with Claire Morgan
URL:https://lscthub.co.uk/events/womens-health-educational-sessions-for-gpns-2/
CATEGORIES:Health & Wellbeing
ORGANIZER;CN="Lancashire and South Cumbria Primary Care Training Hub":MAILTO:mbpcc.lscthub@nhs.net
END:VEVENT
END:VCALENDAR