BEGIN:VCALENDAR
VERSION:2.0
PRODID:-//Lancashire and South Cumbria Training Hub - ECPv6.15.20//NONSGML v1.0//EN
CALSCALE:GREGORIAN
METHOD:PUBLISH
X-WR-CALNAME:Lancashire and South Cumbria Training Hub
X-ORIGINAL-URL:https://lscthub.co.uk
X-WR-CALDESC:Events for Lancashire and South Cumbria Training Hub
REFRESH-INTERVAL;VALUE=DURATION:PT1H
X-Robots-Tag:noindex
X-PUBLISHED-TTL:PT1H
BEGIN:VTIMEZONE
TZID:Europe/London
BEGIN:DAYLIGHT
TZOFFSETFROM:+0000
TZOFFSETTO:+0100
TZNAME:BST
DTSTART:20230326T010000
END:DAYLIGHT
BEGIN:STANDARD
TZOFFSETFROM:+0100
TZOFFSETTO:+0000
TZNAME:GMT
DTSTART:20231029T010000
END:STANDARD
BEGIN:DAYLIGHT
TZOFFSETFROM:+0000
TZOFFSETTO:+0100
TZNAME:BST
DTSTART:20240331T010000
END:DAYLIGHT
BEGIN:STANDARD
TZOFFSETFROM:+0100
TZOFFSETTO:+0000
TZNAME:GMT
DTSTART:20241027T010000
END:STANDARD
BEGIN:DAYLIGHT
TZOFFSETFROM:+0000
TZOFFSETTO:+0100
TZNAME:BST
DTSTART:20250330T010000
END:DAYLIGHT
BEGIN:STANDARD
TZOFFSETFROM:+0100
TZOFFSETTO:+0000
TZNAME:GMT
DTSTART:20251026T010000
END:STANDARD
END:VTIMEZONE
BEGIN:VEVENT
DTSTART;TZID=Europe/London:20240906T120000
DTEND;TZID=Europe/London:20240906T130000
DTSTAMP:20260421T121744
CREATED:20240821T100715Z
LAST-MODIFIED:20240821T100715Z
UID:46045-1725624000-1725627600@lscthub.co.uk
SUMMARY:Promoting Wellbeing: Wellbeing Webinar
DESCRIPTION:Learning outcomes\nBy the end of this session the participant will:\n\nUnderstand the factors which contribute to wellbeing\nKnow how wellbeing can be measured\nBe aware of the steps to maintain wellbeing\nUnderstand how stress and distress can affect wellbeing • Recognise stress and distress\nBe able to proactively help people to maintain their wellbeing\n\n\n\n\nThis is an interactive session and you will be expected to interact. Please ensure you have a camera and microphone available to attend the meeting.\n\n\n\nPlaces are limited\, if you have booked a place\, please ensure you attend.\nIf you are no longer able to attend\, please cancel your place. If you are struggling with booking or cancelling your place\, please contact us.\nBy signing up you agree for your information to be stored and shared by the Training hub and with the Training Provider\, NHSE and ICB\, for the delivery of this training\, monitoring\, reporting and certification purposes only.
URL:https://lscthub.co.uk/events/promoting-wellbeing-wellbeing-webinar-2/
CATEGORIES:Health & Wellbeing
END:VEVENT
BEGIN:VEVENT
DTSTART;TZID=Europe/London:20240916T123000
DTEND;TZID=Europe/London:20240916T131500
DTSTAMP:20260421T121744
CREATED:20240819T100616Z
LAST-MODIFIED:20240819T100616Z
UID:45927-1726489800-1726492500@lscthub.co.uk
SUMMARY:Menopause Drop in Session
DESCRIPTION:We are hosting two menopause drop in sessions to offer a support network to those experiencing menopausal symptoms or who are going through the menopause. \n\nThis is not a formal session but just a drop in to chat and share experiences; good or bad. \nWe are delighted to be joined by Claire Morgan (GPN) from Library House Surgery who has a special interest in women’s health \n\n\nThere will be opportunities to ask questions\, get involved and be supported in this session.\n\n\nThis is an interactive session and you will be expected to interact. Please ensure you have a camera and microphone available to attend the meeting.\n\n\n\nPlaces are limited\, if you have booked a place\, please ensure you attend.\nIf you are no longer able to attend\, please cancel your place. If you are struggling with booking or cancelling your place\, please contact us.\nBy signing up you agree for your information to be stored and shared by the Training hub and with the Training Provider\, NHSE and ICB\, for the delivery of this training\, monitoring\, reporting and certification purposes only.
URL:https://lscthub.co.uk/events/menopause-drop-in-session/
CATEGORIES:Health & Wellbeing
END:VEVENT
BEGIN:VEVENT
DTSTART;TZID=Europe/London:20240919T090000
DTEND;TZID=Europe/London:20240919T170000
DTSTAMP:20260421T121744
CREATED:20240604T092815Z
LAST-MODIFIED:20240604T094107Z
UID:43770-1726736400-1726765200@lscthub.co.uk
SUMMARY:MECC Train the Trainer Chat to Change 1 Day Face to Face Course Wigan
DESCRIPTION:Free MECC Train the Trainer Chat to Change 1 Day Face to Face Course – Thurs 19th September – Nuvenu Conf Centre\, Wigan \nMaking Every Contact Count (MECC) is the opportunistic delivery of consistent and concise healthy lifestyle\ninformation via brief or very brief behaviour change interventions\, enabling individuals to engage in\nconversations about their health at scale across organisations and populations.\nColleagues who work across health and care within the NHS\, local authority and voluntary sectors have\nthousands of contacts every day with individuals and are ideally placed to support health and wellbeing.\nMECC provides an opportunity to discuss health and wellbeing lifestyle pathways which can support and\nenable behaviour change for key risk factors including smoking\, alcohol\, healthy eating\, weight\, physical\nactivity\, hypertension and mental health.\nUsing your day to day contact with individuals as an opportunity to encourage and deliver key health\nmessages to improve their physical and emotional wellbeing\, small changes can be made.\nPeople cannot be forced to change\, but by using opportunities for raising the issue of a healthy lifestyle in\na non- judgemental way\, people’s awareness\, confidence and motivation to make changes in their lives may occur\nfrom a brief conversation. \nWho is MECC TTT training aimed at?\nMaking Every Contact Count (MECC) is an approach to improving the health of the population that everyone can\nuse\, it is not restricted to one person\, specific profession or organisation. It is aimed at giving staff from a wide\nrange of organisations the skills they need to encourage individuals to make choices that will prevent illness and\nimprove their lifestyles and wellbeing \nFor Lancashire & S Cumbria organisations\, MECC can provide staff with the leadership\, environment\, training\nand information they need to deliver the MECC approach.\nFor staff\, MECC means having the competence and\nconfidence to deliver health and wellbeing messages\, to help to encourage people to change their behaviour\,\ndirecting them to local services that can support them.\nJuly – Dec 2024 – MECC 1-Day TTT Course Dates\nArrival 09.15\, start 09.30\, finish 4.30pm\n20 x places available per TTT course\nFace to Face\nMECC TTT FLYER – JULY – DEC 2024\nCourse Requirements:\nThe MECC 1 Day is a Chat to Change ‘Train the Trainer\ncourse’.\n We recommend wherever possible that all\nparticipants try to complete a MECC online elearning session in advance of attending the\nMECC face to face course (This link is sent out as\npart of your course info’s)\n Complete a pre-course and post-course selfevaluation. This is a link sent out to all\nparticipants and takes no longer than 4 minutes\nto complete for each evaluation. (This link is sent\nout as part of your course info’s and after your\ncourse has been completed)\n Attend any Train the Trainer modules that are\nadvertised by ourselves.\n Once your 1 day TTT training is complete we ask\nyou to deliver a minimum of x 6 MECC sessions\nper year\, in order to embed the MECC approach\nwithin your own organisation/community or\nthird-sector.\nThis could be either a 7 minute brief\nintervention\, a 1 hour or a 3 hour MECC session.\nThese sessions can be delivered in a variety of\nways such as at team meetings\, 1:1 discussions\nwith colleagues\, group chat etc.\n Attend a half day follow-up workshop (approx. 6\nmonths post-training- where possible)\n Contribute to monitoring and evaluation of the\nprogramme on request including submitting\nnumbers and dates of any MECC training you\nhave delivered to the workforce/ community.\nThis would be requested every 3-6 months and\ntakes no longer than a few minutes to complete.\nCourse Registration:\nTo apply for a place on the 1-day MECC Train the Trainer\ncourse please fill out the attached application form in full MECC TTT Chat to Change 1-Day Training Application Form – July – Dec 2024\nand send to:\nworkforcetraining@activelancashire.org.uk
URL:https://lscthub.co.uk/events/mecc-train-the-trainer-chat-to-change-1-day-face-to-face-course-wigan/
CATEGORIES:Health & Wellbeing
END:VEVENT
BEGIN:VEVENT
DTSTART;TZID=Europe/London:20240920T103000
DTEND;TZID=Europe/London:20240920T113000
DTSTAMP:20260421T121744
CREATED:20240821T103426Z
LAST-MODIFIED:20240821T103426Z
UID:46062-1726828200-1726831800@lscthub.co.uk
SUMMARY:Health and Wellbeing Champion Training
DESCRIPTION:Come join us for the L&SC PCTH Health and Wellbeing Training. \nWellbeing should be a shared value across the organisation and not owned by one person or team​\nThis training will empower primary care organisations to create or upskill a team of employees to work alongside the Wellbeing Guardians and Wellbeing Champion Leads in the development\, delivery and improvement of well-being within their workplace. \n\nThe goal is to align with the NHS Peoples Plan and the ICS to embed a positive culture of health across primary care ​ \n\nThe training will be delivered by well-being leads and cascaded in TTT technique to champions\n\n\nThis is an interactive session and you will be expected to interact. Please ensure you have a camera and microphone available to attend the meeting.\n\n\n\nPlaces are limited\, if you have booked a place\, please ensure you attend.\nIf you are no longer able to attend\, please cancel your place. If you are struggling with booking or cancelling your place\, please contact us.\nBy signing up you agree for your information to be stored and shared by the Training hub and with the Training Provider\, NHSE and ICB\, for the delivery of this training\, monitoring\, reporting and certification purposes only.
URL:https://lscthub.co.uk/events/health-and-wellbeing-champion-training-18/
CATEGORIES:Health & Wellbeing
END:VEVENT
END:VCALENDAR