BEGIN:VCALENDAR
VERSION:2.0
PRODID:-//Lancashire and South Cumbria Training Hub - ECPv6.15.20//NONSGML v1.0//EN
CALSCALE:GREGORIAN
METHOD:PUBLISH
X-WR-CALNAME:Lancashire and South Cumbria Training Hub
X-ORIGINAL-URL:https://lscthub.co.uk
X-WR-CALDESC:Events for Lancashire and South Cumbria Training Hub
REFRESH-INTERVAL;VALUE=DURATION:PT1H
X-Robots-Tag:noindex
X-PUBLISHED-TTL:PT1H
BEGIN:VTIMEZONE
TZID:Europe/London
BEGIN:DAYLIGHT
TZOFFSETFROM:+0000
TZOFFSETTO:+0100
TZNAME:BST
DTSTART:20230326T010000
END:DAYLIGHT
BEGIN:STANDARD
TZOFFSETFROM:+0100
TZOFFSETTO:+0000
TZNAME:GMT
DTSTART:20231029T010000
END:STANDARD
BEGIN:DAYLIGHT
TZOFFSETFROM:+0000
TZOFFSETTO:+0100
TZNAME:BST
DTSTART:20240331T010000
END:DAYLIGHT
BEGIN:STANDARD
TZOFFSETFROM:+0100
TZOFFSETTO:+0000
TZNAME:GMT
DTSTART:20241027T010000
END:STANDARD
BEGIN:DAYLIGHT
TZOFFSETFROM:+0000
TZOFFSETTO:+0100
TZNAME:BST
DTSTART:20250330T010000
END:DAYLIGHT
BEGIN:STANDARD
TZOFFSETFROM:+0100
TZOFFSETTO:+0000
TZNAME:GMT
DTSTART:20251026T010000
END:STANDARD
END:VTIMEZONE
BEGIN:VEVENT
DTSTART;TZID=Europe/London:20240718T130000
DTEND;TZID=Europe/London:20240718T134500
DTSTAMP:20260422T081326
CREATED:20240708T113848Z
LAST-MODIFIED:20240708T113848Z
UID:44725-1721307600-1721310300@lscthub.co.uk
SUMMARY:Community pharmacy technician advancing your role information webinar
DESCRIPTION:Extended until March 2025\, the CPPE Community pharmacy technician: advancing your role is a fully funded learning programme designed to help community pharmacy technicians develop the skills and confidence to support the delivery of effective clinical services in community pharmacy.  It guides pharmacy technicians to reflect upon their existing transferable skills and identify development needs to support the readiness for advancing their role in practice to support service delivery.\n\nCPPE are running a live webinar to provide more information and answer any questions you may have on the Community pharmacy technician: advancing your role programme\n\n\nRegister in advance for this webinar:\nhttps://cppe.zoom.us/webinar/register/WN_ppnktJDTQMavxEJXE8NCpg\n\nIf you have any questions\, please email info@cppe.ac.uk\n\n\n\n\n\nThe webinar is being directed at pharmacy technicians\, however\, supporting pharmacists\, line managers and employers may also wish to attend.
URL:https://lscthub.co.uk/events/community-pharmacy-technician-advancing-your-role-information-webinar/
LOCATION:Online event
CATEGORIES:General Events
END:VEVENT
END:VCALENDAR