BEGIN:VCALENDAR
VERSION:2.0
PRODID:-//Lancashire and South Cumbria Training Hub - ECPv6.15.20//NONSGML v1.0//EN
CALSCALE:GREGORIAN
METHOD:PUBLISH
X-ORIGINAL-URL:https://lscthub.co.uk
X-WR-CALDESC:Events for Lancashire and South Cumbria Training Hub
REFRESH-INTERVAL;VALUE=DURATION:PT1H
X-Robots-Tag:noindex
X-PUBLISHED-TTL:PT1H
BEGIN:VTIMEZONE
TZID:Europe/London
BEGIN:DAYLIGHT
TZOFFSETFROM:+0000
TZOFFSETTO:+0100
TZNAME:BST
DTSTART:20230326T010000
END:DAYLIGHT
BEGIN:STANDARD
TZOFFSETFROM:+0100
TZOFFSETTO:+0000
TZNAME:GMT
DTSTART:20231029T010000
END:STANDARD
BEGIN:DAYLIGHT
TZOFFSETFROM:+0000
TZOFFSETTO:+0100
TZNAME:BST
DTSTART:20240331T010000
END:DAYLIGHT
BEGIN:STANDARD
TZOFFSETFROM:+0100
TZOFFSETTO:+0000
TZNAME:GMT
DTSTART:20241027T010000
END:STANDARD
BEGIN:DAYLIGHT
TZOFFSETFROM:+0000
TZOFFSETTO:+0100
TZNAME:BST
DTSTART:20250330T010000
END:DAYLIGHT
BEGIN:STANDARD
TZOFFSETFROM:+0100
TZOFFSETTO:+0000
TZNAME:GMT
DTSTART:20251026T010000
END:STANDARD
END:VTIMEZONE
BEGIN:VEVENT
DTSTART;TZID=Europe/London:20240624T133000
DTEND;TZID=Europe/London:20240624T140000
DTSTAMP:20260422T095314
CREATED:20240409T133253Z
LAST-MODIFIED:20240409T133253Z
UID:42610-1719235800-1719237600@lscthub.co.uk
SUMMARY:Preceptorship Webinar
DESCRIPTION:The Webinar will include: \n  \n\nIntroduction to the L&SC PCTH Legacy Mentor\nNational Preceptorship Programme and Principles\nInformation about the Preceptorship Programme\nPreceptorship Programme for Preceptees\nDevelopment and training of Preceptors\nQuestions and answers
URL:https://lscthub.co.uk/events/preceptorship-webinar-23/
CATEGORIES:General Events
ORGANIZER;CN="Lancashire and South Cumbria Primary Care Training Hub":MAILTO:mbpcc.lscthub@nhs.net
END:VEVENT
BEGIN:VEVENT
DTSTART;TZID=Europe/London:20240624T150000
DTEND;TZID=Europe/London:20240624T160000
DTSTAMP:20260422T095314
CREATED:20240228T134739Z
LAST-MODIFIED:20240228T134739Z
UID:41574-1719241200-1719244800@lscthub.co.uk
SUMMARY:Mentor Peer Support Session - Open Session
DESCRIPTION:This is an open sessions where you will have the opportunity to pose any questions or queries you may have as well as have an open discussion with Lead Mentors\, Derren Bailey and Yvonne Thomson. \n\nThis is an interactive session and you will be expected to interact. Please ensure you have a camera and microphone available to attend the meeting.\n\n\nPlaces are limited\, if you have booked a place\, please ensure you attend.\nIf you are no longer able to attend\, please cancel your place. If you are struggling with booking or cancelling your place\, please contact us.\nBy signing up you agree for your information to be stored and shared by the Training hub and with the Training Provider\, NHSE and HEE\, for the delivery of this training\, monitoring\, reporting and certification purposes only.\n\nThis event is by invitation only and is intended for mentors currently enrolled on our mentor / coach programme.
URL:https://lscthub.co.uk/events/mentor-peer-support-session-open-session/
CATEGORIES:General Events
END:VEVENT
END:VCALENDAR