BEGIN:VCALENDAR
VERSION:2.0
PRODID:-//Lancashire and South Cumbria Training Hub - ECPv6.15.20//NONSGML v1.0//EN
CALSCALE:GREGORIAN
METHOD:PUBLISH
X-WR-CALNAME:Lancashire and South Cumbria Training Hub
X-ORIGINAL-URL:https://lscthub.co.uk
X-WR-CALDESC:Events for Lancashire and South Cumbria Training Hub
REFRESH-INTERVAL;VALUE=DURATION:PT1H
X-Robots-Tag:noindex
X-PUBLISHED-TTL:PT1H
BEGIN:VTIMEZONE
TZID:Europe/London
BEGIN:DAYLIGHT
TZOFFSETFROM:+0000
TZOFFSETTO:+0100
TZNAME:BST
DTSTART:20230326T010000
END:DAYLIGHT
BEGIN:STANDARD
TZOFFSETFROM:+0100
TZOFFSETTO:+0000
TZNAME:GMT
DTSTART:20231029T010000
END:STANDARD
BEGIN:DAYLIGHT
TZOFFSETFROM:+0000
TZOFFSETTO:+0100
TZNAME:BST
DTSTART:20240331T010000
END:DAYLIGHT
BEGIN:STANDARD
TZOFFSETFROM:+0100
TZOFFSETTO:+0000
TZNAME:GMT
DTSTART:20241027T010000
END:STANDARD
BEGIN:DAYLIGHT
TZOFFSETFROM:+0000
TZOFFSETTO:+0100
TZNAME:BST
DTSTART:20250330T010000
END:DAYLIGHT
BEGIN:STANDARD
TZOFFSETFROM:+0100
TZOFFSETTO:+0000
TZNAME:GMT
DTSTART:20251026T010000
END:STANDARD
END:VTIMEZONE
BEGIN:VEVENT
DTSTART;VALUE=DATE:20240613
DTEND;VALUE=DATE:20240615
DTSTAMP:20260422T130258
CREATED:20240118T090618Z
LAST-MODIFIED:20240118T090618Z
UID:39942-1718236800-1718409599@lscthub.co.uk
SUMMARY:NHS ConfedExpo (Manchester)
DESCRIPTION:Taking place on the 12 and 13 June 2024 at Manchester Central. This event will once again bring together health and care leaders and their teams for two days of inspiring sessions\, shared learning\, and valuable networking opportunities. Register your interest and be among the first to receive registration details when bookings open in a few weeks’ time. \nNHS\, local authority and wider public sector staff will be eligible for a free ticket
URL:https://lscthub.co.uk/events/nhs-confedexpo-manchester/
CATEGORIES:General Events
END:VEVENT
BEGIN:VEVENT
DTSTART;TZID=Europe/London:20240614T123000
DTEND;TZID=Europe/London:20240614T130000
DTSTAMP:20260422T130258
CREATED:20240604T101356Z
LAST-MODIFIED:20240604T101356Z
UID:43793-1718368200-1718370000@lscthub.co.uk
SUMMARY:Active Travel Part of the Big Green Week!
DESCRIPTION:We need to reduce the number of single occupancy cars to reduce pollution and congestion! Active travel is about walking or cycling instead of getting in the car.  Blackpool Teaching Hospital will tell us about Peddle Power and Julie will walk us through the ICB cycle challenge. \nhttps://gbr01.safelinks.protection.outlook.com/ap/t-59584e83/?url=https%3A%2F%2Fteams.microsoft.com%2Fl%2Fmeetup-join%2F19%253ameeting_MWY1N2MyZjItYTEzNS00MGIzLTllNmEtMDVhMWNkZjZlYWI4%2540thread.v2%2F0%3Fcontext%3D%257b%2522Tid%2522%253a%252237c354b2-85b0-47f5-b222-07b48d774ee3%2522%252c%2522Oid%2522%253a%252274ab7718-87c0-4473-96f3-b1b7a36b005c%2522%257d&data=05%7C02%7Cmbpcc.lscthub%40nhs.net%7C2f49a8b3cd9a43f98c0e08dc83afe22f%7C37c354b285b047f5b22207b48d774ee3%7C0%7C0%7C638530038657949166%7CUnknown%7CTWFpbGZsb3d8eyJWIjoiMC4wLjAwMDAiLCJQIjoiV2luMzIiLCJBTiI6Ik1haWwiLCJXVCI6Mn0%3D%7C0%7C%7C%7C&sdata=8Zc4ZMqzl73SmtKTNEyfTsWyX%2F232tQRr53pqQJQdfI%3D&reserved=0
URL:https://lscthub.co.uk/events/active-travel-part-of-the-big-green-week/
CATEGORIES:General Events,Health & Wellbeing
END:VEVENT
END:VCALENDAR