BEGIN:VCALENDAR
VERSION:2.0
PRODID:-//Lancashire and South Cumbria Training Hub - ECPv6.15.20//NONSGML v1.0//EN
CALSCALE:GREGORIAN
METHOD:PUBLISH
X-ORIGINAL-URL:https://lscthub.co.uk
X-WR-CALDESC:Events for Lancashire and South Cumbria Training Hub
REFRESH-INTERVAL;VALUE=DURATION:PT1H
X-Robots-Tag:noindex
X-PUBLISHED-TTL:PT1H
BEGIN:VTIMEZONE
TZID:Europe/London
BEGIN:DAYLIGHT
TZOFFSETFROM:+0000
TZOFFSETTO:+0100
TZNAME:BST
DTSTART:20230326T010000
END:DAYLIGHT
BEGIN:STANDARD
TZOFFSETFROM:+0100
TZOFFSETTO:+0000
TZNAME:GMT
DTSTART:20231029T010000
END:STANDARD
BEGIN:DAYLIGHT
TZOFFSETFROM:+0000
TZOFFSETTO:+0100
TZNAME:BST
DTSTART:20240331T010000
END:DAYLIGHT
BEGIN:STANDARD
TZOFFSETFROM:+0100
TZOFFSETTO:+0000
TZNAME:GMT
DTSTART:20241027T010000
END:STANDARD
BEGIN:DAYLIGHT
TZOFFSETFROM:+0000
TZOFFSETTO:+0100
TZNAME:BST
DTSTART:20250330T010000
END:DAYLIGHT
BEGIN:STANDARD
TZOFFSETFROM:+0100
TZOFFSETTO:+0000
TZNAME:GMT
DTSTART:20251026T010000
END:STANDARD
END:VTIMEZONE
BEGIN:VEVENT
DTSTART;TZID=Europe/London:20240611T123000
DTEND;TZID=Europe/London:20240611T130000
DTSTAMP:20260422T095308
CREATED:20240604T095244Z
LAST-MODIFIED:20240604T095244Z
UID:43787-1718109000-1718110800@lscthub.co.uk
SUMMARY:Sustainability Medicines & Pathology Part of the Big green week
DESCRIPTION:Join us to hear about some of the exciting projects the Medicines Management and Pathology teams have underway to reduce their carbon footprint. \n  \nhttps://gbr01.safelinks.protection.outlook.com/ap/t-59584e83/?url=https%3A%2F%2Fteams.microsoft.com%2Fl%2Fmeetup-join%2F19%253ameeting_ODEzNTg3MGQtYTgyMi00NjJhLTlhYTktZmQxY2ZiMDFiOWJm%2540thread.v2%2F0%3Fcontext%3D%257b%2522Tid%2522%253a%252237c354b2-85b0-47f5-b222-07b48d774ee3%2522%252c%2522Oid%2522%253a%252274ab7718-87c0-4473-96f3-b1b7a36b005c%2522%257d&data=05%7C02%7Cmbpcc.lscthub%40nhs.net%7C2f49a8b3cd9a43f98c0e08dc83afe22f%7C37c354b285b047f5b22207b48d774ee3%7C0%7C0%7C638530038657926599%7CUnknown%7CTWFpbGZsb3d8eyJWIjoiMC4wLjAwMDAiLCJQIjoiV2luMzIiLCJBTiI6Ik1haWwiLCJXVCI6Mn0%3D%7C0%7C%7C%7C&sdata=GSB5iWubb8KkkkYjkOuqdW7pXfGgT1brNbyjz7GlnFk%3D&reserved=0
URL:https://lscthub.co.uk/events/sustainability-medicines-pathology-part-of-the-big-green-week/
CATEGORIES:Apprenticeships,General Events,Health & Wellbeing,Non-Clinical Staff Training,Other Training
END:VEVENT
BEGIN:VEVENT
DTSTART;TZID=Europe/London:20240611T123000
DTEND;TZID=Europe/London:20240611T133000
DTSTAMP:20260422T095308
CREATED:20231218T175845Z
LAST-MODIFIED:20240130T174027Z
UID:39088-1718109000-1718112600@lscthub.co.uk
SUMMARY:Non Clinical skills training Lunch and Learn Self Development (GPNs)
DESCRIPTION:Self Development training for GPNs and anyone in a clinical role within Primary Care hosted on MS Teams. \n\nThis one hour lunch and learn session explores techniques for self development including identifying personality traits\, strengths and development needs\n\nThis is an interactive session and you will be expected to interact. Please ensure you have a camera and microphone available to attend the meeting.
URL:https://lscthub.co.uk/events/non-clinical-skills-training-lunch-and-learn-self-development-gpns/
CATEGORIES:General Events
END:VEVENT
BEGIN:VEVENT
DTSTART;TZID=Europe/London:20240611T123000
DTEND;TZID=Europe/London:20240611T140000
DTSTAMP:20260422T095308
CREATED:20240207T182439Z
LAST-MODIFIED:20240207T182439Z
UID:41193-1718109000-1718114400@lscthub.co.uk
SUMMARY:Learning Disability Awareness and AHC’s: A Whole Practice Approach
DESCRIPTION:Who should attend:\nAny staff member who is involved in and/or has an interest in supporting people with learning disabilities (PWLD) to have annual health checks. \n\nDescription of training:\n\nTraining sessions will cover what a learning disability is/is not\, and the characteristics seen within different levels of LD\nOverview of LD inclusion tool to identify patients\, when and how to use\nOverview of LeDeR – purpose and statistics of preventable deaths in PWLD\nImportance of Annual Health Checks and common health issues in PWLD\nMental Capacity in relation to healthcare for PWLD\nBarriers to accessing equitable healthcare for PWLD\nAHC and health action plans – what should be considered\, how to develop an effective HAP\nEffective strategies to support successful AHC’s\nService aims and objectives of the Health Facilitation Team to support GP practices\nLearning Disability Champion proposal\nVideo’s from PWLD – explanation of their experiences of health checks\n\n\n\nThis is an interactive session and you will be expected to interact. Please ensure you have a camera and microphone available to attend the meeting.
URL:https://lscthub.co.uk/events/learning-disability-awareness-and-ahcs-a-whole-practice-approach-26/
CATEGORIES:General Events
END:VEVENT
END:VCALENDAR