BEGIN:VCALENDAR
VERSION:2.0
PRODID:-//Lancashire and South Cumbria Training Hub - ECPv6.15.20//NONSGML v1.0//EN
CALSCALE:GREGORIAN
METHOD:PUBLISH
X-WR-CALNAME:Lancashire and South Cumbria Training Hub
X-ORIGINAL-URL:https://lscthub.co.uk
X-WR-CALDESC:Events for Lancashire and South Cumbria Training Hub
REFRESH-INTERVAL;VALUE=DURATION:PT1H
X-Robots-Tag:noindex
X-PUBLISHED-TTL:PT1H
BEGIN:VTIMEZONE
TZID:Europe/London
BEGIN:DAYLIGHT
TZOFFSETFROM:+0000
TZOFFSETTO:+0100
TZNAME:BST
DTSTART:20230326T010000
END:DAYLIGHT
BEGIN:STANDARD
TZOFFSETFROM:+0100
TZOFFSETTO:+0000
TZNAME:GMT
DTSTART:20231029T010000
END:STANDARD
BEGIN:DAYLIGHT
TZOFFSETFROM:+0000
TZOFFSETTO:+0100
TZNAME:BST
DTSTART:20240331T010000
END:DAYLIGHT
BEGIN:STANDARD
TZOFFSETFROM:+0100
TZOFFSETTO:+0000
TZNAME:GMT
DTSTART:20241027T010000
END:STANDARD
BEGIN:DAYLIGHT
TZOFFSETFROM:+0000
TZOFFSETTO:+0100
TZNAME:BST
DTSTART:20250330T010000
END:DAYLIGHT
BEGIN:STANDARD
TZOFFSETFROM:+0100
TZOFFSETTO:+0000
TZNAME:GMT
DTSTART:20251026T010000
END:STANDARD
END:VTIMEZONE
BEGIN:VEVENT
DTSTART;TZID=Europe/London:20240610T103000
DTEND;TZID=Europe/London:20240610T110000
DTSTAMP:20260422T095020
CREATED:20240409T132403Z
LAST-MODIFIED:20240409T132403Z
UID:42599-1718015400-1718017200@lscthub.co.uk
SUMMARY:Preceptorship Webinar
DESCRIPTION:The webinar will include: \n\nIntroduction to the L&SC PCTH Legacy Mentor\nNational Preceptorship Programme and Principles\nInformation about the Preceptorship Programme\nPreceptorship Programme for Preceptees\nDevelopment and training of Preceptors\nQuestions and answers
URL:https://lscthub.co.uk/events/preceptorship-webinar-21/
CATEGORIES:General Events
ORGANIZER;CN="Lancashire and South Cumbria Primary Care Training Hub":MAILTO:mbpcc.lscthub@nhs.net
END:VEVENT
BEGIN:VEVENT
DTSTART;TZID=Europe/London:20240610T120000
DTEND;TZID=Europe/London:20240610T133000
DTSTAMP:20260422T095020
CREATED:20231211T185429Z
LAST-MODIFIED:20231211T185449Z
UID:38927-1718020800-1718026200@lscthub.co.uk
SUMMARY:Learning Environment Educator Development and Update Workshops
DESCRIPTION:This workshop is for all Educators who support pre-registration learners\, Allied Health Professionals\, Physician Associates\, General Practitioners\, NMC Assessors and Supervisors.\n\nThis is an interactive discussion on the learning environment\, HEE Quality Framework (2021)\, assessment and supervision process\, the learners and an overview of NMC standards and the requirements of the above professions. \n\nYou will receive an email prior to the workshop with the required pre-reading attached for this session.\nYou can also find the pre-reading here: https://lscthub.co.uk/learning-environment-educator-development-workshop/\n\n\nYou will receive a certificate post-training for your attendance. Places are limited\, if you have booked a place\, please ensure you attend.\nIf you are no longer able to attend\, please cancel your place. If you are struggling with booking or cancelling your place\, please contact us.
URL:https://lscthub.co.uk/events/learning-environment-educator-development-and-update-workshops-30/
CATEGORIES:General Events
END:VEVENT
BEGIN:VEVENT
DTSTART;TZID=Europe/London:20240610T123000
DTEND;TZID=Europe/London:20240610T130000
DTSTAMP:20260422T095020
CREATED:20240604T094957Z
LAST-MODIFIED:20240604T094957Z
UID:43785-1718022600-1718024400@lscthub.co.uk
SUMMARY:How to reduce waste- from food to furniture Part of the Big green week
DESCRIPTION:The Great Big Green Week 8th-16th June 2024:  All on-line events will take place 12.30-1pm \nThere is some great work underway to reduce waste in our hospitals.  Sian from Lancashire Teaching Hospital will share stories about Warp-it\, Paper and \nRecycling Mobility aids. \n  \nhttps://gbr01.safelinks.protection.outlook.com/ap/t-59584e83/?url=https%3A%2F%2Fteams.microsoft.com%2Fl%2Fmeetup-join%2F19%253ameeting_MDIyNjhhNjctNDBiNC00YTc5LThkNWItNmQyM2QyMmVmYTVl%2540thread.v2%2F0%3Fcontext%3D%257b%2522Tid%2522%253a%252237c354b2-85b0-47f5-b222-07b48d774ee3%2522%252c%2522Oid%2522%253a%252274ab7718-87c0-4473-96f3-b1b7a36b005c%2522%257d&data=05%7C02%7Cmbpcc.lscthub%40nhs.net%7C2f49a8b3cd9a43f98c0e08dc83afe22f%7C37c354b285b047f5b22207b48d774ee3%7C0%7C0%7C638530038657916626%7CUnknown%7CTWFpbGZsb3d8eyJWIjoiMC4wLjAwMDAiLCJQIjoiV2luMzIiLCJBTiI6Ik1haWwiLCJXVCI6Mn0%3D%7C0%7C%7C%7C&sdata=SYPdbxgCvVG9CI2RTrt72VWPV3eYO2aJaPMYK8syf8c%3D&reserved=0
URL:https://lscthub.co.uk/events/how-to-reduce-waste-from-food-to-furniture-part-of-the-big-green-week/
CATEGORIES:General Events,Health & Wellbeing,Non-Clinical Staff Training,Other Training
END:VEVENT
END:VCALENDAR