BEGIN:VCALENDAR
VERSION:2.0
PRODID:-//Lancashire and South Cumbria Training Hub - ECPv6.15.20//NONSGML v1.0//EN
CALSCALE:GREGORIAN
METHOD:PUBLISH
X-WR-CALNAME:Lancashire and South Cumbria Training Hub
X-ORIGINAL-URL:https://lscthub.co.uk
X-WR-CALDESC:Events for Lancashire and South Cumbria Training Hub
REFRESH-INTERVAL;VALUE=DURATION:PT1H
X-Robots-Tag:noindex
X-PUBLISHED-TTL:PT1H
BEGIN:VTIMEZONE
TZID:Europe/London
BEGIN:DAYLIGHT
TZOFFSETFROM:+0000
TZOFFSETTO:+0100
TZNAME:BST
DTSTART:20230326T010000
END:DAYLIGHT
BEGIN:STANDARD
TZOFFSETFROM:+0100
TZOFFSETTO:+0000
TZNAME:GMT
DTSTART:20231029T010000
END:STANDARD
BEGIN:DAYLIGHT
TZOFFSETFROM:+0000
TZOFFSETTO:+0100
TZNAME:BST
DTSTART:20240331T010000
END:DAYLIGHT
BEGIN:STANDARD
TZOFFSETFROM:+0100
TZOFFSETTO:+0000
TZNAME:GMT
DTSTART:20241027T010000
END:STANDARD
BEGIN:DAYLIGHT
TZOFFSETFROM:+0000
TZOFFSETTO:+0100
TZNAME:BST
DTSTART:20250330T010000
END:DAYLIGHT
BEGIN:STANDARD
TZOFFSETFROM:+0100
TZOFFSETTO:+0000
TZNAME:GMT
DTSTART:20251026T010000
END:STANDARD
END:VTIMEZONE
BEGIN:VEVENT
DTSTART;TZID=Europe/London:20240515T090000
DTEND;TZID=Europe/London:20240515T100000
DTSTAMP:20260422T175945
CREATED:20240409T131133Z
LAST-MODIFIED:20240409T140403Z
UID:42589-1715763600-1715767200@lscthub.co.uk
SUMMARY:Preceptorship Workshop
DESCRIPTION:The workshop will be led by Lancashire & South Cumbria Primary Care’s Legacy Mentor and will be the starting point for GPNs and AHPs who are interested in supporting preceptorship within their practice. \nThe workshop offers: \n\nan in-depth look at the national preceptorship programme\nan explanation of the roles\, responsibilities and skills of the preceptor\nguidance on how preceptors can support preceptees in practice\nan explanation on how to complete the required documentation\nthe development of peer preceptorship support networks
URL:https://lscthub.co.uk/events/preceptorship-workshop-18/
CATEGORIES:General Events
ORGANIZER;CN="Lancashire and South Cumbria Primary Care Training Hub":MAILTO:mbpcc.lscthub@nhs.net
END:VEVENT
BEGIN:VEVENT
DTSTART;TZID=Europe/London:20240515T130000
DTEND;TZID=Europe/London:20240515T140000
DTSTAMP:20260422T175945
CREATED:20240326T114337Z
LAST-MODIFIED:20240326T114337Z
UID:42200-1715778000-1715781600@lscthub.co.uk
SUMMARY:NHS Resolution NW Primary care | Dispelling the myth-towards safer practice
DESCRIPTION:The second in a series of four events to support NW primary care practitioners with safe practice & knowledge of the GP indemnity scheme. \n\n\n\n\n\n\n\n\nNHS Resolution’s Safety and Learning team in collaboration with the NW panel law firms\, are hosting a virtual forum series on learning from claims to promote reflection and improve patient care. \nThe purpose is to raise awareness of the support offered by NHS Resolution and as your General Practice indemnifier along with the North West panel firms; Weightmans\, Hempsons and Hill Dickinson. This will be of interest to both clinical and non-clinical staff involved in patient care across primary and urgent care . \nThe format is interactive\, with presentations followed by questions and panel discussion. \nSession 2: Helping general practice manage and learn from claims part 1 \nEvent programme: \n\nExploration through the use of an illustrative case study\nQ&A panel discussion\n\nContributors: \n• Chris Dexter – Partner | Weightmans \n• Alison Brennan- Principal associate |NHS Resolution \n\n\n\n\n\n\nThe event will be recorded with slides made available on the NHS Resolution website. Continue to register or follow NHS Resolution on Linkedin to be notified when the recording has been published.
URL:https://lscthub.co.uk/events/nhs-resolution-nw-primary-care-dispelling-the-myth-towards-safer-practice-2/
CATEGORIES:General Events
END:VEVENT
END:VCALENDAR