BEGIN:VCALENDAR
VERSION:2.0
PRODID:-//Lancashire and South Cumbria Training Hub - ECPv6.15.20//NONSGML v1.0//EN
CALSCALE:GREGORIAN
METHOD:PUBLISH
X-WR-CALNAME:Lancashire and South Cumbria Training Hub
X-ORIGINAL-URL:https://lscthub.co.uk
X-WR-CALDESC:Events for Lancashire and South Cumbria Training Hub
REFRESH-INTERVAL;VALUE=DURATION:PT1H
X-Robots-Tag:noindex
X-PUBLISHED-TTL:PT1H
BEGIN:VTIMEZONE
TZID:Europe/London
BEGIN:DAYLIGHT
TZOFFSETFROM:+0000
TZOFFSETTO:+0100
TZNAME:BST
DTSTART:20230326T010000
END:DAYLIGHT
BEGIN:STANDARD
TZOFFSETFROM:+0100
TZOFFSETTO:+0000
TZNAME:GMT
DTSTART:20231029T010000
END:STANDARD
BEGIN:DAYLIGHT
TZOFFSETFROM:+0000
TZOFFSETTO:+0100
TZNAME:BST
DTSTART:20240331T010000
END:DAYLIGHT
BEGIN:STANDARD
TZOFFSETFROM:+0100
TZOFFSETTO:+0000
TZNAME:GMT
DTSTART:20241027T010000
END:STANDARD
BEGIN:DAYLIGHT
TZOFFSETFROM:+0000
TZOFFSETTO:+0100
TZNAME:BST
DTSTART:20250330T010000
END:DAYLIGHT
BEGIN:STANDARD
TZOFFSETFROM:+0100
TZOFFSETTO:+0000
TZNAME:GMT
DTSTART:20251026T010000
END:STANDARD
END:VTIMEZONE
BEGIN:VEVENT
DTSTART;TZID=Europe/London:20240429T090000
DTEND;TZID=Europe/London:20240429T093000
DTSTAMP:20260422T175834
CREATED:20240409T130257Z
LAST-MODIFIED:20240409T141822Z
UID:42577-1714381200-1714383000@lscthub.co.uk
SUMMARY:Preceptorship Webinar
DESCRIPTION:The webinar will include: \n\nIntroduction to the L&SC PCTH Legacy Mentor\nNational Preceptorship Programme and Principles\nInformation about the Preceptorship Programme\nPreceptorship Programme for Preceptees\nDevelopment and training of Preceptors\nQuestions and answers
URL:https://lscthub.co.uk/events/preceptorship-webinar-16/
CATEGORIES:General Events
ORGANIZER;CN="Lancashire and South Cumbria Primary Care Training Hub":MAILTO:mbpcc.lscthub@nhs.net
END:VEVENT
BEGIN:VEVENT
DTSTART;TZID=Europe/London:20240429T090000
DTEND;TZID=Europe/London:20240429T163000
DTSTAMP:20260422T175834
CREATED:20240220T180234Z
LAST-MODIFIED:20240220T180234Z
UID:41531-1714381200-1714408200@lscthub.co.uk
SUMMARY:Phlebotomy/Venepuncture Training - Kendal
DESCRIPTION:Event Description\n\n\nThis phlebotomy venepuncture training course is aimed at all healthcare staff\, specifically registered nurses\, carers and support workers who’s role include taking bloods.\nThis is ideal for staff who are looking to improve their skills in venepuncture. \nLocation: Room 4\, Education Centre\, Westmorland General Hospital\, Burton Rd\, Kendal LA9 7RG \n\nThe Venepuncture Training will aim to improve the students’ knowledge of the theory surrounding venepuncture including: the correct order of draw\, the anatomy of veins and how to select a suitable site – allow students to practice using a synthetic arm.\nPlease note: This course contains a full practical (face-to-face) session.\n\n\nYou will receive a certificate post-training for your attendance. Places are limited\, if you have booked a place\, please ensure you attend.\nIf you are no longer able to attend\, please cancel your place. If you are struggling with booking or cancelling your place\, please contact us.\n\nBy signing up you agree for your information to be stored and shared by the Training hub and with the Training Provider\, NHSE and HEE\, for the delivery of this training\, monitoring\, reporting and certification purposes only.\n\n\n\n\nLearning Outcomes\n\n\nTraining includes but is not limited to:\n\nIdentify the suitable veins for Venepuncture\nIdentify the indications and contraindications for both the practitioner and the patient\nTo discuss the equipment used for performing Venepuncture\nTo be made aware of the full procedure and raise awareness for potential policy variations\nTo provide simulated practise in a controlled environment to help develop Venepuncture skills\nTo consider Venepuncture from patients point of view
URL:https://lscthub.co.uk/events/phlebotomy-venepuncture-training-kendal/
LOCATION:Westmorland General Hospital\, Westmorland General Hospital\, Kendal\, United Kingdom
CATEGORIES:General Events
END:VEVENT
END:VCALENDAR