BEGIN:VCALENDAR
VERSION:2.0
PRODID:-//Lancashire and South Cumbria Training Hub - ECPv6.15.20//NONSGML v1.0//EN
CALSCALE:GREGORIAN
METHOD:PUBLISH
X-ORIGINAL-URL:https://lscthub.co.uk
X-WR-CALDESC:Events for Lancashire and South Cumbria Training Hub
REFRESH-INTERVAL;VALUE=DURATION:PT1H
X-Robots-Tag:noindex
X-PUBLISHED-TTL:PT1H
BEGIN:VTIMEZONE
TZID:Europe/London
BEGIN:DAYLIGHT
TZOFFSETFROM:+0000
TZOFFSETTO:+0100
TZNAME:BST
DTSTART:20230326T010000
END:DAYLIGHT
BEGIN:STANDARD
TZOFFSETFROM:+0100
TZOFFSETTO:+0000
TZNAME:GMT
DTSTART:20231029T010000
END:STANDARD
BEGIN:DAYLIGHT
TZOFFSETFROM:+0000
TZOFFSETTO:+0100
TZNAME:BST
DTSTART:20240331T010000
END:DAYLIGHT
BEGIN:STANDARD
TZOFFSETFROM:+0100
TZOFFSETTO:+0000
TZNAME:GMT
DTSTART:20241027T010000
END:STANDARD
BEGIN:DAYLIGHT
TZOFFSETFROM:+0000
TZOFFSETTO:+0100
TZNAME:BST
DTSTART:20250330T010000
END:DAYLIGHT
BEGIN:STANDARD
TZOFFSETFROM:+0100
TZOFFSETTO:+0000
TZNAME:GMT
DTSTART:20251026T010000
END:STANDARD
END:VTIMEZONE
BEGIN:VEVENT
DTSTART;TZID=Europe/London:20240416T120000
DTEND;TZID=Europe/London:20240416T123000
DTSTAMP:20260422T224132
CREATED:20231207T095630Z
LAST-MODIFIED:20231207T095630Z
UID:38788-1713268800-1713270600@lscthub.co.uk
SUMMARY:Non-Medical Prescribing (NMP): Education & Training Session
DESCRIPTION:Topic: Peer review Focus area: Repeat Prescribing \nPresenter(s): TBC \nThe ICB NMP Leads and L&SC PCTH are pleased to share with you a 12-month Education and Training programme. The programme is to support Non-Medical Prescribers in key topic/therapeutic areas and encourage peer discussions and networking. \nThe bitesize education and training sessions will be held for 30 minutes via Microsoft Teams\, every third Tuesday of the month between 12noon and 12.30pm. \nThe following link can be used to access the online sessions and a timetable of sessions programmed in for the first six months can be found (see doc) \nTo access the sessions please: Click here to join the meeting \nNon-Medical Prescribing Education and Training Sessions Timetable
URL:https://lscthub.co.uk/events/non-medical-prescribing-nmp-education-training-session-5/
CATEGORIES:General Events
END:VEVENT
BEGIN:VEVENT
DTSTART;TZID=Europe/London:20240416T120000
DTEND;TZID=Europe/London:20240416T133000
DTSTAMP:20260422T224132
CREATED:20231208T090153Z
LAST-MODIFIED:20231208T090153Z
UID:38847-1713268800-1713274200@lscthub.co.uk
SUMMARY:Learning Environment Educator Development and Update Workshops
DESCRIPTION:This workshop is for all Educators who support pre-registration learners\, Allied Health Professionals\, Physician Associates\, General Practitioners\, NMC Assessors and Supervisors.\nThis is an interactive discussion on the learning environment\, HEE Quality Framework (2021)\, assessment and supervision process\, the learners and an overview of NMC standards and the requirements of the above professions. \n\nYou will receive an email prior to the workshop with the required pre-reading attached for this session.\nYou can also find the pre-reading here: https://lscthub.co.uk/learning-environment-educator-development-workshop/\n\n\n\nYou will receive a certificate post-training for your attendance. Places are limited\, if you have booked a place\, please ensure you attend.\nIf you are no longer able to attend\, please cancel your place. If you are struggling with booking or cancelling your place\, please contact us.\nBy signing up you agree for your information to be stored and shared by the Training hub and with the Training Provider\, NHSE and HEE\, for the delivery of this training\, monitoring\, reporting and certification purposes only.
URL:https://lscthub.co.uk/events/learning-environment-educator-development-and-update-workshops-22/
CATEGORIES:General Events
END:VEVENT
BEGIN:VEVENT
DTSTART;TZID=Europe/London:20240416T123000
DTEND;TZID=Europe/London:20240416T133000
DTSTAMP:20260422T224132
CREATED:20231218T175210Z
LAST-MODIFIED:20240130T174122Z
UID:39075-1713270600-1713274200@lscthub.co.uk
SUMMARY:Non Clinical skills training Quality Improvement and Change Management (GPNs)
DESCRIPTION:Quality Improvement and Change Management training for GPNs and anyone in a clinical role within Primary Care hosted on MS Teams. \nThis one hour lunch and learn session explores quality improvement methods and techniques including PDSA cycles and change management theories and strategies\n\nThis is an interactive session and you will be expected to interact. Please ensure you have a camera and microphone available to attend the meeting.
URL:https://lscthub.co.uk/events/non-clinical-skills-training-quality-improvement-and-change-management-gpns/
CATEGORIES:General Events
END:VEVENT
BEGIN:VEVENT
DTSTART;TZID=Europe/London:20240416T133000
DTEND;TZID=Europe/London:20240416T140000
DTSTAMP:20260422T224132
CREATED:20240207T182343Z
LAST-MODIFIED:20240207T182343Z
UID:41191-1713274200-1713276000@lscthub.co.uk
SUMMARY:Learning Disability Awareness and AHC’s: A Whole Practice Approach
DESCRIPTION:Who should attend:\nAny staff member who is involved in and/or has an interest in supporting people with learning disabilities (PWLD) to have annual health checks. \n\nDescription of training:\n\nTraining sessions will cover what a learning disability is/is not\, and the characteristics seen within different levels of LD\nOverview of LD inclusion tool to identify patients\, when and how to use\nOverview of LeDeR – purpose and statistics of preventable deaths in PWLD\nImportance of Annual Health Checks and common health issues in PWLD\nMental Capacity in relation to healthcare for PWLD\nBarriers to accessing equitable healthcare for PWLD\nAHC and health action plans – what should be considered\, how to develop an effective HAP\nEffective strategies to support successful AHC’s\nService aims and objectives of the Health Facilitation Team to support GP practices\nLearning Disability Champion proposal\nVideo’s from PWLD – explanation of their experiences of health checks\n\n\n\nThis is an interactive session and you will be expected to interact. Please ensure you have a camera and microphone available to attend the meeting.
URL:https://lscthub.co.uk/events/learning-disability-awareness-and-ahcs-a-whole-practice-approach-24/
CATEGORIES:General Events
END:VEVENT
BEGIN:VEVENT
DTSTART;TZID=Europe/London:20240416T150000
DTEND;TZID=Europe/London:20240416T153000
DTSTAMP:20260422T224132
CREATED:20240409T125339Z
LAST-MODIFIED:20240409T134545Z
UID:42571-1713279600-1713281400@lscthub.co.uk
SUMMARY:Preceptorship Webinar
DESCRIPTION:The Webinar will include: \n\nIntroduction to the L&SC PCTH Legacy Mentor\nNational Preceptorship Programme and Principles\nInformation about the Preceptorship Programme\nPreceptorship Programme for Preceptees\nDevelopment and training of Preceptors\nQuestions and answers
URL:https://lscthub.co.uk/events/preceptorship-webinar-14/
CATEGORIES:General Events
ORGANIZER;CN="Lancashire and South Cumbria Primary Care Training Hub":MAILTO:mbpcc.lscthub@nhs.net
END:VEVENT
END:VCALENDAR