BEGIN:VCALENDAR
VERSION:2.0
PRODID:-//Lancashire and South Cumbria Training Hub - ECPv6.15.20//NONSGML v1.0//EN
CALSCALE:GREGORIAN
METHOD:PUBLISH
X-ORIGINAL-URL:https://lscthub.co.uk
X-WR-CALDESC:Events for Lancashire and South Cumbria Training Hub
REFRESH-INTERVAL;VALUE=DURATION:PT1H
X-Robots-Tag:noindex
X-PUBLISHED-TTL:PT1H
BEGIN:VTIMEZONE
TZID:Europe/London
BEGIN:DAYLIGHT
TZOFFSETFROM:+0000
TZOFFSETTO:+0100
TZNAME:BST
DTSTART:20230326T010000
END:DAYLIGHT
BEGIN:STANDARD
TZOFFSETFROM:+0100
TZOFFSETTO:+0000
TZNAME:GMT
DTSTART:20231029T010000
END:STANDARD
BEGIN:DAYLIGHT
TZOFFSETFROM:+0000
TZOFFSETTO:+0100
TZNAME:BST
DTSTART:20240331T010000
END:DAYLIGHT
BEGIN:STANDARD
TZOFFSETFROM:+0100
TZOFFSETTO:+0000
TZNAME:GMT
DTSTART:20241027T010000
END:STANDARD
BEGIN:DAYLIGHT
TZOFFSETFROM:+0000
TZOFFSETTO:+0100
TZNAME:BST
DTSTART:20250330T010000
END:DAYLIGHT
BEGIN:STANDARD
TZOFFSETFROM:+0100
TZOFFSETTO:+0000
TZNAME:GMT
DTSTART:20251026T010000
END:STANDARD
END:VTIMEZONE
BEGIN:VEVENT
DTSTART;TZID=Europe/London:20240328T100000
DTEND;TZID=Europe/London:20240328T110000
DTSTAMP:20260422T224127
CREATED:20230914T155106Z
LAST-MODIFIED:20230914T155106Z
UID:36340-1711620000-1711623600@lscthub.co.uk
SUMMARY:Routine Enquiry in Domestic Abuse Bite Size Training
DESCRIPTION:
URL:https://lscthub.co.uk/events/routine-enquiry-in-domestic-abuse-bite-size-training-13/
CATEGORIES:General Events
END:VEVENT
BEGIN:VEVENT
DTSTART;TZID=Europe/London:20240328T100000
DTEND;TZID=Europe/London:20240328T160000
DTSTAMP:20260422T224127
CREATED:20240119T084221Z
LAST-MODIFIED:20240119T084221Z
UID:40149-1711620000-1711641600@lscthub.co.uk
SUMMARY:Understanding Avoidant and Restrictive Food Intake  Disorder (ARFID)
DESCRIPTION:This course is aimed at practitioners working with children of all ages\, including older\nchildren and adolescents\, who have a very restricted diet.\nChildren may refuse foods in an extreme way or may seem uninterested in food and lacking\nappetite. The range of food that they accept may be very restricted and there may be\nconcerns about health and well-being. The child may dislike social situations involving food\nor be uncomfortable with certain smells\, textures or look of foods.\nThe training package is delivered FREE over one day\, delivered remotely for CAMHS and\nVCFSE EHWB practitioners\, and contributes towards CPD with a certificate of attendance\non completion of the day. We are able to arrange a dedicated training day for your team\,\nplease email office@springnorth.org.uk for further details. \nARFID Flyer
URL:https://lscthub.co.uk/events/understanding-avoidant-and-restrictive-food-intake-disorder-arfid-2/
CATEGORIES:General Events
END:VEVENT
END:VCALENDAR