BEGIN:VCALENDAR
VERSION:2.0
PRODID:-//Lancashire and South Cumbria Training Hub - ECPv6.15.20//NONSGML v1.0//EN
CALSCALE:GREGORIAN
METHOD:PUBLISH
X-ORIGINAL-URL:https://lscthub.co.uk
X-WR-CALDESC:Events for Lancashire and South Cumbria Training Hub
REFRESH-INTERVAL;VALUE=DURATION:PT1H
X-Robots-Tag:noindex
X-PUBLISHED-TTL:PT1H
BEGIN:VTIMEZONE
TZID:Europe/London
BEGIN:DAYLIGHT
TZOFFSETFROM:+0000
TZOFFSETTO:+0100
TZNAME:BST
DTSTART:20230326T010000
END:DAYLIGHT
BEGIN:STANDARD
TZOFFSETFROM:+0100
TZOFFSETTO:+0000
TZNAME:GMT
DTSTART:20231029T010000
END:STANDARD
BEGIN:DAYLIGHT
TZOFFSETFROM:+0000
TZOFFSETTO:+0100
TZNAME:BST
DTSTART:20240331T010000
END:DAYLIGHT
BEGIN:STANDARD
TZOFFSETFROM:+0100
TZOFFSETTO:+0000
TZNAME:GMT
DTSTART:20241027T010000
END:STANDARD
BEGIN:DAYLIGHT
TZOFFSETFROM:+0000
TZOFFSETTO:+0100
TZNAME:BST
DTSTART:20250330T010000
END:DAYLIGHT
BEGIN:STANDARD
TZOFFSETFROM:+0100
TZOFFSETTO:+0000
TZNAME:GMT
DTSTART:20251026T010000
END:STANDARD
END:VTIMEZONE
BEGIN:VEVENT
DTSTART;TZID=Europe/London:20240326T093000
DTEND;TZID=Europe/London:20240326T170000
DTSTAMP:20260423T002600
CREATED:20240308T090748Z
LAST-MODIFIED:20240308T090748Z
UID:41787-1711445400-1711472400@lscthub.co.uk
SUMMARY:Health Coaching Core Skills Programme Day 2 Blackpool
DESCRIPTION:Health coaching is a supported self-management\nintervention and is part of the NHS Long Term Plan’s\ncommitment to make personalised care business as\nusual across the health and care system. \nHealth Coaching Development of health coaching skills\nfocuses on training health and social care staff\,\nvoluntary sector representatives\, and carers to use\nhealth coaching skills as part of consultations or\nconversations. \nThis involves supporting practitioners to develop their\nown health coaching skills\, conversation frameworks and\nmind-set\, so they can use a health coaching approach in\ntheir daily role to support personalised care and\nencourage self-management and shared decision\nmaking. \nFurther information: HEALTH COACHING FLYER – FEB & MARCH 2024 – UPDATE \nTo apply: Health Coaching 2-Day Training Application Form – Feb & March 2024- UPDATED
URL:https://lscthub.co.uk/events/health-coaching-core-skills-programme-day-2-blackpool/
LOCATION:Blackpool Football Club\, Blackpool Football Club\, Blackpool\, FY1 6JJ\, United Kingdom
CATEGORIES:General Events
END:VEVENT
END:VCALENDAR