BEGIN:VCALENDAR
VERSION:2.0
PRODID:-//Lancashire and South Cumbria Training Hub - ECPv6.15.20//NONSGML v1.0//EN
CALSCALE:GREGORIAN
METHOD:PUBLISH
X-WR-CALNAME:Lancashire and South Cumbria Training Hub
X-ORIGINAL-URL:https://lscthub.co.uk
X-WR-CALDESC:Events for Lancashire and South Cumbria Training Hub
REFRESH-INTERVAL;VALUE=DURATION:PT1H
X-Robots-Tag:noindex
X-PUBLISHED-TTL:PT1H
BEGIN:VTIMEZONE
TZID:Europe/London
BEGIN:DAYLIGHT
TZOFFSETFROM:+0000
TZOFFSETTO:+0100
TZNAME:BST
DTSTART:20230326T010000
END:DAYLIGHT
BEGIN:STANDARD
TZOFFSETFROM:+0100
TZOFFSETTO:+0000
TZNAME:GMT
DTSTART:20231029T010000
END:STANDARD
BEGIN:DAYLIGHT
TZOFFSETFROM:+0000
TZOFFSETTO:+0100
TZNAME:BST
DTSTART:20240331T010000
END:DAYLIGHT
BEGIN:STANDARD
TZOFFSETFROM:+0100
TZOFFSETTO:+0000
TZNAME:GMT
DTSTART:20241027T010000
END:STANDARD
BEGIN:DAYLIGHT
TZOFFSETFROM:+0000
TZOFFSETTO:+0100
TZNAME:BST
DTSTART:20250330T010000
END:DAYLIGHT
BEGIN:STANDARD
TZOFFSETFROM:+0100
TZOFFSETTO:+0000
TZNAME:GMT
DTSTART:20251026T010000
END:STANDARD
END:VTIMEZONE
BEGIN:VEVENT
DTSTART;TZID=Europe/London:20240325T090000
DTEND;TZID=Europe/London:20240325T093000
DTSTAMP:20260422T210851
CREATED:20240118T124933Z
LAST-MODIFIED:20240118T124933Z
UID:40026-1711357200-1711359000@lscthub.co.uk
SUMMARY:Preceptorship Webinar
DESCRIPTION:A 30-minute webinar hosted by Lancashire & South Cumbria Primary Care’s Legacy Mentor – Victoria Johnston \nThe webinar will include: \n\nIntroduction to the L&SC PCTH Legacy Mentor\nNational Preceptorship Programme and Principles\nInformation about the Preceptorship Programme\nPreceptorship Programme for Preceptees\nDevelopment and training of Preceptors\nQuestions and answers\n\nThis is an interactive session and you will be expected to interact. Please ensure you have a camera and microphone available to attend the meeting. \nhttps://medtribe.com/courses/preceptorship-webinar
URL:https://lscthub.co.uk/events/preceptorship-webinar-13/
CATEGORIES:General Events
END:VEVENT
BEGIN:VEVENT
DTSTART;TZID=Europe/London:20240325T140000
DTEND;TZID=Europe/London:20240325T150000
DTSTAMP:20260422T210851
CREATED:20240318T083707Z
LAST-MODIFIED:20240318T083707Z
UID:42037-1711375200-1711378800@lscthub.co.uk
SUMMARY:The Safe Learning Environment Charter (SLEC)
DESCRIPTION:The Safe Learning Environment Charter (SLEC)  – a presentation to showcase the SLEC\, from the concept\, the collaboration & development of a Safe Learning Environment Charter – and how this can support learners to thrive on clinical placement. \n  \nSpeakers\n\nEmma PimbettQuality Improvement Senior Project Manager (QISPM) Safe Learning Environment Charter\n\n\n\nAmelia HarbonSenior Project Manager\n\n\n\nNatalie BrownQuality Improvement Senior Project Manager
URL:https://lscthub.co.uk/events/the-safe-learning-environment-charter-slec/
CATEGORIES:General Events
END:VEVENT
END:VCALENDAR