BEGIN:VCALENDAR
VERSION:2.0
PRODID:-//Lancashire and South Cumbria Training Hub - ECPv6.15.20//NONSGML v1.0//EN
CALSCALE:GREGORIAN
METHOD:PUBLISH
X-ORIGINAL-URL:https://lscthub.co.uk
X-WR-CALDESC:Events for Lancashire and South Cumbria Training Hub
REFRESH-INTERVAL;VALUE=DURATION:PT1H
X-Robots-Tag:noindex
X-PUBLISHED-TTL:PT1H
BEGIN:VTIMEZONE
TZID:Europe/London
BEGIN:DAYLIGHT
TZOFFSETFROM:+0000
TZOFFSETTO:+0100
TZNAME:BST
DTSTART:20230326T010000
END:DAYLIGHT
BEGIN:STANDARD
TZOFFSETFROM:+0100
TZOFFSETTO:+0000
TZNAME:GMT
DTSTART:20231029T010000
END:STANDARD
BEGIN:DAYLIGHT
TZOFFSETFROM:+0000
TZOFFSETTO:+0100
TZNAME:BST
DTSTART:20240331T010000
END:DAYLIGHT
BEGIN:STANDARD
TZOFFSETFROM:+0100
TZOFFSETTO:+0000
TZNAME:GMT
DTSTART:20241027T010000
END:STANDARD
BEGIN:DAYLIGHT
TZOFFSETFROM:+0000
TZOFFSETTO:+0100
TZNAME:BST
DTSTART:20250330T010000
END:DAYLIGHT
BEGIN:STANDARD
TZOFFSETFROM:+0100
TZOFFSETTO:+0000
TZNAME:GMT
DTSTART:20251026T010000
END:STANDARD
END:VTIMEZONE
BEGIN:VEVENT
DTSTART;TZID=Europe/London:20240315T093000
DTEND;TZID=Europe/London:20240315T120000
DTSTAMP:20260423T002557
CREATED:20240205T172913Z
LAST-MODIFIED:20240205T172913Z
UID:40978-1710495000-1710504000@lscthub.co.uk
SUMMARY:PAM (Patient Activation Measure) Workshop
DESCRIPTION:Patient activation describes the knowledge\, skills and\nconfidence a person has in managing their own health\nand care. \nWhat is Patient Activation? \nIt is widely acknowledged that people who have the\nknowledge\, skills and confidence to manage their own\nhealth tend to have better health outcomes than those\nwho may have a more passive approach.\nPatients/clients with high levels of activation usually\nunderstand their role in the care process and feel\ncapable of fulfilling that role. \nPeople who have low levels of activation however are\nusually less likely to play an active role in staying healthy.\nThey are less good at seeking help when they need it\,\nat following advice given by healthcare professionals or\nmanaging their health when they are no longer being\ntreated. \nIf we want clients/patients to take ownership of their\nhealth and care we have to make them part of the\nprocess.\n• We need to listen\, problem-solve\, and collaborate\n• We need to help them gain the skills and confidence\nthey need\, not just the transfer of information. \nVarious studies show that targeted interventions\ncan increase patient activation. \nLeast activated patients/clients can make the most gains\nwhen they are appropriately supported.\nTailoring interventions to individual needs\, significantly\nincreases the likelihood that people will adopt\nbehaviours that contribute to better health. \nThe Patient Activation Measure (PAM) is a validated\npatient-reported outcome measure owned by Insignia\nHealth.\nPAM was created to identify which patients/clients may\nneed additional resources to manage their health\nThe PAM tool is made up of 13 questions\, which\ndetermine the person’s ‘activation’ score on a level of\n1\, 2\, 3 or 4. PAM Levels 1 and 2 indicate lower patient\nactivation\, while PAM Levels 3 and 4 indicate higher\npatient activation. \nMeasuring activation can:\n– Improve outcomes and reduce costs\n– Reduce re-admissions and fewer episodes of unplanned and emergency care.\n– Improve patient experience\nThere are twenty places available per each virtual PAM\nworkshop. Please ensure you are able to join from\nindividual terminals and have a working camera and\nmicrophone.\nTo apply for a place please fill out the PAM Training Application Form in full and send to:\nworkforcetraining@activelancashire.org.uk\nOnce all delegates have been registered on a PAM\nWorkshop a confirmation e-mail will be sent to you inc\nyour Zoom Link.\nOnce the course has been completed PAM\noutputs/Flourish Info’s will then be sent to all\nparticipants who have completed the course in full.\nPlease note all applications are registered on a first\ncome\, first serve basis.\nThe PAM workshops are being delivered by Lancashire & \nSouth Cumbria ICB & Active Lancashire for the benefit of \nLancashire & South Cumbria population\, to assist people \nto become more active in their own health and care.
URL:https://lscthub.co.uk/events/pam-patient-activation-measure-workshop-5/
CATEGORIES:General Events
END:VEVENT
END:VCALENDAR