BEGIN:VCALENDAR
VERSION:2.0
PRODID:-//Lancashire and South Cumbria Training Hub - ECPv6.15.20//NONSGML v1.0//EN
CALSCALE:GREGORIAN
METHOD:PUBLISH
X-ORIGINAL-URL:https://lscthub.co.uk
X-WR-CALDESC:Events for Lancashire and South Cumbria Training Hub
REFRESH-INTERVAL;VALUE=DURATION:PT1H
X-Robots-Tag:noindex
X-PUBLISHED-TTL:PT1H
BEGIN:VTIMEZONE
TZID:Europe/London
BEGIN:DAYLIGHT
TZOFFSETFROM:+0000
TZOFFSETTO:+0100
TZNAME:BST
DTSTART:20230326T010000
END:DAYLIGHT
BEGIN:STANDARD
TZOFFSETFROM:+0100
TZOFFSETTO:+0000
TZNAME:GMT
DTSTART:20231029T010000
END:STANDARD
BEGIN:DAYLIGHT
TZOFFSETFROM:+0000
TZOFFSETTO:+0100
TZNAME:BST
DTSTART:20240331T010000
END:DAYLIGHT
BEGIN:STANDARD
TZOFFSETFROM:+0100
TZOFFSETTO:+0000
TZNAME:GMT
DTSTART:20241027T010000
END:STANDARD
BEGIN:DAYLIGHT
TZOFFSETFROM:+0000
TZOFFSETTO:+0100
TZNAME:BST
DTSTART:20250330T010000
END:DAYLIGHT
BEGIN:STANDARD
TZOFFSETFROM:+0100
TZOFFSETTO:+0000
TZNAME:GMT
DTSTART:20251026T010000
END:STANDARD
END:VTIMEZONE
BEGIN:VEVENT
DTSTART;TZID=Europe/London:20240311T090000
DTEND;TZID=Europe/London:20240311T093000
DTSTAMP:20260423T002601
CREATED:20240118T124814Z
LAST-MODIFIED:20240118T124814Z
UID:40022-1710147600-1710149400@lscthub.co.uk
SUMMARY:Preceptorship Webinar
DESCRIPTION:A 30-minute webinar hosted by Lancashire & South Cumbria Primary Care’s Legacy Mentor – Victoria Johnston \nThe webinar will include: \n\nIntroduction to the L&SC PCTH Legacy Mentor\nNational Preceptorship Programme and Principles\nInformation about the Preceptorship Programme\nPreceptorship Programme for Preceptees\nDevelopment and training of Preceptors\nQuestions and answers\n\nThis is an interactive session and you will be expected to interact. Please ensure you have a camera and microphone available to attend the meeting. \nhttps://medtribe.com/courses/preceptorship-webinar
URL:https://lscthub.co.uk/events/preceptorship-webinar-11/
CATEGORIES:General Events
END:VEVENT
BEGIN:VEVENT
DTSTART;TZID=Europe/London:20240311T100000
DTEND;TZID=Europe/London:20240311T150000
DTSTAMP:20260423T002601
CREATED:20240124T162638Z
LAST-MODIFIED:20240124T162638Z
UID:40403-1710151200-1710169200@lscthub.co.uk
SUMMARY:Celebrating Preceptorship - London
DESCRIPTION:This event will give attendees an opportunity to update their knowledge on best practice\, hear updates from the National Preceptorship Programme team\, network\, ask questions and share ideas with colleagues within the preceptorship communities of practice. \nYou will also be part of our celebration of the wonderful work that has been done to date\, and help shape the plans for the future of preceptorship around the country. \nThe National Workforce Skills Development Unit warmly welcome preceptorship leads\, preceptors\, newly registered nurses and all colleagues involved in supporting and promoting preceptorship to attend this event. The event is face to face in London. \nDame Ruth May\, Chief Nursing Officer for England\, is guest speaker at the event. \nDe Vere Grand Connaught Rooms\n61-65 Great Queen Street London WC2B 5DA
URL:https://lscthub.co.uk/events/celebrating-preceptorship-london/
CATEGORIES:General Events
END:VEVENT
END:VCALENDAR