BEGIN:VCALENDAR
VERSION:2.0
PRODID:-//Lancashire and South Cumbria Training Hub - ECPv6.15.20//NONSGML v1.0//EN
CALSCALE:GREGORIAN
METHOD:PUBLISH
X-ORIGINAL-URL:https://lscthub.co.uk
X-WR-CALDESC:Events for Lancashire and South Cumbria Training Hub
REFRESH-INTERVAL;VALUE=DURATION:PT1H
X-Robots-Tag:noindex
X-PUBLISHED-TTL:PT1H
BEGIN:VTIMEZONE
TZID:Europe/London
BEGIN:DAYLIGHT
TZOFFSETFROM:+0000
TZOFFSETTO:+0100
TZNAME:BST
DTSTART:20230326T010000
END:DAYLIGHT
BEGIN:STANDARD
TZOFFSETFROM:+0100
TZOFFSETTO:+0000
TZNAME:GMT
DTSTART:20231029T010000
END:STANDARD
BEGIN:DAYLIGHT
TZOFFSETFROM:+0000
TZOFFSETTO:+0100
TZNAME:BST
DTSTART:20240331T010000
END:DAYLIGHT
BEGIN:STANDARD
TZOFFSETFROM:+0100
TZOFFSETTO:+0000
TZNAME:GMT
DTSTART:20241027T010000
END:STANDARD
BEGIN:DAYLIGHT
TZOFFSETFROM:+0000
TZOFFSETTO:+0100
TZNAME:BST
DTSTART:20250330T010000
END:DAYLIGHT
BEGIN:STANDARD
TZOFFSETFROM:+0100
TZOFFSETTO:+0000
TZNAME:GMT
DTSTART:20251026T010000
END:STANDARD
END:VTIMEZONE
BEGIN:VEVENT
DTSTART;TZID=Europe/London:20240226T100000
DTEND;TZID=Europe/London:20240226T120000
DTSTAMP:20260423T002603
CREATED:20231217T204135Z
LAST-MODIFIED:20231217T204135Z
UID:39010-1708941600-1708948800@lscthub.co.uk
SUMMARY:Rest\, Renew and Refresh
DESCRIPTION:Time:   2 hour online workshop \nOverview: The pressures of the past few years have been intense\, and for many of us\, it has been a relentless and demanding experience\, affecting different people in very different ways. It is crucial that we take time to pause and review what we have learnt about ourselves and our teams. \nHow can we acknowledge\, respect and support how people are feeling\, whilst finding hope and optimism for what else may be possible? This is not an easy balance to strike\, yet is vital if we are to work together and lead with integrity\, honesty and compassion. This session considers what Rest\, Renew and Refresh means for both individuals and in teams. \nOutcomes: This workshop will support you to identify how your own habits and patterns are helping or hindering your ability to rest\, renew and keep yourself well\, develop a practical plan to refresh your approach\, focusing on what matters more and clearing out what matters less in caring for yourself and others \,explore how acknowledging negative emotions and difficult experiences at work can build trust and open up new possibilities.
URL:https://lscthub.co.uk/events/rest-renew-and-refresh/
CATEGORIES:General Events
END:VEVENT
END:VCALENDAR