BEGIN:VCALENDAR
VERSION:2.0
PRODID:-//Lancashire and South Cumbria Training Hub - ECPv6.15.20//NONSGML v1.0//EN
CALSCALE:GREGORIAN
METHOD:PUBLISH
X-WR-CALNAME:Lancashire and South Cumbria Training Hub
X-ORIGINAL-URL:https://lscthub.co.uk
X-WR-CALDESC:Events for Lancashire and South Cumbria Training Hub
REFRESH-INTERVAL;VALUE=DURATION:PT1H
X-Robots-Tag:noindex
X-PUBLISHED-TTL:PT1H
BEGIN:VTIMEZONE
TZID:Europe/London
BEGIN:DAYLIGHT
TZOFFSETFROM:+0000
TZOFFSETTO:+0100
TZNAME:BST
DTSTART:20230326T010000
END:DAYLIGHT
BEGIN:STANDARD
TZOFFSETFROM:+0100
TZOFFSETTO:+0000
TZNAME:GMT
DTSTART:20231029T010000
END:STANDARD
BEGIN:DAYLIGHT
TZOFFSETFROM:+0000
TZOFFSETTO:+0100
TZNAME:BST
DTSTART:20240331T010000
END:DAYLIGHT
BEGIN:STANDARD
TZOFFSETFROM:+0100
TZOFFSETTO:+0000
TZNAME:GMT
DTSTART:20241027T010000
END:STANDARD
BEGIN:DAYLIGHT
TZOFFSETFROM:+0000
TZOFFSETTO:+0100
TZNAME:BST
DTSTART:20250330T010000
END:DAYLIGHT
BEGIN:STANDARD
TZOFFSETFROM:+0100
TZOFFSETTO:+0000
TZNAME:GMT
DTSTART:20251026T010000
END:STANDARD
END:VTIMEZONE
BEGIN:VEVENT
DTSTART;TZID=Europe/London:20240221T120000
DTEND;TZID=Europe/London:20240221T130000
DTSTAMP:20260423T101458
CREATED:20240129T131314Z
LAST-MODIFIED:20240129T131314Z
UID:40680-1708516800-1708520400@lscthub.co.uk
SUMMARY:Register with a GP surgery service – February update webinar
DESCRIPTION:Overview\nMore than 1 in 3 practices in England are now using a new digital registration service Register with a GP surgery which aims to make GP registration easier for practices and patients. \nNow NHS have surpassed their initial target to enrol 2\,000 practices by the end of 2023 in line with the commitment in the Primary Care Access Recovery Plan\, learn what is next for the service\, including recent improvements based on practice feedback\, such as how the service handles ‘Out of Area’ registrations. \nIn this webinar you’ll also hear more about NHS Digital’s collaborative work to ensure NHS colleagues working in practices\, PCNs and ICBs can make the most of our new national service. \nNHS Digital will also update you on our latest service statistics and aim to answer your questions about the service\, which is currently in use in every ICB in England. \nWho should attend\nThis webinar will be of interest to GP practice staff who are responsible for registering new patients and want to hear the latest progress and peer-led guidance on how to use the service. \nIt will also be useful insight for colleagues working in digital and primary care transformation roles\, with practical examples of how to gradually roll the service out across an area and key information about stakeholder organisations. \nRegistrations\nA very small number of delegates may experience problems registering for events using our registration form due to local IT system settings. Please email enquiries@nhsdigital.nhs.uk with your details and the name of the event should this occur.
URL:https://lscthub.co.uk/events/register-with-a-gp-surgery-service-february-update-webinar/
CATEGORIES:General Events
END:VEVENT
BEGIN:VEVENT
DTSTART;TZID=Europe/London:20240221T120000
DTEND;TZID=Europe/London:20240221T133000
DTSTAMP:20260423T101458
CREATED:20231228T092233Z
LAST-MODIFIED:20231228T092233Z
UID:39395-1708516800-1708522200@lscthub.co.uk
SUMMARY:Lancashire and South Cumbria Practice Nurse Forum
DESCRIPTION:We have arranged four general practice nurse forums for 2024 \nEach forum will last 90 minutes and will be hosted over Teams. Each session will include 45 minutes of ICB updates\, sharing best practices and an educational speaker\nThe remaining 45 minutes of the meeting will then be split into place localities and you will have the opportunity to discuss and share relevant place based information\, receive training hub updates and other relevnt place based information chaired by a place based lead nurse \n\nThis is an interactive session and you will be expected to interact. Please ensure you have a camera and microphone available to attend the meeting.\n\n\n\nYou will receive a certificate post training for your attendance. Places are limited\, if you have booked a place\, please ensure you attend.\nIf you are no longer able to attend\, please cancel your place. If you are struggling with booking or cancelling your place\, please contact us.\nBy signing up you agree for your information to be stored and shared by the Training hub and with the Training Provider\, NHSE and HEE\, for the delivery of this training\, monitoring\, reporting and certification purposes only.
URL:https://lscthub.co.uk/events/lancashire-and-south-cumbria-practice-nurse-forum-4/
CATEGORIES:General Events
END:VEVENT
END:VCALENDAR