BEGIN:VCALENDAR
VERSION:2.0
PRODID:-//Lancashire and South Cumbria Training Hub - ECPv6.15.20//NONSGML v1.0//EN
CALSCALE:GREGORIAN
METHOD:PUBLISH
X-WR-CALNAME:Lancashire and South Cumbria Training Hub
X-ORIGINAL-URL:https://lscthub.co.uk
X-WR-CALDESC:Events for Lancashire and South Cumbria Training Hub
REFRESH-INTERVAL;VALUE=DURATION:PT1H
X-Robots-Tag:noindex
X-PUBLISHED-TTL:PT1H
BEGIN:VTIMEZONE
TZID:Europe/London
BEGIN:DAYLIGHT
TZOFFSETFROM:+0000
TZOFFSETTO:+0100
TZNAME:BST
DTSTART:20230326T010000
END:DAYLIGHT
BEGIN:STANDARD
TZOFFSETFROM:+0100
TZOFFSETTO:+0000
TZNAME:GMT
DTSTART:20231029T010000
END:STANDARD
BEGIN:DAYLIGHT
TZOFFSETFROM:+0000
TZOFFSETTO:+0100
TZNAME:BST
DTSTART:20240331T010000
END:DAYLIGHT
BEGIN:STANDARD
TZOFFSETFROM:+0100
TZOFFSETTO:+0000
TZNAME:GMT
DTSTART:20241027T010000
END:STANDARD
BEGIN:DAYLIGHT
TZOFFSETFROM:+0000
TZOFFSETTO:+0100
TZNAME:BST
DTSTART:20250330T010000
END:DAYLIGHT
BEGIN:STANDARD
TZOFFSETFROM:+0100
TZOFFSETTO:+0000
TZNAME:GMT
DTSTART:20251026T010000
END:STANDARD
END:VTIMEZONE
BEGIN:VEVENT
DTSTART;TZID=Europe/London:20240219T090000
DTEND;TZID=Europe/London:20240219T093000
DTSTAMP:20260423T002245
CREATED:20240118T124649Z
LAST-MODIFIED:20240118T124649Z
UID:40018-1708333200-1708335000@lscthub.co.uk
SUMMARY:Preceptorship Webinar
DESCRIPTION:A 30-minutes webinar hosted by Lancashire & South Cumbria Primary Care’s Legacy Mentor – Victoria Johnston \nThe webinar will include: \n\nIntroduction to the L&SC PCTH Legacy Mentor\nNational Preceptorship Programme and Principles\nInformation about the Preceptorship Programme\nPreceptorship Programme for Preceptees\nDevelopment and training of Preceptors\nQuestions and answers\n\nThis is an interactive session and you will be expected to interact. Please ensure you have a camera and microphone available to attend the meeting. \nhttps://medtribe.com/courses/preceptorship-webinar
URL:https://lscthub.co.uk/events/preceptorship-webinar-9/
CATEGORIES:General Events
END:VEVENT
BEGIN:VEVENT
DTSTART;TZID=Europe/London:20240219T120000
DTEND;TZID=Europe/London:20240219T123000
DTSTAMP:20260423T002245
CREATED:20231207T095617Z
LAST-MODIFIED:20231207T095617Z
UID:38783-1708344000-1708345800@lscthub.co.uk
SUMMARY:Non-Medical Prescribing (NMP): Education & Training Session
DESCRIPTION:Topic: Deprescribing of opioids – a case study \nPresenter(s): Dawn Strong Specialist Pharmacist SDGH and Ormskirk PCN Pharmacist \nThe ICB NMP Leads and L&SC PCTH are pleased to share with you a 12-month Education and Training programme. The programme is to support Non-Medical Prescribers in key topic/therapeutic areas and encourage peer discussions and networking. \nThe bitesize education and training sessions will be held for 30 minutes via Microsoft Teams\, every third Tuesday of the month between 12noon and 12.30pm. \nThe following link can be used to access the online sessions and a timetable of sessions programmed in for the first six months can be found (see doc) \nTo access the sessions please: https://teams.microsoft.com/l/meetup-join/19%3ameeting_ZDFiODA3ZmMtNGY5ZS00M2FiLWFmNjgtNDAwNmMxZWQwYjY1%40thread.v2/0?context=%7b%22Tid%22%3a%2237c354b2-85b0-47f5-b222-07b48d774ee3%22%2c%22Oid%22%3a%225bb2eedc-0cb1-463b-9832-ce32b7d6846a%22%7dClick here to join the meeting \nNon-Medical Prescribing Education and Training Sessions Timetable
URL:https://lscthub.co.uk/events/non-medical-prescribing-nmp-education-training-session-3/
CATEGORIES:General Events
END:VEVENT
END:VCALENDAR