BEGIN:VCALENDAR
VERSION:2.0
PRODID:-//Lancashire and South Cumbria Training Hub - ECPv6.15.20//NONSGML v1.0//EN
CALSCALE:GREGORIAN
METHOD:PUBLISH
X-WR-CALNAME:Lancashire and South Cumbria Training Hub
X-ORIGINAL-URL:https://lscthub.co.uk
X-WR-CALDESC:Events for Lancashire and South Cumbria Training Hub
REFRESH-INTERVAL;VALUE=DURATION:PT1H
X-Robots-Tag:noindex
X-PUBLISHED-TTL:PT1H
BEGIN:VTIMEZONE
TZID:Europe/London
BEGIN:DAYLIGHT
TZOFFSETFROM:+0000
TZOFFSETTO:+0100
TZNAME:BST
DTSTART:20230326T010000
END:DAYLIGHT
BEGIN:STANDARD
TZOFFSETFROM:+0100
TZOFFSETTO:+0000
TZNAME:GMT
DTSTART:20231029T010000
END:STANDARD
BEGIN:DAYLIGHT
TZOFFSETFROM:+0000
TZOFFSETTO:+0100
TZNAME:BST
DTSTART:20240331T010000
END:DAYLIGHT
BEGIN:STANDARD
TZOFFSETFROM:+0100
TZOFFSETTO:+0000
TZNAME:GMT
DTSTART:20241027T010000
END:STANDARD
BEGIN:DAYLIGHT
TZOFFSETFROM:+0000
TZOFFSETTO:+0100
TZNAME:BST
DTSTART:20250330T010000
END:DAYLIGHT
BEGIN:STANDARD
TZOFFSETFROM:+0100
TZOFFSETTO:+0000
TZNAME:GMT
DTSTART:20251026T010000
END:STANDARD
END:VTIMEZONE
BEGIN:VEVENT
DTSTART;TZID=Europe/London:20240212T090000
DTEND;TZID=Europe/London:20240212T093000
DTSTAMP:20260423T114905
CREATED:20240118T124610Z
LAST-MODIFIED:20240118T124610Z
UID:40016-1707728400-1707730200@lscthub.co.uk
SUMMARY:Preceptorship Webinar
DESCRIPTION:A 30-minutes webinar hosted by Lancashire & South Cumbria Primary Care’s Legacy Mentor – Victoria Johnston \nThe webinar will include: \n\nIntroduction to the L&SC PCTH Legacy Mentor\nNational Preceptorship Programme and Principles\nInformation about the Preceptorship Programme\nPreceptorship Programme for Preceptees\nDevelopment and training of Preceptors\nQuestions and answers\n\nThis is an interactive session and you will be expected to interact. Please ensure you have a camera and microphone available to attend the meeting. \nhttps://medtribe.com/courses/preceptorship-webinar
URL:https://lscthub.co.uk/events/preceptorship-webinar-8/
CATEGORIES:General Events
END:VEVENT
BEGIN:VEVENT
DTSTART;TZID=Europe/London:20240212T100000
DTEND;TZID=Europe/London:20240212T120000
DTSTAMP:20260423T114905
CREATED:20231217T204027Z
LAST-MODIFIED:20231217T204027Z
UID:39008-1707732000-1707739200@lscthub.co.uk
SUMMARY:Trauma-informed Leadership: A Virtual Workshop
DESCRIPTION:Time:   2 hour online workshop \nOverview: Trauma-Informed Leadership understands and appreciates the emotional scars that people may be struggling with. These might have been triggered by events of the past 3 years\, or may result from people’s wider life experiences. Approaching leadership with an understanding of trauma helps us see and treat others\, and ourselves\, with more empathy and compassion. It can also help protect against stress and burnout. \nThis virtual workshop is not about diagnosing or psycho-analysing yourself or your colleagues. It is not about being a therapist in your leadership role. It is about creating a working environment which is supportive to people who have experienced trauma – and that may include you. \nOutcomes: This workshop will offer you an understanding of what trauma is and how it can be experienced in many different ways and from very diverse perspectives\, a practical toolkit to help you prepare\, protect and care for yourself as a leader in the demanding months ahead\, a safe space to explore what compassionate leadership means in practice and practical ways to model and create psychological safety in your teams.
URL:https://lscthub.co.uk/events/trauma-informed-leadership-a-virtual-workshop/
CATEGORIES:General Events
END:VEVENT
END:VCALENDAR