BEGIN:VCALENDAR
VERSION:2.0
PRODID:-//Lancashire and South Cumbria Training Hub - ECPv6.15.20//NONSGML v1.0//EN
CALSCALE:GREGORIAN
METHOD:PUBLISH
X-ORIGINAL-URL:https://lscthub.co.uk
X-WR-CALDESC:Events for Lancashire and South Cumbria Training Hub
REFRESH-INTERVAL;VALUE=DURATION:PT1H
X-Robots-Tag:noindex
X-PUBLISHED-TTL:PT1H
BEGIN:VTIMEZONE
TZID:Europe/London
BEGIN:DAYLIGHT
TZOFFSETFROM:+0000
TZOFFSETTO:+0100
TZNAME:BST
DTSTART:20230326T010000
END:DAYLIGHT
BEGIN:STANDARD
TZOFFSETFROM:+0100
TZOFFSETTO:+0000
TZNAME:GMT
DTSTART:20231029T010000
END:STANDARD
BEGIN:DAYLIGHT
TZOFFSETFROM:+0000
TZOFFSETTO:+0100
TZNAME:BST
DTSTART:20240331T010000
END:DAYLIGHT
BEGIN:STANDARD
TZOFFSETFROM:+0100
TZOFFSETTO:+0000
TZNAME:GMT
DTSTART:20241027T010000
END:STANDARD
BEGIN:DAYLIGHT
TZOFFSETFROM:+0000
TZOFFSETTO:+0100
TZNAME:BST
DTSTART:20250330T010000
END:DAYLIGHT
BEGIN:STANDARD
TZOFFSETFROM:+0100
TZOFFSETTO:+0000
TZNAME:GMT
DTSTART:20251026T010000
END:STANDARD
END:VTIMEZONE
BEGIN:VEVENT
DTSTART;TZID=Europe/London:20240207T100000
DTEND;TZID=Europe/London:20240207T110000
DTSTAMP:20260423T002618
CREATED:20230914T154116Z
LAST-MODIFIED:20230914T154116Z
UID:36330-1707300000-1707303600@lscthub.co.uk
SUMMARY:Routine Enquiry in Domestic Abuse Bite Size Training
DESCRIPTION:
URL:https://lscthub.co.uk/events/routine-enquiry-in-domestic-abuse-bite-size-training-9/
CATEGORIES:General Events
END:VEVENT
BEGIN:VEVENT
DTSTART;TZID=Europe/London:20240207T113000
DTEND;TZID=Europe/London:20240207T120000
DTSTAMP:20260423T002618
CREATED:20240124T160339Z
LAST-MODIFIED:20240124T160339Z
UID:40384-1707305400-1707307200@lscthub.co.uk
SUMMARY:Primary Care Workforce Q & A Drop-in
DESCRIPTION:Open to all Practice and PCN staff!\nDo you have any questions about your personal/team development\, recruitment or training? Or need further information around NWRS\, workforce planning\, ARRS or other workforce related topics?\n\nYour Workforce Development Managers (WDMs) are here to help!  Bring your questions along to our informal monthly drop-in session or contact us by email:\n\n\n\nBlackburn with Darwen\, East Lancashire: Clair Ormrod – clair.ormrod@nhs.net\n\n\nLancashire Central: Fiona Gray – fiona.gray9@nhs.net\n\n\nBlackpool\, South Cumbria: Zainab Rawat – zainab.rawat1@nhs.net\n\n\nLancashire North: Laura-Jane Lloyd – laurajane.lloyd@nhs.net\n\n\n\nThis is an interactive session and you will be expected to interact. Please ensure you have a camera and microphone available to attend the meeting.
URL:https://lscthub.co.uk/events/primary-care-workforce-q-a-drop-in/
CATEGORIES:General Events
END:VEVENT
END:VCALENDAR