BEGIN:VCALENDAR
VERSION:2.0
PRODID:-//Lancashire and South Cumbria Training Hub - ECPv6.15.20//NONSGML v1.0//EN
CALSCALE:GREGORIAN
METHOD:PUBLISH
X-WR-CALNAME:Lancashire and South Cumbria Training Hub
X-ORIGINAL-URL:https://lscthub.co.uk
X-WR-CALDESC:Events for Lancashire and South Cumbria Training Hub
REFRESH-INTERVAL;VALUE=DURATION:PT1H
X-Robots-Tag:noindex
X-PUBLISHED-TTL:PT1H
BEGIN:VTIMEZONE
TZID:Europe/London
BEGIN:DAYLIGHT
TZOFFSETFROM:+0000
TZOFFSETTO:+0100
TZNAME:BST
DTSTART:20230326T010000
END:DAYLIGHT
BEGIN:STANDARD
TZOFFSETFROM:+0100
TZOFFSETTO:+0000
TZNAME:GMT
DTSTART:20231029T010000
END:STANDARD
BEGIN:DAYLIGHT
TZOFFSETFROM:+0000
TZOFFSETTO:+0100
TZNAME:BST
DTSTART:20240331T010000
END:DAYLIGHT
BEGIN:STANDARD
TZOFFSETFROM:+0100
TZOFFSETTO:+0000
TZNAME:GMT
DTSTART:20241027T010000
END:STANDARD
BEGIN:DAYLIGHT
TZOFFSETFROM:+0000
TZOFFSETTO:+0100
TZNAME:BST
DTSTART:20250330T010000
END:DAYLIGHT
BEGIN:STANDARD
TZOFFSETFROM:+0100
TZOFFSETTO:+0000
TZNAME:GMT
DTSTART:20251026T010000
END:STANDARD
END:VTIMEZONE
BEGIN:VEVENT
DTSTART;TZID=Europe/London:20240130T120000
DTEND;TZID=Europe/London:20240130T133000
DTSTAMP:20260423T033313
CREATED:20231227T180445Z
LAST-MODIFIED:20240102T170525Z
UID:39376-1706616000-1706621400@lscthub.co.uk
SUMMARY:The Quality Improvement Network for Early Career and Newly Qualified Nurses and Midwives Webinar
DESCRIPTION:From the early design work\, we have agreed the focus to be on those nurses and midwives within the first 5 years of qualification or NMC registration. \n  \nOver the last months\, we have welcomed many inspirational speakers\, supported the development of our early career professionals and began to grow our network and we continue to receive lots of very positive feedback from members on the learning and benefits of the network. \n  \nTo help us streamline our member registration process\, gain a deeper understanding of our network membership\, its diversity and representation across regions and systems\, we ask colleagues to complete Member Registration Form available on this link. QI Network for Early Career and Newly qualified Nurses & Midwives- Member Registration. \n  \nWe also accept registration via e-mail: england.qi.earlycareernursesandmidwives@nhs.net \n  \nShould you have any questions or require further information\, please feel free to reach out\, we welcome your support promoting our network to support early career nurses and midwives.
URL:https://lscthub.co.uk/events/the-quality-improvement-network-for-early-career-and-newly-qualified-nurses-and-midwives-webinar-3/
CATEGORIES:General Events
END:VEVENT
END:VCALENDAR