BEGIN:VCALENDAR
VERSION:2.0
PRODID:-//Lancashire and South Cumbria Training Hub - ECPv6.15.20//NONSGML v1.0//EN
CALSCALE:GREGORIAN
METHOD:PUBLISH
X-WR-CALNAME:Lancashire and South Cumbria Training Hub
X-ORIGINAL-URL:https://lscthub.co.uk
X-WR-CALDESC:Events for Lancashire and South Cumbria Training Hub
REFRESH-INTERVAL;VALUE=DURATION:PT1H
X-Robots-Tag:noindex
X-PUBLISHED-TTL:PT1H
BEGIN:VTIMEZONE
TZID:Europe/London
BEGIN:DAYLIGHT
TZOFFSETFROM:+0000
TZOFFSETTO:+0100
TZNAME:BST
DTSTART:20230326T010000
END:DAYLIGHT
BEGIN:STANDARD
TZOFFSETFROM:+0100
TZOFFSETTO:+0000
TZNAME:GMT
DTSTART:20231029T010000
END:STANDARD
BEGIN:DAYLIGHT
TZOFFSETFROM:+0000
TZOFFSETTO:+0100
TZNAME:BST
DTSTART:20240331T010000
END:DAYLIGHT
BEGIN:STANDARD
TZOFFSETFROM:+0100
TZOFFSETTO:+0000
TZNAME:GMT
DTSTART:20241027T010000
END:STANDARD
BEGIN:DAYLIGHT
TZOFFSETFROM:+0000
TZOFFSETTO:+0100
TZNAME:BST
DTSTART:20250330T010000
END:DAYLIGHT
BEGIN:STANDARD
TZOFFSETFROM:+0100
TZOFFSETTO:+0000
TZNAME:GMT
DTSTART:20251026T010000
END:STANDARD
END:VTIMEZONE
BEGIN:VEVENT
DTSTART;TZID=Europe/London:20240129T090000
DTEND;TZID=Europe/London:20240129T093000
DTSTAMP:20260423T033145
CREATED:20240118T124444Z
LAST-MODIFIED:20240118T124444Z
UID:40012-1706518800-1706520600@lscthub.co.uk
SUMMARY:Preceptorship Webinar
DESCRIPTION:A 30-minutes webinar hosted by Lancashire & South Cumbria Primary Care’s Legacy Mentor – Victoria Johnston \nThe webinar will include: \n\nIntroduction to the L&SC PCTH Legacy Mentor\nNational Preceptorship Programme and Principles\nInformation about the Preceptorship Programme\nPreceptorship Programme for Preceptees\nDevelopment and training of Preceptors\nQuestions and answers\n\nThis is an interactive session and you will be expected to interact. Please ensure you have a camera and microphone available to attend the meeting. \nhttps://medtribe.com/courses/preceptorship-webinar
URL:https://lscthub.co.uk/events/preceptorship-webinar-6/
CATEGORIES:General Events
END:VEVENT
BEGIN:VEVENT
DTSTART;TZID=Europe/London:20240129T123000
DTEND;TZID=Europe/London:20240129T150000
DTSTAMP:20260423T033145
CREATED:20231023T155638Z
LAST-MODIFIED:20231023T155638Z
UID:37525-1706531400-1706540400@lscthub.co.uk
SUMMARY:Nurses Clinical Supervision Training
DESCRIPTION:This training event will enable you to reflect on and further develop your knowledge and skills necessary to your role as a clinical supervisor.
URL:https://lscthub.co.uk/events/nurses-clinical-supervision-training-8/
CATEGORIES:General Events
END:VEVENT
BEGIN:VEVENT
DTSTART;TZID=Europe/London:20240129T123000
DTEND;TZID=Europe/London:20240129T150000
DTSTAMP:20260423T033145
CREATED:20231106T180207Z
LAST-MODIFIED:20231106T180207Z
UID:37925-1706531400-1706540400@lscthub.co.uk
SUMMARY:Nurses Clinical Supervision Training
DESCRIPTION:This training event will enable you to reflect on and further develop your knowledge and skills necessary to your role as a clinical supervisor.
URL:https://lscthub.co.uk/events/nurses-clinical-supervision-training-9/
CATEGORIES:General Events
END:VEVENT
END:VCALENDAR