BEGIN:VCALENDAR
VERSION:2.0
PRODID:-//Lancashire and South Cumbria Training Hub - ECPv6.15.20//NONSGML v1.0//EN
CALSCALE:GREGORIAN
METHOD:PUBLISH
X-ORIGINAL-URL:https://lscthub.co.uk
X-WR-CALDESC:Events for Lancashire and South Cumbria Training Hub
REFRESH-INTERVAL;VALUE=DURATION:PT1H
X-Robots-Tag:noindex
X-PUBLISHED-TTL:PT1H
BEGIN:VTIMEZONE
TZID:Europe/London
BEGIN:DAYLIGHT
TZOFFSETFROM:+0000
TZOFFSETTO:+0100
TZNAME:BST
DTSTART:20230326T010000
END:DAYLIGHT
BEGIN:STANDARD
TZOFFSETFROM:+0100
TZOFFSETTO:+0000
TZNAME:GMT
DTSTART:20231029T010000
END:STANDARD
BEGIN:DAYLIGHT
TZOFFSETFROM:+0000
TZOFFSETTO:+0100
TZNAME:BST
DTSTART:20240331T010000
END:DAYLIGHT
BEGIN:STANDARD
TZOFFSETFROM:+0100
TZOFFSETTO:+0000
TZNAME:GMT
DTSTART:20241027T010000
END:STANDARD
BEGIN:DAYLIGHT
TZOFFSETFROM:+0000
TZOFFSETTO:+0100
TZNAME:BST
DTSTART:20250330T010000
END:DAYLIGHT
BEGIN:STANDARD
TZOFFSETFROM:+0100
TZOFFSETTO:+0000
TZNAME:GMT
DTSTART:20251026T010000
END:STANDARD
END:VTIMEZONE
BEGIN:VEVENT
DTSTART;TZID=Europe/London:20240123T093000
DTEND;TZID=Europe/London:20240123T123000
DTSTAMP:20260423T002620
CREATED:20231217T203855Z
LAST-MODIFIED:20231217T203855Z
UID:39006-1706002200-1706013000@lscthub.co.uk
SUMMARY:Virtual Mentoring Development Programme
DESCRIPTION:This programme takes place over three dates\, you must be available to attend all dates\n\nTuesday 23rd January 2024\nWednesday 24th January 2024\nThursday 25th January 2024\n\nWhat is the programme and who is it for?\nOur Mentor Development Programme provides participants with the knowledge and skills to begin mentoring and to join the NHS NWLA mentoring community. \nDelivered virtually\, this programme will provide you with the knowledge and skills to be an effective mentor and utilise the NHS NWLA Mentoring Hub. These virtual sessions are a mixture of group work\, discussions\, practical activities as well as space for individual reflections and breaks to main energy. There is some pre-programme reading and activities to prepare you. \nThe Mentor Development Programme covers the following: \n\nIntroduce the NHS North West Leadership Academy (NHS NWLA) and Mentoring Scheme\nExplore what mentoring is and the difference between coaching and mentoring\nConsider the role of context and inclusion\nExplore and apply the skills involved in mentoring\nProvide space for you to think about and understand your existing styles\nInspire to take a developmental approach to conversations\nShare learning\, experience\, tools and top tips\n\nThe sessions will be interactive\, with a mixture of group work\, small discussion groups\, practical activities\, as well as space for individual reflection and breaks for maintaining energy. There will be some pre-programme reading and activities in readiness for coming to the sessions and these will be shared prior to the start of the first date. All relevant access links and information for the session will be shared in the preceding week leading up to the first date. \nHow do I book?\nTo book your place on a Mentor Development Programme date please register via the NHS NWLA Mentoring Hub.\n\nGo to the online NHS NWLA Mentoring Hub\nClick to ‘Register as a Mentor’\nComplete your mentor profile (you may wish to pay particular attention to the ‘Mentoring Agreement’ so you understand what is expected of both the mentor and mentee role).\nSelect your programme dates from the dropdown days available and you won’t be able to log in again until after your session. If suitable dates are not currently available select ‘express interest’ and we will update you with new dates.\nYou will receive an email confirming your registration and your even booking. If you need to change your Mentor Development Programme\, email the team.\nThere is some pre-course work which will be sent to you by email approximately two weeks prior to the development session.\nYou won’t be able to log in to the system until you attend the training programme and afterwards you’ll receive login details for the online NHS NWLA Mentoring Hub and be required to fully update your profile.\n\nShould you have any queries\, please email nwla.coachingandmentoring@nhs.net
URL:https://lscthub.co.uk/events/virtual-mentoring-development-programme/
CATEGORIES:General Events
END:VEVENT
BEGIN:VEVENT
DTSTART;TZID=Europe/London:20240123T100000
DTEND;TZID=Europe/London:20240123T103000
DTSTAMP:20260423T002620
CREATED:20231115T115606Z
LAST-MODIFIED:20231115T115606Z
UID:38270-1706004000-1706005800@lscthub.co.uk
SUMMARY:Preceptorship Workshop
DESCRIPTION:The workshop offers: \n\nan in-depth look at the national preceptorship programme\nan explanation of the roles\, responsibilities and skills of the preceptor\nguidance on how preceptors can support preceptees in practice\nan explanation on how to complete the required documentation\nthe development of peer preceptorship support networks\n\nPlaces are limited\, and so if you have booked a place on this event\, please ensure you attend. \nPreceptorship Workshops Flyer \nIf you are no longer able to attend\, please cancel your place on Eventbrite. If you are struggling with booking or cancelling a place\, please contact us on mbpcc.lscthub@nhs.net
URL:https://lscthub.co.uk/events/preceptorship-workshop-5/
CATEGORIES:General Events
END:VEVENT
BEGIN:VEVENT
DTSTART;TZID=Europe/London:20240123T140000
DTEND;TZID=Europe/London:20240123T150000
DTSTAMP:20260423T002620
CREATED:20230914T154030Z
LAST-MODIFIED:20230914T154030Z
UID:36326-1706018400-1706022000@lscthub.co.uk
SUMMARY:Routine Enquiry in Domestic Abuse Bite Size Training
DESCRIPTION:
URL:https://lscthub.co.uk/events/routine-enquiry-in-domestic-abuse-bite-size-training-8/
CATEGORIES:General Events
END:VEVENT
END:VCALENDAR