BEGIN:VCALENDAR
VERSION:2.0
PRODID:-//Lancashire and South Cumbria Training Hub - ECPv6.15.20//NONSGML v1.0//EN
CALSCALE:GREGORIAN
METHOD:PUBLISH
X-WR-CALNAME:Lancashire and South Cumbria Training Hub
X-ORIGINAL-URL:https://lscthub.co.uk
X-WR-CALDESC:Events for Lancashire and South Cumbria Training Hub
REFRESH-INTERVAL;VALUE=DURATION:PT1H
X-Robots-Tag:noindex
X-PUBLISHED-TTL:PT1H
BEGIN:VTIMEZONE
TZID:Europe/London
BEGIN:DAYLIGHT
TZOFFSETFROM:+0000
TZOFFSETTO:+0100
TZNAME:BST
DTSTART:20230326T010000
END:DAYLIGHT
BEGIN:STANDARD
TZOFFSETFROM:+0100
TZOFFSETTO:+0000
TZNAME:GMT
DTSTART:20231029T010000
END:STANDARD
BEGIN:DAYLIGHT
TZOFFSETFROM:+0000
TZOFFSETTO:+0100
TZNAME:BST
DTSTART:20240331T010000
END:DAYLIGHT
BEGIN:STANDARD
TZOFFSETFROM:+0100
TZOFFSETTO:+0000
TZNAME:GMT
DTSTART:20241027T010000
END:STANDARD
BEGIN:DAYLIGHT
TZOFFSETFROM:+0000
TZOFFSETTO:+0100
TZNAME:BST
DTSTART:20250330T010000
END:DAYLIGHT
BEGIN:STANDARD
TZOFFSETFROM:+0100
TZOFFSETTO:+0000
TZNAME:GMT
DTSTART:20251026T010000
END:STANDARD
END:VTIMEZONE
BEGIN:VEVENT
DTSTART;TZID=Europe/London:20240111T100000
DTEND;TZID=Europe/London:20240111T110000
DTSTAMP:20260423T033618
CREATED:20230914T153952Z
LAST-MODIFIED:20230914T153952Z
UID:36324-1704967200-1704970800@lscthub.co.uk
SUMMARY:Routine Enquiry in Domestic Abuse Bite Size Training
DESCRIPTION:
URL:https://lscthub.co.uk/events/routine-enquiry-in-domestic-abuse-bite-size-training-7/
CATEGORIES:General Events
END:VEVENT
BEGIN:VEVENT
DTSTART;TZID=Europe/London:20240111T120000
DTEND;TZID=Europe/London:20240111T130000
DTSTAMP:20260423T033618
CREATED:20231023T085220Z
LAST-MODIFIED:20231023T085220Z
UID:37426-1704974400-1704978000@lscthub.co.uk
SUMMARY:Mental Health Awareness Training: Common mental disorders (clinical staff)
DESCRIPTION:Training for staff working in primary care: Promoting common mental disorder \nLearning outcomes \nBy the end of this training the participant will: \n\nKnow which conditions are defined as common mental disorder\nBe able to screen for depression and anxiety\nUnderstand how to use tools designed to assess the severity of depression and anxiety\nKnow how to assess suicide risk\nBe aware of the treatments available for common mental disorder\nUnderstand which agencies offer treatment for common mental disorder
URL:https://lscthub.co.uk/events/mental-health-awareness-training-common-mental-disorders-clinical-staff/
CATEGORIES:General Events
END:VEVENT
END:VCALENDAR