BEGIN:VCALENDAR
VERSION:2.0
PRODID:-//Lancashire and South Cumbria Training Hub - ECPv6.15.20//NONSGML v1.0//EN
CALSCALE:GREGORIAN
METHOD:PUBLISH
X-ORIGINAL-URL:https://lscthub.co.uk
X-WR-CALDESC:Events for Lancashire and South Cumbria Training Hub
REFRESH-INTERVAL;VALUE=DURATION:PT1H
X-Robots-Tag:noindex
X-PUBLISHED-TTL:PT1H
BEGIN:VTIMEZONE
TZID:Europe/London
BEGIN:DAYLIGHT
TZOFFSETFROM:+0000
TZOFFSETTO:+0100
TZNAME:BST
DTSTART:20220327T010000
END:DAYLIGHT
BEGIN:STANDARD
TZOFFSETFROM:+0100
TZOFFSETTO:+0000
TZNAME:GMT
DTSTART:20221030T010000
END:STANDARD
BEGIN:DAYLIGHT
TZOFFSETFROM:+0000
TZOFFSETTO:+0100
TZNAME:BST
DTSTART:20230326T010000
END:DAYLIGHT
BEGIN:STANDARD
TZOFFSETFROM:+0100
TZOFFSETTO:+0000
TZNAME:GMT
DTSTART:20231029T010000
END:STANDARD
BEGIN:DAYLIGHT
TZOFFSETFROM:+0000
TZOFFSETTO:+0100
TZNAME:BST
DTSTART:20240331T010000
END:DAYLIGHT
BEGIN:STANDARD
TZOFFSETFROM:+0100
TZOFFSETTO:+0000
TZNAME:GMT
DTSTART:20241027T010000
END:STANDARD
END:VTIMEZONE
BEGIN:VEVENT
DTSTART;TZID=Europe/London:20231228T130000
DTEND;TZID=Europe/London:20231228T140000
DTSTAMP:20260423T015816
CREATED:20231124T182003Z
LAST-MODIFIED:20231124T182003Z
UID:38629-1703768400-1703772000@lscthub.co.uk
SUMMARY:Making A Difference: Become a Peer Leader
DESCRIPTION:Thank you for registering for the Making A Difference session. We look forward to seeing you at this event on Tuesday 28th November 1:00-2:00pm. \nThis is event will not be recorded so we encourage everyone to join ready and on time.\nPlease refrain from sharing the teams link\, please direct people to register via this registration form. \nIf you have any queries or the joining link does not arrive within 72 hours of registering please contact – england.pldp@nhs.net \nPlease note we will be closing this booking option at 12.00pm on the 28th November- If you are unable to attend and  would still like the opportunity to access the slides after the event\, please do register via the below form.
URL:https://lscthub.co.uk/events/making-a-difference-become-a-peer-leader-2/
CATEGORIES:General Events
END:VEVENT
END:VCALENDAR